Uber Exif Photo
Make : NIKON CORPORATION
Camera Model Name : NIKON D5000
Software : Ver.1.00
Modify Date : 2011:06:16 00:54:31
Exposure Time : 1/160
F Number : 8.0
Exposure Program : Manual
ISO : 320
Date/Time Original : 2011:06:13 19:02:50
Create Date : 2011:06:13 19:02:50
Shutter Speed Value : 1/160
Aperture Value : 8.0
Exposure Compensation : 0
Max Aperture Value : 5.7
Subject Distance : 1.41 m
Metering Mode : Multi-segment
Light Source : Unknown
Focal Length : 55.0 mm
User Comment : Abdul Basit [abdulbasit17@gmail.com]
Sensing Method : One-chip color area
Scene Type : Directly photographed
CFA Pattern : [Green,Blue][Red,Green]
Custom Rendered : Normal
Exposure Mode : Manual
White Balance : Auto
Digital Zoom Ratio : 1
Focal Length In 35mm Format : 82 mm
Scene Capture Type : Standard
Gain Control : None
Contrast : Normal
Saturation : Normal
Sharpness : Hard
Subject Distance Range : Unknown
Profile Description : sRGB IEC61966-2.1
Date/Time Digitized : 2011:06:13 19:02:50.50+06:00
Exif Image Width : 1903
Exif Image Height : 2489
Creator Tool : Adobe Photoshop Lightroom
Serial Number : 2178359
Lens Info : 18-55mm f/3.5-5.6
Lens : 18.0-55.0 mm f/3.5-5.6
Image Number : 10532
Version : 6.1
Process Version : 5.7
Incremental Temperature : 0
Incremental Tint : -23
Exposure : +1.08
Shadows : 14
Brightness : +3
Luminance Smoothing : 0
Color Noise Reduction : 0
Chromatic Aberration R : 0
Chromatic Aberration B : 0
Vignette Amount : -100
Vignette Midpoint : 16
Shadow Tint : 0
Red Hue : 0
Red Saturation : 0
Green Hue : 0
Green Saturation : 0
Blue Hue : 0
Blue Saturation : 0
Fill Light : 15
Vibrance : +25
Highlight Recovery : 25
Clarity : +65
Defringe : 0
Hue Adjustment Red : 0
Hue Adjustment Orange : 0
Hue Adjustment Yellow : 0
Hue Adjustment Green : 0
Hue Adjustment Aqua : 0
Hue Adjustment Blue : 0
Hue Adjustment Purple : 0
Hue Adjustment Magenta : 0
Saturation Adjustment Red : +25
Saturation Adjustment Orange : 0
Saturation Adjustment Yellow : 0
Saturation Adjustment Green : 0
Saturation Adjustment Aqua : +75
Saturation Adjustment Blue : +55
Saturation Adjustment Purple : 0
Saturation Adjustment Magenta : 0
Luminance Adjustment Red : 0
Luminance Adjustment Orange : 0
Luminance Adjustment Yellow : 0
Luminance Adjustment Green : 0
Luminance Adjustment Aqua : 0
Luminance Adjustment Blue : 0
Luminance Adjustment Purple : 0
Luminance Adjustment Magenta : 0
Split Toning Shadow Hue : 227
Split Toning Shadow Saturation : 75
Split Toning Highlight Hue : 47
Split Toning Highlight Saturation : 75
Split Toning Balance : 0
Parametric Shadows : -60
Parametric Darks : +10
Parametric Lights : -10
Parametric Highlights : +35
Parametric Shadow Split : 25
Parametric Midtone Split : 50
Parametric Highlight Split : 75
Sharpen Radius : +1.0
Sharpen Detail : 25
Sharpen Edge Masking : 0
Post Crop Vignette Amount : 0
Grain Amount : 0
Lens Profile Enable : 0
Lens Manual Distortion Amount : 0
Perspective Vertical : 0
Perspective Horizontal : 0
Perspective Rotate : 0.0
Perspective Scale : 100
Convert To Grayscale : False
Tone Curve Name : Medium Contrast
Camera Profile : ACR 3.3
Lens Profile Setup : LensDefaults
Has Settings : True
Crop Top : 0
Crop Left : 0.052174
Crop Bottom : 0.89083
Crop Right : 0.826087
Crop Angle : 0
Crop Constrain To Warp : 0
Crop Width : 2489
Crop Height : 1903
Crop Unit : pixels
Has Crop : True
Already Applied : True
Flash Fired : False
Flash Return : No return detection
Flash Mode : Unknown
Flash Function : False
Flash Red Eye Mode : False
Tone Curve : 0, 0, 32, 22, 64, 56, 128, 128, 192, 196, 255, 255
Image Width : 229
Image Height : 300
Bits Per Sample : 8
Color Components : 3
Aperture : 8.0
Image Size : 229x300
Megapixels : 0.069
Scale Factor To 35 mm Equivalent : 1.5
Shutter Speed : 1/160
Create Date : 2011:06:13 19:02:50.50
Date/Time Original : 2011:06:13 19:02:50.50
Flash : No Flash
Circle Of Confusion : 0.020 mm
Depth Of Field : 0.20 m (1.32 - 1.52 m)
Field Of View : 24.8 deg
Focal Length : 55.0 mm (35 mm equivalent: 82.0 mm)
Hyperfocal Distance : 18.76 m
Light Value : 11.6
Lens ID : AF-S DX VR Zoom-Nikkor 18-55mm f/3.5-5.6G