Uber Exif Photo
Make : NIKON CORPORATION
Camera Model Name : NIKON D5000
Software : Ver.1.00
Modify Date : 2011:02:14 03:03:04
Exposure Time : 1/160
F Number : 6.3
Exposure Program : Program AE
ISO : 640
Date/Time Original : 2011:02:13 11:52:53
Create Date : 2011:02:13 11:52:53
Shutter Speed Value : 1/160
Aperture Value : 6.3
Exposure Compensation : 0
Max Aperture Value : 4.8
Subject Distance : 1.12 m
Metering Mode : Multi-segment
Light Source : Unknown
Focal Length : 32.0 mm
User Comment : Abdul Basit [abdulbasit17@gmail.com]
Sensing Method : One-chip color area
Scene Type : Directly photographed
CFA Pattern : [Green,Blue][Red,Green]
Custom Rendered : Normal
Exposure Mode : Auto
White Balance : Auto
Digital Zoom Ratio : 1
Focal Length In 35mm Format : 48 mm
Scene Capture Type : Standard
Gain Control : Low gain up
Contrast : Normal
Saturation : Normal
Sharpness : Hard
Subject Distance Range : Unknown
Profile Description : sRGB IEC61966-2.1
Date/Time Digitized : 2011:02:13 11:52:53.00+06:00
Exif Image Width : 2475
Exif Image Height : 1791
Creator Tool : Adobe Photoshop Lightroom
Serial Number : 2178359
Lens Info : 18-55mm f/3.5-5.6
Lens : 18.0-55.0 mm f/3.5-5.6
Image Number : 8379
Version : 6.1
Process Version : 5.7
Incremental Temperature : 0
Incremental Tint : 0
Exposure : +0.38
Shadows : 9
Brightness : +9
Luminance Smoothing : 0
Color Noise Reduction : 25
Chromatic Aberration R : 0
Chromatic Aberration B : 0
Vignette Amount : -64
Vignette Midpoint : 15
Shadow Tint : 0
Red Hue : 0
Red Saturation : 0
Green Hue : 0
Green Saturation : 0
Blue Hue : 0
Blue Saturation : 0
Fill Light : 5
Vibrance : 0
Highlight Recovery : 35
Clarity : 0
Defringe : 0
Hue Adjustment Red : 0
Hue Adjustment Orange : 0
Hue Adjustment Yellow : 0
Hue Adjustment Green : 0
Hue Adjustment Aqua : 0
Hue Adjustment Blue : 0
Hue Adjustment Purple : 0
Hue Adjustment Magenta : 0
Saturation Adjustment Red : 0
Saturation Adjustment Orange : 0
Saturation Adjustment Yellow : 0
Saturation Adjustment Green : 0
Saturation Adjustment Aqua : 0
Saturation Adjustment Blue : 0
Saturation Adjustment Purple : 0
Saturation Adjustment Magenta : 0
Luminance Adjustment Red : 0
Luminance Adjustment Orange : 0
Luminance Adjustment Yellow : 0
Luminance Adjustment Green : 0
Luminance Adjustment Aqua : 0
Luminance Adjustment Blue : 0
Luminance Adjustment Purple : 0
Luminance Adjustment Magenta : 0
Split Toning Shadow Hue : 227
Split Toning Shadow Saturation : 58
Split Toning Highlight Hue : 107
Split Toning Highlight Saturation : 11
Split Toning Balance : 0
Parametric Shadows : -48
Parametric Darks : -38
Parametric Lights : +22
Parametric Highlights : 0
Parametric Shadow Split : 25
Parametric Midtone Split : 50
Parametric Highlight Split : 75
Sharpen Radius : +1.0
Sharpen Detail : 25
Sharpen Edge Masking : 0
Post Crop Vignette Amount : 0
Grain Amount : 0
Color Noise Reduction Detail : 50
Lens Profile Enable : 0
Lens Manual Distortion Amount : 0
Perspective Vertical : 0
Perspective Horizontal : 0
Perspective Rotate : 0.0
Perspective Scale : 100
Convert To Grayscale : False
Tone Curve Name : Medium Contrast
Camera Profile : Adobe Standard
Lens Profile Setup : LensDefaults
Has Settings : True
Crop Top : 0.098981
Crop Left : 0.086275
Crop Bottom : 0.941288
Crop Right : 0.853959
Crop Angle : 0.198
Crop Constrain To Warp : 0
Crop Width : 2475
Crop Height : 1791
Crop Unit : pixels
Has Crop : True
Already Applied : True
Flash Fired : False
Flash Return : No return detection
Flash Mode : Unknown
Flash Function : False
Flash Red Eye Mode : False
Tone Curve : 0, 0, 32, 22, 64, 56, 128, 128, 192, 196, 255, 255
Gradient Based Corr What : Correction
Gradient Based Corr Amount : 1.000000
Gradient Based Corr Active : true
Gradient Based Corr Exposure : -0.225000
Gradient Based Corr Saturation : 0.000000
Gradient Based Corr Contrast : 0.000000
Gradient Based Corr Clarity : 0.000000
Gradient Based Corr Sharpness : 0.000000
Gradient Based Corr Brightness : 0.000000
Gradient Based Corr Toning Hue : 27.000000
Gradient Based Corr Toning Saturation : 0.000000
Gradient Based Corr Mask What : Mask/Gradient
Gradient Based Corr Mask Value : 1.000000
Gradient Based Corr Mask Zero X : 0.488889
Gradient Based Corr Mask Zero Y : 0.493651
Gradient Based Corr Mask Full X : 0.491005
Gradient Based Corr Mask Full Y : -0.004762
Image Width : 300
Image Height : 217
Bits Per Sample : 8
Color Components : 3
Aperture : 6.3
Image Size : 300x217
Megapixels : 0.065
Scale Factor To 35 mm Equivalent : 1.5
Shutter Speed : 1/160
Create Date : 2011:02:13 11:52:53.00
Date/Time Original : 2011:02:13 11:52:53.00
Flash : No Flash
Circle Of Confusion : 0.020 mm
Depth Of Field : 0.31 m (0.99 - 1.29 m)
Field Of View : 41.1 deg
Focal Length : 32.0 mm (35 mm equivalent: 48.0 mm)
Hyperfocal Distance : 8.11 m
Light Value : 10.0
Lens ID : AF-S DX VR Zoom-Nikkor 18-55mm f/3.5-5.6G