Uber Exif Photo
Make : NIKON CORPORATION
Camera Model Name : NIKON D5000
Software : Ver.1.00
Modify Date : 2011:02:14 03:09:43
Exposure Time : 1/160
F Number : 6.3
Exposure Program : Program AE
ISO : 500
Date/Time Original : 2011:02:13 13:34:37
Create Date : 2011:02:13 13:34:37
Shutter Speed Value : 1/160
Aperture Value : 6.3
Exposure Compensation : 0
Max Aperture Value : 4.9
Subject Distance : 0.94 m
Metering Mode : Multi-segment
Light Source : Unknown
Focal Length : 34.0 mm
User Comment : Abdul Basit [abdulbasit17@gmail.com]
Sensing Method : One-chip color area
Scene Type : Directly photographed
CFA Pattern : [Green,Blue][Red,Green]
Custom Rendered : Normal
Exposure Mode : Auto
White Balance : Auto
Digital Zoom Ratio : 1
Focal Length In 35mm Format : 51 mm
Scene Capture Type : Standard
Gain Control : Low gain up
Contrast : Normal
Saturation : Normal
Sharpness : Hard
Subject Distance Range : Unknown
Profile Description : sRGB IEC61966-2.1
Date/Time Digitized : 2011:02:13 13:34:37.50+06:00
Exif Image Width : 2529
Exif Image Height : 1542
Creator Tool : Adobe Photoshop Lightroom
Serial Number : 2178359
Lens Info : 18-55mm f/3.5-5.6
Lens : 18.0-55.0 mm f/3.5-5.6
Image Number : 8469
Version : 6.1
Process Version : 5.7
Incremental Temperature : -5
Incremental Tint : -44
Exposure : +0.23
Shadows : 13
Brightness : +19
Luminance Smoothing : 27
Color Noise Reduction : 1
Chromatic Aberration R : 0
Chromatic Aberration B : 0
Vignette Amount : +84
Vignette Midpoint : 17
Shadow Tint : -77
Red Hue : +7
Red Saturation : -55
Green Hue : -75
Green Saturation : +92
Blue Hue : -98
Blue Saturation : -5
Fill Light : 14
Vibrance : +7
Highlight Recovery : 50
Clarity : +100
Defringe : 0
Hue Adjustment Red : -12
Hue Adjustment Orange : -39
Hue Adjustment Yellow : -60
Hue Adjustment Green : 0
Hue Adjustment Aqua : -43
Hue Adjustment Blue : +25
Hue Adjustment Purple : +1
Hue Adjustment Magenta : 0
Saturation Adjustment Red : -12
Saturation Adjustment Orange : -43
Saturation Adjustment Yellow : -49
Saturation Adjustment Green : -45
Saturation Adjustment Aqua : +38
Saturation Adjustment Blue : +39
Saturation Adjustment Purple : -28
Saturation Adjustment Magenta : 0
Luminance Adjustment Red : 0
Luminance Adjustment Orange : 0
Luminance Adjustment Yellow : 0
Luminance Adjustment Green : 0
Luminance Adjustment Aqua : 0
Luminance Adjustment Blue : 0
Luminance Adjustment Purple : 0
Luminance Adjustment Magenta : 0
Split Toning Shadow Hue : 247
Split Toning Shadow Saturation : 36
Split Toning Highlight Hue : 63
Split Toning Highlight Saturation : 48
Split Toning Balance : +38
Parametric Shadows : +36
Parametric Darks : -13
Parametric Lights : 0
Parametric Highlights : -48
Parametric Shadow Split : 25
Parametric Midtone Split : 50
Parametric Highlight Split : 75
Sharpen Radius : +1.0
Sharpen Detail : 25
Sharpen Edge Masking : 0
Post Crop Vignette Amount : -15
Post Crop Vignette Midpoint : 50
Post Crop Vignette Feather : 50
Post Crop Vignette Roundness : 0
Post Crop Vignette Style : Highlight Priority
Post Crop Vignette Highlight Contrast : 0
Grain Amount : 0
Luminance Noise Reduction Detail : 50
Color Noise Reduction Detail : 50
Luminance Noise Reduction Contrast : 0
Lens Profile Enable : 0
Lens Manual Distortion Amount : 0
Perspective Vertical : 0
Perspective Horizontal : 0
Perspective Rotate : 0.0
Perspective Scale : 100
Convert To Grayscale : False
Tone Curve Name : Linear
Camera Profile : Embedded
Lens Profile Setup : LensDefaults
Has Settings : True
Crop Top : 0.086957
Crop Left : 0.165544
Crop Bottom : 0.808696
Crop Right : 0.951877
Crop Angle : 0
Crop Constrain To Warp : 0
Crop Width : 2529
Crop Height : 1542
Crop Unit : pixels
Has Crop : True
Already Applied : True
Flash Fired : False
Flash Return : No return detection
Flash Mode : Unknown
Flash Function : False
Flash Red Eye Mode : False
Tone Curve : 0, 0, 255, 255
Image Width : 300
Image Height : 183
Bits Per Sample : 8
Color Components : 3
Aperture : 6.3
Image Size : 300x183
Megapixels : 0.055
Scale Factor To 35 mm Equivalent : 1.5
Shutter Speed : 1/160
Create Date : 2011:02:13 13:34:37.50
Date/Time Original : 2011:02:13 13:34:37.50
Flash : No Flash
Circle Of Confusion : 0.020 mm
Depth Of Field : 0.19 m (0.86 - 1.04 m)
Field Of View : 38.9 deg
Focal Length : 34.0 mm (35 mm equivalent: 51.0 mm)
Hyperfocal Distance : 9.16 m
Light Value : 10.3
Lens ID : AF-S DX VR Zoom-Nikkor 18-55mm f/3.5-5.6G