Uber Exif Photo
Make : NIKON CORPORATION
Camera Model Name : NIKON D5000
Software : Ver.1.00
Modify Date : 2011:01:03 02:51:33
Exposure Time : 1/80
F Number : 4.5
Exposure Program : Program AE
ISO : 320
Date/Time Original : 2010:12:30 10:02:54
Create Date : 2010:12:30 10:02:54
Shutter Speed Value : 1/80
Aperture Value : 4.5
Exposure Compensation : 0
Max Aperture Value : 4.0
Subject Distance : 1.12 m
Metering Mode : Multi-segment
Light Source : Unknown
Focal Length : 22.0 mm
User Comment : Abdul Basit [abdulbasit17@gmail.com]
Sensing Method : One-chip color area
Scene Type : Directly photographed
CFA Pattern : [Green,Blue][Red,Green]
Custom Rendered : Normal
Exposure Mode : Auto
White Balance : Auto
Digital Zoom Ratio : 1
Focal Length In 35mm Format : 33 mm
Scene Capture Type : Standard
Gain Control : None
Contrast : Normal
Saturation : Normal
Sharpness : Hard
Subject Distance Range : Unknown
Profile Description : sRGB IEC61966-2.1
Date/Time Digitized : 2010:12:30 10:02:54.50+06:00
Exif Image Width : 2136
Exif Image Height : 3216
Creator Tool : Adobe Photoshop Lightroom
Serial Number : 2178359
Lens Info : 18-55mm f/3.5-5.6
Lens : 18.0-55.0 mm f/3.5-5.6
Image Number : 7738
Version : 6.1
Process Version : 5.7
Incremental Temperature : -29
Incremental Tint : -65
Exposure : +1.15
Shadows : 9
Brightness : +2
Luminance Smoothing : 0
Color Noise Reduction : 25
Chromatic Aberration R : 0
Chromatic Aberration B : 0
Vignette Amount : 0
Shadow Tint : -4
Red Hue : +100
Red Saturation : -100
Green Hue : +100
Green Saturation : +100
Blue Hue : -60
Blue Saturation : +3
Fill Light : 16
Vibrance : +38
Highlight Recovery : 0
Clarity : 0
Defringe : 0
Hue Adjustment Red : 0
Hue Adjustment Orange : 0
Hue Adjustment Yellow : 0
Hue Adjustment Green : 0
Hue Adjustment Aqua : 0
Hue Adjustment Blue : 0
Hue Adjustment Purple : 0
Hue Adjustment Magenta : 0
Saturation Adjustment Red : 0
Saturation Adjustment Orange : 0
Saturation Adjustment Yellow : 0
Saturation Adjustment Green : 0
Saturation Adjustment Aqua : 0
Saturation Adjustment Blue : +83
Saturation Adjustment Purple : +42
Saturation Adjustment Magenta : 0
Luminance Adjustment Red : 0
Luminance Adjustment Orange : 0
Luminance Adjustment Yellow : 0
Luminance Adjustment Green : 0
Luminance Adjustment Aqua : 0
Luminance Adjustment Blue : 0
Luminance Adjustment Purple : 0
Luminance Adjustment Magenta : 0
Split Toning Shadow Hue : 0
Split Toning Shadow Saturation : 0
Split Toning Highlight Hue : 0
Split Toning Highlight Saturation : 0
Split Toning Balance : 0
Parametric Shadows : -14
Parametric Darks : -3
Parametric Lights : 0
Parametric Highlights : 0
Parametric Shadow Split : 25
Parametric Midtone Split : 50
Parametric Highlight Split : 75
Sharpen Radius : +1.0
Sharpen Detail : 25
Sharpen Edge Masking : 0
Post Crop Vignette Amount : -35
Post Crop Vignette Midpoint : 50
Post Crop Vignette Feather : 50
Post Crop Vignette Roundness : 0
Post Crop Vignette Style : Highlight Priority
Post Crop Vignette Highlight Contrast : 0
Grain Amount : 0
Color Noise Reduction Detail : 50
Lens Profile Enable : 0
Lens Manual Distortion Amount : 0
Perspective Vertical : 0
Perspective Horizontal : 0
Perspective Rotate : 0.0
Perspective Scale : 100
Convert To Grayscale : False
Tone Curve Name : Linear
Camera Profile : Embedded
Lens Profile Setup : LensDefaults
Has Settings : True
Has Crop : False
Already Applied : True
Flash Fired : False
Flash Return : No return detection
Flash Mode : Unknown
Flash Function : False
Flash Red Eye Mode : False
Tone Curve : 0, 0, 255, 255
Image Width : 199
Image Height : 300
Bits Per Sample : 8
Color Components : 3
Aperture : 4.5
Image Size : 199x300
Megapixels : 0.060
Scale Factor To 35 mm Equivalent : 1.5
Shutter Speed : 1/80
Create Date : 2010:12:30 10:02:54.50
Date/Time Original : 2010:12:30 10:02:54.50
Flash : No Flash
Circle Of Confusion : 0.020 mm
Depth Of Field : 0.48 m (0.93 - 1.41 m)
Field Of View : 57.2 deg
Focal Length : 22.0 mm (35 mm equivalent: 33.0 mm)
Hyperfocal Distance : 5.37 m
Light Value : 9.0
Lens ID : AF-S DX VR Zoom-Nikkor 18-55mm f/3.5-5.6G