Uber Exif Photo
Make : NIKON CORPORATION
Camera Model Name : NIKON D5000
Software : Ver.1.00
Modify Date : 2010:11:09 02:37:40
Exposure Time : 1/13
F Number : 4.5
Exposure Program : Program AE
ISO : 800
Date/Time Original : 2010:10:28 13:01:32
Create Date : 2010:10:28 13:01:32
Shutter Speed Value : 1/13
Aperture Value : 4.5
Exposure Compensation : 0
Max Aperture Value : 4.6
Subject Distance : 0.84 m
Metering Mode : Multi-segment
Light Source : Unknown
Focal Length : 30.0 mm
User Comment : Abdul Basit [abdulbasit17@gmail.com]
Sensing Method : One-chip color area
Scene Type : Directly photographed
CFA Pattern : [Green,Blue][Red,Green]
Custom Rendered : Normal
Exposure Mode : Auto
White Balance : Auto
Digital Zoom Ratio : 1
Focal Length In 35mm Format : 45 mm
Scene Capture Type : Standard
Gain Control : Low gain up
Contrast : Normal
Saturation : Normal
Sharpness : Hard
Subject Distance Range : Unknown
Profile Description : sRGB IEC61966-2.1
Date/Time Digitized : 2010:10:28 13:01:32.00+06:00
Exif Image Width : 2088
Exif Image Height : 1434
Creator Tool : Adobe Photoshop Lightroom
Serial Number : 2178359
Lens Info : 18-55mm f/3.5-5.6
Lens : 18.0-55.0 mm f/3.5-5.6
Image Number : 5739
Version : 6.1
Process Version : 5.7
Incremental Temperature : 0
Incremental Tint : 0
Exposure : +0.50
Shadows : 0
Brightness : +9
Luminance Smoothing : 0
Color Noise Reduction : 26
Chromatic Aberration R : 0
Chromatic Aberration B : 0
Vignette Amount : 0
Shadow Tint : 0
Red Hue : 0
Red Saturation : 0
Green Hue : 0
Green Saturation : 0
Blue Hue : 0
Blue Saturation : 0
Fill Light : 5
Vibrance : +25
Highlight Recovery : 0
Clarity : +50
Defringe : 0
Hue Adjustment Red : 0
Hue Adjustment Orange : 0
Hue Adjustment Yellow : 0
Hue Adjustment Green : 0
Hue Adjustment Aqua : 0
Hue Adjustment Blue : 0
Hue Adjustment Purple : 0
Hue Adjustment Magenta : 0
Saturation Adjustment Red : +16
Saturation Adjustment Orange : 0
Saturation Adjustment Yellow : -45
Saturation Adjustment Green : -54
Saturation Adjustment Aqua : +27
Saturation Adjustment Blue : +29
Saturation Adjustment Purple : 0
Saturation Adjustment Magenta : 0
Luminance Adjustment Red : -19
Luminance Adjustment Orange : 0
Luminance Adjustment Yellow : 0
Luminance Adjustment Green : 0
Luminance Adjustment Aqua : +44
Luminance Adjustment Blue : +37
Luminance Adjustment Purple : 0
Luminance Adjustment Magenta : 0
Split Toning Shadow Hue : 233
Split Toning Shadow Saturation : 78
Split Toning Highlight Hue : 78
Split Toning Highlight Saturation : 58
Split Toning Balance : 0
Parametric Shadows : -25
Parametric Darks : -6
Parametric Lights : 0
Parametric Highlights : 0
Parametric Shadow Split : 25
Parametric Midtone Split : 50
Parametric Highlight Split : 75
Sharpen Radius : +1.0
Sharpen Detail : 25
Sharpen Edge Masking : 0
Post Crop Vignette Amount : -35
Post Crop Vignette Midpoint : 50
Post Crop Vignette Feather : 50
Post Crop Vignette Roundness : 0
Post Crop Vignette Style : Highlight Priority
Post Crop Vignette Highlight Contrast : 0
Grain Amount : 0
Color Noise Reduction Detail : 50
Lens Profile Enable : 0
Lens Manual Distortion Amount : 0
Perspective Vertical : 0
Perspective Horizontal : 0
Perspective Rotate : 0.0
Perspective Scale : 100
Convert To Grayscale : False
Tone Curve Name : Linear
Camera Profile : Embedded
Lens Profile Setup : LensDefaults
Has Settings : True
Crop Top : 0.022676
Crop Left : 0.331326
Crop Bottom : 1
Crop Right : 0.777108
Crop Angle : 0
Crop Constrain To Warp : 0
Crop Width : 1434
Crop Height : 2088
Crop Unit : pixels
Has Crop : True
Already Applied : True
Flash Fired : True
Flash Return : Return detected
Flash Mode : On
Flash Function : False
Flash Red Eye Mode : False
Tone Curve : 0, 0, 255, 255
Image Width : 300
Image Height : 206
Bits Per Sample : 8
Color Components : 3
Aperture : 4.5
Image Size : 300x206
Megapixels : 0.062
Scale Factor To 35 mm Equivalent : 1.5
Shutter Speed : 1/13
Create Date : 2010:10:28 13:01:32.00
Date/Time Original : 2010:10:28 13:01:32.00
Flash : On, Return detected
Circle Of Confusion : 0.020 mm
Depth Of Field : 0.14 m (0.78 - 0.91 m)
Field Of View : 43.6 deg
Focal Length : 30.0 mm (35 mm equivalent: 45.0 mm)
Hyperfocal Distance : 9.98 m
Light Value : 5.0
Lens ID : AF-S DX VR Zoom-Nikkor 18-55mm f/3.5-5.6G