Uber Exif Photo
Make : NIKON CORPORATION
Camera Model Name : NIKON D3X
Orientation : Horizontal (normal)
Software : Adobe Photoshop CS6 (Windows)
Modify Date : 2012:10:28 14:02:02
Exposure Time : 1/60
F Number : 5.0
Exposure Program : Program AE
ISO : 200
Date/Time Original : 2010:07:10 14:35:37
Create Date : 2010:07:10 14:35:37
Shutter Speed Value : 1/60
Aperture Value : 5.0
Exposure Compensation : 0
Max Aperture Value : 1.4
Subject Distance : 1.33 m
Metering Mode : Multi-segment
Light Source : Unknown
Flash : On, Return detected
Focal Length : 50.0 mm
Color Space : Uncalibrated
Exif Image Width : 980
Exif Image Height : 1180
Sensing Method : One-chip color area
Scene Type : Directly photographed
CFA Pattern : [Red,Green][Green,Blue]
Custom Rendered : Normal
Exposure Mode : Auto
White Balance : Auto
Digital Zoom Ratio : 1
Focal Length In 35mm Format : 50 mm
Scene Capture Type : Standard
Gain Control : None
Contrast : Normal
Saturation : Normal
Sharpness : Normal
Subject Distance Range : Unknown
Serial Number : 5022489
Lens Info : 50mm f/1.4
Lens Model : 50.0 mm f/1.4
Creator Tool : Ver.1.01
Rating : 0
Lens : 50.0 mm f/1.4
Image Number : 178
Approximate Focus Distance : 1.33
Format : image/jpeg
Date Created : 2010:07:10 14:35:37.024
Color Mode : RGB
ICC Profile Name : Adobe RGB (1998)
Raw File Name : _DSC2013.tif
Version : 7.1
Process Version : 6.7
Incremental Temperature : 0
Incremental Tint : 0
Luminance Smoothing : 0
Color Noise Reduction : 0
Vignette Amount : 0
Shadow Tint : 0
Red Hue : 0
Red Saturation : 0
Green Hue : 0
Green Saturation : 0
Blue Hue : 0
Blue Saturation : 0
Vibrance : 0
Hue Adjustment Red : 0
Hue Adjustment Orange : 0
Hue Adjustment Yellow : 0
Hue Adjustment Green : 0
Hue Adjustment Aqua : 0
Hue Adjustment Blue : 0
Hue Adjustment Purple : 0
Hue Adjustment Magenta : 0
Saturation Adjustment Red : 0
Saturation Adjustment Orange : 0
Saturation Adjustment Yellow : 0
Saturation Adjustment Green : 0
Saturation Adjustment Aqua : 0
Saturation Adjustment Blue : 0
Saturation Adjustment Purple : 0
Saturation Adjustment Magenta : 0
Luminance Adjustment Red : 0
Luminance Adjustment Orange : 0
Luminance Adjustment Yellow : 0
Luminance Adjustment Green : 0
Luminance Adjustment Aqua : 0
Luminance Adjustment Blue : 0
Luminance Adjustment Purple : 0
Luminance Adjustment Magenta : 0
Split Toning Shadow Hue : 0
Split Toning Shadow Saturation : 0
Split Toning Highlight Hue : 0
Split Toning Highlight Saturation : 0
Split Toning Balance : 0
Parametric Shadows : 0
Parametric Darks : 0
Parametric Lights : 0
Parametric Highlights : 0
Parametric Shadow Split : 25
Parametric Midtone Split : 50
Parametric Highlight Split : 75
Sharpen Radius : +1.0
Sharpen Detail : 25
Sharpen Edge Masking : 0
Post Crop Vignette Amount : 0
Grain Amount : 0
Lens Profile Enable : 0
Lens Manual Distortion Amount : 0
Perspective Vertical : 0
Perspective Horizontal : 0
Perspective Rotate : 0.0
Perspective Scale : 100
Auto Lateral CA : 0
Exposure 2012 : -0.30
Contrast 2012 : +8
Highlights 2012 : 0
Shadows 2012 : 0
Whites 2012 : 0
Blacks 2012 : 0
Clarity 2012 : +2
Defringe Purple Amount : 0
Defringe Purple Hue Lo : 30
Defringe Purple Hue Hi : 70
Defringe Green Amount : 0
Defringe Green Hue Lo : 40
Defringe Green Hue Hi : 60
Convert To Grayscale : False
Tone Curve Name 2012 : Linear
Camera Profile : Embedded
Lens Profile Setup : LensDefaults
Has Settings : True
Has Crop : False
Already Applied : True
Tone Curve PV2012 : 0, 0, 255, 255
Tone Curve PV2012 Red : 0, 0, 255, 255
Tone Curve PV2012 Green : 0, 0, 255, 255
Tone Curve PV2012 Blue : 0, 0, 255, 255
Image Width : 249
Image Height : 300
Bits Per Sample : 8
Color Components : 1
Aperture : 5.0
Image Size : 249x300
Megapixels : 0.075
Scale Factor To 35 mm Equivalent : 1.0
Shutter Speed : 1/60
Create Date : 2010:07:10 14:35:37.24
Date/Time Original : 2010:07:10 14:35:37.24
Circle Of Confusion : 0.030 mm
Depth Of Field : 0.21 m (1.24 - 1.44 m)
Field Of View : 39.6 deg
Focal Length : 50.0 mm (35 mm equivalent: 50.0 mm)
Hyperfocal Distance : 16.64 m
Light Value : 9.6
Lens ID : AF-S Nikkor 50mm f/1.4G