Uber Exif Photo
Copyright Notice : 2015 William Anderson
Copyright Flag : True
Make : NIKON CORPORATION
Camera Model Name : NIKON D750
Software : Adobe Photoshop Lightroom 6.3 (Macintosh)
Modify Date : 2016:01:09 12:11:05
Copyright : 2015 William Anderson
Exposure Time : 1/4000
F Number : 20.0
Exposure Program : Program AE
ISO : 12800
Sensitivity Type : Recommended Exposure Index
Date/Time Original : 2016:01:04 22:39:57
Create Date : 2016:01:04 22:39:57
Shutter Speed Value : 1/4000
Aperture Value : 20.0
Exposure Compensation : 0
Max Aperture Value : 2.8
Metering Mode : Multi-segment
Light Source : Unknown
Flash : Off, Did not fire
Focal Length : 200.0 mm
User Comment : D700
Sensing Method : One-chip color area
Scene Type : Directly photographed
CFA Pattern : [Red,Green][Green,Blue]
Custom Rendered : Custom
Exposure Mode : Auto
White Balance : Auto
Digital Zoom Ratio : 1
Focal Length In 35mm Format : 200 mm
Scene Capture Type : Standard
Gain Control : High gain up
Contrast : Normal
Saturation : Normal
Sharpness : Normal
Subject Distance Range : Unknown
Serial Number : 8807374
Lens Info : 80-200mm f/2.8
Lens Model : 80.0-200.0 mm f/2.8
Creator Tool : Adobe Photoshop Lightroom 6.3 (Macintosh)
Lens : 80.0-200.0 mm f/2.8
Image Number : 841
Approximate Focus Distance : 3.98
Date Created : 2016:01:04 22:39:57.16
Format : image/jpeg
Marked : True
Version : 9.3
Process Version : 6.7
Auto White Version : 134348800
Color Temperature : 4850
Tint : +5
Luminance Smoothing : 30
Color Noise Reduction : 25
Vignette Amount : 0
Shadow Tint : 0
Red Hue : 0
Red Saturation : 0
Green Hue : 0
Green Saturation : 0
Blue Hue : 0
Blue Saturation : 0
Gray Mixer Red : -11
Gray Mixer Orange : -20
Gray Mixer Yellow : -24
Gray Mixer Green : -27
Gray Mixer Aqua : -17
Gray Mixer Blue : +12
Gray Mixer Purple : +17
Gray Mixer Magenta : +3
Split Toning Shadow Hue : 0
Split Toning Shadow Saturation : 0
Split Toning Highlight Hue : 0
Split Toning Highlight Saturation : 0
Split Toning Balance : 0
Parametric Shadows : -11
Parametric Darks : 0
Parametric Lights : 0
Parametric Highlights : 0
Parametric Shadow Split : 25
Parametric Midtone Split : 50
Parametric Highlight Split : 75
Sharpen Radius : +1.0
Sharpen Detail : 25
Sharpen Edge Masking : 0
Post Crop Vignette Amount : 0
Grain Amount : 0
Luminance Noise Reduction Detail : 50
Color Noise Reduction Detail : 50
Luminance Noise Reduction Contrast : 41
Color Noise Reduction Smoothness : 50
Lens Profile Enable : 1
Lens Manual Distortion Amount : 0
Perspective Vertical : 0
Perspective Horizontal : 0
Perspective Rotate : 0.0
Perspective Scale : 100
Perspective Aspect : 0
Perspective Upright : Off
Auto Lateral CA : 1
Exposure 2012 : +0.05
Contrast 2012 : 0
Highlights 2012 : -45
Shadows 2012 : +28
Whites 2012 : +45
Blacks 2012 : -4
Clarity 2012 : +10
Dehaze : 0
Tone Map Strength : 0
Convert To Grayscale : True
Tone Curve Name : Linear
Tone Curve Name 2012 : Medium Contrast
Camera Profile : Adobe Standard
Lens Profile Setup : Custom
Lens Profile Name : Adobe (Nikon AF NIKKOR 50mm f/1.4D)
Lens Profile Filename : NIKON D3X (Nikon AF NIKKOR 50mm f1.4D) - RAW.lcp
Lens Profile Distortion Scale : 100
Lens Profile Chromatic Aberration Scale : 100
Lens Profile Vignetting Scale : 100
Has Settings : True
Has Crop : False
Already Applied : True
Rights : 2015 William Anderson
Usage Terms : Licensed Usage Only
Tone Curve : 0, 0, 255, 255
Tone Curve Red : 0, 0, 255, 255
Tone Curve Green : 0, 0, 255, 255
Tone Curve Blue : 0, 0, 255, 255
Tone Curve PV2012 : 0, 0, 32, 22, 64, 56, 128, 128, 192, 196, 255, 255
Tone Curve PV2012 Red : 0, 0, 255, 255
Tone Curve PV2012 Green : 0, 0, 255, 255
Tone Curve PV2012 Blue : 0, 0, 255, 255
Image Width : 300
Image Height : 200
Bits Per Sample : 8
Color Components : 1
Aperture : 20.0
Image Size : 300x200
Megapixels : 0.060
Scale Factor To 35 mm Equivalent : 1.0
Shutter Speed : 1/4000
Create Date : 2016:01:04 22:39:57.16
Date/Time Original : 2016:01:04 22:39:57.16
Circle Of Confusion : 0.030 mm
Depth Of Field : 0.45 m (3.77 - 4.22 m)
Field Of View : 10.3 deg
Focal Length : 200.0 mm (35 mm equivalent: 200.0 mm)
Hyperfocal Distance : 66.56 m
Light Value : 13.6
Lens ID : AF Zoom-Nikkor 80-200mm f/2.8D ED