Uber Exif Photo
Copyright Notice : 2015 William Anderson
Copyright Flag : True
Make : NIKON CORPORATION
Camera Model Name : NIKON D700
Software : Adobe Photoshop Lightroom 6.3 (Macintosh)
Modify Date : 2015:11:27 11:36:58
Copyright : 2015 William Anderson
Exposure Time : 1/400
Exposure Program : Aperture-priority AE
ISO : 1250
Date/Time Original : 2015:11:20 09:34:07
Create Date : 2015:11:20 09:34:07
Shutter Speed Value : 1/400
Exposure Compensation : 0
Max Aperture Value : 1.0
Metering Mode : Center-weighted average
Light Source : Unknown
Flash : No Flash
User Comment : D700
Sensing Method : One-chip color area
Scene Type : Directly photographed
CFA Pattern : [Red,Green][Green,Blue]
Custom Rendered : Custom
Exposure Mode : Auto
White Balance : Auto
Digital Zoom Ratio : 1
Scene Capture Type : Standard
Gain Control : High gain up
Contrast : Normal
Saturation : Normal
Sharpness : Normal
Subject Distance Range : Unknown
Serial Number : 2449563
Lens Info : 0mm f/0
Lens Model : 0.0 mm f/0.0
Creator Tool : Adobe Photoshop Lightroom 6.3 (Macintosh)
Lens : 0.0 mm f/0.0
Image Number : 3072
Date Created : 2015:11:20 09:34:07.25
Format : image/jpeg
Marked : True
Version : 9.3
Process Version : 6.7
Auto White Version : 134348800
Color Temperature : 3500
Tint : -6
Luminance Smoothing : 45
Color Noise Reduction : 25
Vignette Amount : 0
Shadow Tint : 0
Red Hue : 0
Red Saturation : 0
Green Hue : 0
Green Saturation : 0
Blue Hue : 0
Blue Saturation : 0
Gray Mixer Red : -11
Gray Mixer Orange : -20
Gray Mixer Yellow : -24
Gray Mixer Green : -27
Gray Mixer Aqua : -16
Gray Mixer Blue : +12
Gray Mixer Purple : +16
Gray Mixer Magenta : +3
Split Toning Shadow Hue : 0
Split Toning Shadow Saturation : 0
Split Toning Highlight Hue : 0
Split Toning Highlight Saturation : 0
Split Toning Balance : 0
Parametric Shadows : 0
Parametric Darks : 0
Parametric Lights : 0
Parametric Highlights : 0
Parametric Shadow Split : 25
Parametric Midtone Split : 50
Parametric Highlight Split : 75
Sharpen Radius : +1.8
Sharpen Detail : 25
Sharpen Edge Masking : 0
Post Crop Vignette Amount : 0
Grain Amount : 0
Luminance Noise Reduction Detail : 50
Color Noise Reduction Detail : 50
Luminance Noise Reduction Contrast : 0
Color Noise Reduction Smoothness : 50
Lens Profile Enable : 0
Lens Manual Distortion Amount : 0
Perspective Vertical : 0
Perspective Horizontal : 0
Perspective Rotate : 0.0
Perspective Scale : 100
Perspective Aspect : 0
Perspective Upright : Off
Auto Lateral CA : 1
Exposure 2012 : +0.05
Contrast 2012 : +3
Highlights 2012 : +19
Shadows 2012 : +66
Whites 2012 : +43
Blacks 2012 : -10
Clarity 2012 : +11
Dehaze : 0
Tone Map Strength : 0
Convert To Grayscale : True
Tone Curve Name : Linear
Tone Curve Name 2012 : Medium Contrast
Camera Profile : Adobe Standard
Lens Profile Setup : LensDefaults
Has Settings : True
Has Crop : False
Already Applied : True
Rights : 2015 William Anderson
Usage Terms : Licensed Usage Only
Tone Curve : 0, 0, 255, 255
Tone Curve Red : 0, 0, 255, 255
Tone Curve Green : 0, 0, 255, 255
Tone Curve Blue : 0, 0, 255, 255
Tone Curve PV2012 : 0, 0, 32, 22, 64, 56, 128, 128, 192, 196, 255, 255
Tone Curve PV2012 Red : 0, 0, 255, 255
Tone Curve PV2012 Green : 0, 0, 255, 255
Tone Curve PV2012 Blue : 0, 0, 255, 255
Image Width : 300
Image Height : 200
Bits Per Sample : 8
Color Components : 1
Image Size : 300x200
Megapixels : 0.060
Shutter Speed : 1/400
Create Date : 2015:11:20 09:34:07.25
Date/Time Original : 2015:11:20 09:34:07.25
Lens ID : 0.0mm f/0.0