Uber Exif Photo
Make : NIKON CORPORATION
Camera Model Name : NIKON D7000
Software : Adobe Photoshop Lightroom 3.5 (Macintosh)
Modify Date : 2011:10:14 19:31:34
Exposure Time : 1/250
F Number : 8.0
Exposure Program : Program AE
ISO : 100
Sensitivity Type : Recommended Exposure Index
Date/Time Original : 2011:01:02 13:11:19
Create Date : 2011:01:02 13:11:19
Shutter Speed Value : 1/250
Aperture Value : 8.0
Exposure Compensation : 0
Max Aperture Value : 4.0
Metering Mode : Multi-segment
Light Source : Unknown
Flash : Off, Did not fire
Focal Length : 22.0 mm
Sensing Method : One-chip color area
Scene Type : Directly photographed
CFA Pattern : [Red,Green][Green,Blue]
Custom Rendered : Normal
Exposure Mode : Auto
White Balance : Auto
Digital Zoom Ratio : 1
Focal Length In 35mm Format : 33 mm
Scene Capture Type : Standard
Gain Control : None
Contrast : Normal
Saturation : Normal
Sharpness : Normal
Subject Distance Range : Unknown
Serial Number : 3009475
Lens Info : 12-24mm f/4
Lens Model : 12.0-24.0 mm f/4.0
Profile Description : sRGB IEC61966-2.1
Creator Tool : Adobe Photoshop Lightroom 3.5 (Macintosh)
Lens : 12.0-24.0 mm f/4.0
Image Number : 3155
Version : 6.5
Process Version : 5.7
Color Temperature : 5691
Tint : +103
Exposure : +0.10
Shadows : 7
Brightness : +55
Luminance Smoothing : 100
Color Noise Reduction : 15
Chromatic Aberration R : 0
Chromatic Aberration B : 0
Vignette Amount : -75
Vignette Midpoint : 0
Shadow Tint : -100
Red Hue : -38
Red Saturation : +100
Green Hue : +69
Green Saturation : -100
Blue Hue : +100
Blue Saturation : +19
Fill Light : 16
Vibrance : +24
Highlight Recovery : 25
Clarity : +48
Defringe : 2
Hue Adjustment Red : 0
Hue Adjustment Orange : -5
Hue Adjustment Yellow : 0
Hue Adjustment Green : -100
Hue Adjustment Aqua : -21
Hue Adjustment Blue : -33
Hue Adjustment Purple : -52
Hue Adjustment Magenta : 0
Saturation Adjustment Red : 0
Saturation Adjustment Orange : 0
Saturation Adjustment Yellow : +38
Saturation Adjustment Green : +100
Saturation Adjustment Aqua : +98
Saturation Adjustment Blue : +67
Saturation Adjustment Purple : -93
Saturation Adjustment Magenta : 0
Luminance Adjustment Red : 0
Luminance Adjustment Orange : +19
Luminance Adjustment Yellow : +100
Luminance Adjustment Green : +100
Luminance Adjustment Aqua : +100
Luminance Adjustment Blue : -100
Luminance Adjustment Purple : +48
Luminance Adjustment Magenta : 0
Split Toning Shadow Hue : 60
Split Toning Shadow Saturation : 24
Split Toning Highlight Hue : 223
Split Toning Highlight Saturation : 13
Split Toning Balance : 0
Parametric Shadows : +11
Parametric Darks : +21
Parametric Lights : -11
Parametric Highlights : -31
Parametric Shadow Split : 20
Parametric Midtone Split : 50
Parametric Highlight Split : 75
Sharpen Radius : +1.2
Sharpen Detail : 51
Sharpen Edge Masking : 66
Post Crop Vignette Amount : +9
Post Crop Vignette Midpoint : 50
Post Crop Vignette Feather : 50
Post Crop Vignette Roundness : 0
Post Crop Vignette Style : Highlight Priority
Grain Amount : 0
Luminance Noise Reduction Detail : 50
Color Noise Reduction Detail : 50
Luminance Noise Reduction Contrast : 0
Lens Profile Enable : 1
Lens Manual Distortion Amount : 0
Perspective Vertical : 0
Perspective Horizontal : 0
Perspective Rotate : 0.0
Perspective Scale : 100
Convert To Grayscale : False
Tone Curve Name : Medium Contrast
Camera Profile : ACR 2.4
Lens Profile Setup : LensDefaults
Has Settings : True
Has Crop : False
Already Applied : True
Date Created : 2011:01:02 13:11:19.00-06:00
Tone Curve : 0, 0, 32, 22, 64, 56, 128, 128, 192, 196, 255, 255
Gradient Based Corr What : Correction
Gradient Based Corr Amount : 1.000000
Gradient Based Corr Active : true
Gradient Based Corr Exposure : -0.062500
Gradient Based Corr Saturation : 0.149425
Gradient Based Corr Contrast : 0.149425
Gradient Based Corr Clarity : 0.346322
Gradient Based Corr Sharpness : 0.000000
Gradient Based Corr Brightness : -0.075000
Gradient Based Corr Toning Hue : 73.000000
Gradient Based Corr Toning Saturation : 0.000000
Gradient Based Corr Mask What : Mask/Gradient
Gradient Based Corr Mask Value : 1.000000
Gradient Based Corr Mask Zero X : 0.232957
Gradient Based Corr Mask Zero Y : 0.443059
Gradient Based Corr Mask Full X : 0.008990
Gradient Based Corr Mask Full Y : 0.439012
Image Width : 199
Image Height : 300
Bits Per Sample : 8
Color Components : 3
Aperture : 8.0
Image Size : 199x300
Megapixels : 0.060
Scale Factor To 35 mm Equivalent : 1.5
Shutter Speed : 1/250
Create Date : 2011:01:02 13:11:19.00
Date/Time Original : 2011:01:02 13:11:19.00
Circle Of Confusion : 0.020 mm
Field Of View : 57.2 deg
Focal Length : 22.0 mm (35 mm equivalent: 33.0 mm)
Hyperfocal Distance : 3.02 m
Light Value : 14.0
Lens ID : 12.0-24.0mm f/4.0