Uber Exif Photo
Make : NIKON CORPORATION
Camera Model Name : NIKON D90
Software : Adobe Photoshop Lightroom 4.4 (Macintosh)
Modify Date : 2013:04:11 21:35:36
Exposure Time : 1/800
F Number : 7.1
Exposure Program : Program AE
ISO : 320
Date/Time Original : 2011:11:04 10:05:09
Create Date : 2011:11:04 10:05:09
Shutter Speed Value : 1/800
Aperture Value : 7.1
Exposure Compensation : 0
Max Aperture Value : 5.5
Metering Mode : Multi-segment
Light Source : Fine Weather
Flash : No Flash
Focal Length : 75.0 mm
Sensing Method : One-chip color area
Scene Type : Directly photographed
CFA Pattern : [Green,Blue][Red,Green]
Custom Rendered : Normal
Exposure Mode : Auto
White Balance : Manual
Digital Zoom Ratio : 1
Focal Length In 35mm Format : 112 mm
Scene Capture Type : Portrait
Gain Control : None
Contrast : Normal
Saturation : Normal
Sharpness : Normal
Subject Distance Range : Unknown
Serial Number : 3357909
Lens Info : 18-105mm f/3.5-5.6
Lens Model : 18.0-105.0 mm f/3.5-5.6
Creator Tool : Adobe Photoshop Lightroom 4.4 (Macintosh)
Lens : 18.0-105.0 mm f/3.5-5.6
Image Number : 14044
Approximate Focus Distance : 4294967295
Date Created : 2011:11:04 10:05:09.00
Format : image/jpeg
Version : 7.4
Process Version : 6.7
Color Temperature : 4950
Tint : -5
Luminance Smoothing : 0
Color Noise Reduction : 25
Vignette Amount : -76
Vignette Midpoint : 19
Shadow Tint : 0
Red Hue : 0
Red Saturation : 0
Green Hue : 0
Green Saturation : 0
Blue Hue : 0
Blue Saturation : 0
Gray Mixer Red : -9
Gray Mixer Orange : -18
Gray Mixer Yellow : -22
Gray Mixer Green : -27
Gray Mixer Aqua : -18
Gray Mixer Blue : +9
Gray Mixer Purple : +15
Gray Mixer Magenta : +4
Split Toning Shadow Hue : 0
Split Toning Shadow Saturation : 0
Split Toning Highlight Hue : 0
Split Toning Highlight Saturation : 0
Split Toning Balance : 0
Parametric Shadows : -76
Parametric Darks : -44
Parametric Lights : +39
Parametric Highlights : +41
Parametric Shadow Split : 25
Parametric Midtone Split : 50
Parametric Highlight Split : 75
Sharpen Radius : +1.0
Sharpen Detail : 25
Sharpen Edge Masking : 0
Post Crop Vignette Amount : 0
Grain Amount : 0
Color Noise Reduction Detail : 50
Lens Profile Enable : 1
Lens Manual Distortion Amount : 0
Perspective Vertical : 0
Perspective Horizontal : 0
Perspective Rotate : 0.0
Perspective Scale : 100
Auto Lateral CA : 1
Exposure 2012 : 0.00
Contrast 2012 : -7
Highlights 2012 : 0
Shadows 2012 : +80
Whites 2012 : +15
Blacks 2012 : -8
Clarity 2012 : +23
Convert To Grayscale : True
Tone Curve Name 2012 : Linear
Camera Profile : ACR 2.4
Lens Profile Setup : Custom
Lens Profile Name : Adobe (TAMRON SP 17-50mm F/2.8 DiII VC B005N, NIKON CORPORATION)
Lens Profile Filename : NIKON CORPORATION (TAMRON SP 17-50mm F2.8 DiII VC B005N) - RAW.lcp
Lens Profile Distortion Scale : 100
Lens Profile Chromatic Aberration Scale : 100
Lens Profile Vignetting Scale : 100
Has Settings : True
Crop Top : 0.348171
Crop Left : 0.331086
Crop Bottom : 0.985648
Crop Right : 1
Crop Angle : -0.82413
Crop Constrain To Warp : 0
Crop Width : 2842
Crop Height : 1856
Crop Unit : pixels
Has Crop : True
Already Applied : True
Tone Curve PV2012 : 0, 0, 255, 255
Tone Curve PV2012 Red : 0, 0, 255, 255
Tone Curve PV2012 Green : 0, 0, 255, 255
Tone Curve PV2012 Blue : 0, 0, 255, 255
Image Width : 300
Image Height : 196
Bits Per Sample : 8
Color Components : 1
Aperture : 7.1
Image Size : 300x196
Megapixels : 0.059
Scale Factor To 35 mm Equivalent : 1.5
Shutter Speed : 1/800
Create Date : 2011:11:04 10:05:09.00
Date/Time Original : 2011:11:04 10:05:09.00
Circle Of Confusion : 0.020 mm
Depth Of Field : inf (39.38 m - inf)
Field Of View : 18.3 deg
Focal Length : 75.0 mm (35 mm equivalent: 112.0 mm)
Hyperfocal Distance : 39.38 m
Light Value : 13.6
Lens ID : AF-S DX VR Zoom-Nikkor 18-105mm f/3.5-5.6G ED