Uber Exif Photo
By-line : William Anderson
Copyright Notice : 2011 All Rights RESERVED
Make : NIKON CORPORATION
Camera Model Name : NIKON D7000
Software : Adobe Photoshop Lightroom 3.6 (Macintosh)
Modify Date : 2012:02:11 12:08:50
Artist : William Anderson
Copyright : 2011 All Rights RESERVED
Exposure Time : 1/20
F Number : 3.2
Exposure Program : Program AE
ISO : 800
Sensitivity Type : Recommended Exposure Index
Date/Time Original : 2012:02:05 14:33:38
Create Date : 2012:02:05 14:33:38
Shutter Speed Value : 1/20
Aperture Value : 3.2
Exposure Compensation : 0
Max Aperture Value : 3.2
Subject Distance : 0.35 m
Metering Mode : Multi-segment
Light Source : Unknown
Flash : Off, Did not fire
Focal Length : 60.0 mm
Sensing Method : One-chip color area
Scene Type : Directly photographed
CFA Pattern : [Red,Green][Green,Blue]
Custom Rendered : Normal
Exposure Mode : Auto
White Balance : Auto
Digital Zoom Ratio : 1
Focal Length In 35mm Format : 90 mm
Scene Capture Type : Standard
Gain Control : Low gain up
Contrast : Normal
Saturation : Normal
Sharpness : Normal
Subject Distance Range : Unknown
Serial Number : 3009475
Lens Info : 60mm f/2.8
Lens Model : 60.0 mm f/2.8
Profile Description : sRGB IEC61966-2.1
Format : image/jpeg
Creator Tool : Adobe Photoshop Lightroom 3.6 (Macintosh)
Lens : 60.0 mm f/2.8
Image Number : 21316
Approximate Focus Distance : 0.35
Date Created : 2012:02:05 14:33:38.10
Version : 6.6
Process Version : 5.7
Color Temperature : 4350
Tint : +26
Exposure : +2.38
Shadows : 9
Brightness : +13
Luminance Smoothing : 100
Color Noise Reduction : 0
Chromatic Aberration R : 0
Chromatic Aberration B : +6
Vignette Amount : 0
Shadow Tint : 0
Red Hue : 0
Red Saturation : 0
Green Hue : 0
Green Saturation : 0
Blue Hue : 0
Blue Saturation : 0
Fill Light : 0
Vibrance : 0
Highlight Recovery : 0
Clarity : +100
Defringe : 0
Hue Adjustment Red : 0
Hue Adjustment Orange : 0
Hue Adjustment Yellow : 0
Hue Adjustment Green : 0
Hue Adjustment Aqua : 0
Hue Adjustment Blue : 0
Hue Adjustment Purple : 0
Hue Adjustment Magenta : 0
Saturation Adjustment Red : 0
Saturation Adjustment Orange : 0
Saturation Adjustment Yellow : 0
Saturation Adjustment Green : 0
Saturation Adjustment Aqua : 0
Saturation Adjustment Blue : 0
Saturation Adjustment Purple : 0
Saturation Adjustment Magenta : 0
Luminance Adjustment Red : 0
Luminance Adjustment Orange : 0
Luminance Adjustment Yellow : 0
Luminance Adjustment Green : 0
Luminance Adjustment Aqua : 0
Luminance Adjustment Blue : 0
Luminance Adjustment Purple : 0
Luminance Adjustment Magenta : 0
Split Toning Shadow Hue : 0
Split Toning Shadow Saturation : 0
Split Toning Highlight Hue : 0
Split Toning Highlight Saturation : 4
Split Toning Balance : +32
Parametric Shadows : -39
Parametric Darks : 0
Parametric Lights : +58
Parametric Highlights : +73
Parametric Shadow Split : 25
Parametric Midtone Split : 50
Parametric Highlight Split : 75
Sharpen Radius : +1.0
Sharpen Detail : 25
Sharpen Edge Masking : 0
Post Crop Vignette Amount : 0
Grain Amount : 0
Luminance Noise Reduction Detail : 61
Luminance Noise Reduction Contrast : 0
Lens Profile Enable : 1
Lens Manual Distortion Amount : 0
Perspective Vertical : 0
Perspective Horizontal : 0
Perspective Rotate : 0.0
Perspective Scale : 100
Convert To Grayscale : False
Tone Curve Name : Custom
Camera Profile : Embedded
Lens Profile Setup : LensDefaults
Lens Profile Name : Adobe (Nikon AF-S Micro NIKKOR 60mm f/2.8G ED)
Lens Profile Filename : NIKON D3X (Nikon AF-S Micro NIKKOR 60mm f2.8G ED) - RAW.lcp
Lens Profile Distortion Scale : 100
Lens Profile Chromatic Aberration Scale : 100
Lens Profile Vignetting Scale : 100
Has Settings : True
Crop Top : 0.084937
Crop Left : 0
Crop Bottom : 1
Crop Right : 0.915063
Crop Angle : 0
Crop Constrain To Warp : 0
Crop Width : 900
Crop Height : 596
Crop Unit : pixels
Has Crop : True
Already Applied : True
Creator : William Anderson
Rights : 2011 All Rights RESERVED
Tone Curve : 1, 255, 116, 184, 192, 105, 255, 0
Gradient Based Corr What : Correction
Gradient Based Corr Amount : 1.000000
Gradient Based Corr Active : true
Gradient Based Corr Exposure : -0.500000
Gradient Based Corr Saturation : 0.000000
Gradient Based Corr Contrast : 0.000000
Gradient Based Corr Clarity : 0.000000
Gradient Based Corr Sharpness : 0.000000
Gradient Based Corr Brightness : 0.000000
Gradient Based Corr Toning Hue : 240.000000
Gradient Based Corr Toning Saturation : 0.000000
Gradient Based Corr Mask What : Mask/Gradient
Gradient Based Corr Mask Value : 1.000000
Gradient Based Corr Mask Zero X : 0.526047
Gradient Based Corr Mask Zero Y : 0.999998
Gradient Based Corr Mask Full X : 0.526047
Gradient Based Corr Mask Full Y : -0.001532
Image Width : 300
Image Height : 199
Bits Per Sample : 8
Color Components : 3
Aperture : 3.2
Image Size : 300x199
Megapixels : 0.060
Scale Factor To 35 mm Equivalent : 1.5
Shutter Speed : 1/20
Create Date : 2012:02:05 14:33:38.10
Date/Time Original : 2012:02:05 14:33:38.10
Circle Of Confusion : 0.020 mm
Depth Of Field : 0.004 m (0.348 - 0.352 m)
Field Of View : 22.6 deg
Focal Length : 60.0 mm (35 mm equivalent: 90.0 mm)
Hyperfocal Distance : 56.16 m
Light Value : 4.7
Lens ID : AF Micro-Nikkor 60mm f/2.8D