Uber Exif Photo
Make : NIKON CORPORATION
Camera Model Name : NIKON D7000
Software : Adobe Photoshop Lightroom 3.5 (Macintosh)
Modify Date : 2011:11:07 21:36:44
Exposure Time : 1/100
F Number : 5.0
Exposure Program : Program AE
ISO : 100
Sensitivity Type : Recommended Exposure Index
Date/Time Original : 2010:11:28 14:13:22
Create Date : 2010:11:28 14:13:22
Shutter Speed Value : 1/100
Aperture Value : 5.0
Exposure Compensation : 0
Max Aperture Value : 2.8
Subject Distance : 2.24 m
Metering Mode : Multi-segment
Light Source : Unknown
Flash : Off, Did not fire
Focal Length : 17.0 mm
Sensing Method : One-chip color area
Scene Type : Directly photographed
CFA Pattern : [Red,Green][Green,Blue]
Custom Rendered : Normal
Exposure Mode : Auto
White Balance : Auto
Digital Zoom Ratio : 1
Focal Length In 35mm Format : 25 mm
Scene Capture Type : Standard
Gain Control : None
Contrast : Normal
Saturation : Normal
Sharpness : Normal
Subject Distance Range : Unknown
Serial Number : 3009475
Lens Info : 17-50mm f/2.8
Lens Model : 17.0-50.0 mm f/2.8
Creator Tool : Adobe Photoshop Lightroom 3.5 (Macintosh)
Lens : 17.0-50.0 mm f/2.8
Image Number : 1755
Approximate Focus Distance : 2.24
Version : 6.5
Process Version : 5.7
Color Temperature : 5100
Tint : +10
Exposure : +0.25
Shadows : 71
Brightness : +31
Luminance Smoothing : 100
Color Noise Reduction : 80
Chromatic Aberration R : 0
Chromatic Aberration B : 0
Vignette Amount : -38
Vignette Midpoint : 50
Shadow Tint : 0
Red Hue : 0
Red Saturation : 0
Green Hue : 0
Green Saturation : 0
Blue Hue : 0
Blue Saturation : 0
Fill Light : 100
Vibrance : -100
Highlight Recovery : 100
Clarity : +100
Defringe : 0
Hue Adjustment Red : 0
Hue Adjustment Orange : 0
Hue Adjustment Yellow : 0
Hue Adjustment Green : 0
Hue Adjustment Aqua : 0
Hue Adjustment Blue : 0
Hue Adjustment Purple : 0
Hue Adjustment Magenta : 0
Saturation Adjustment Red : 0
Saturation Adjustment Orange : 0
Saturation Adjustment Yellow : 0
Saturation Adjustment Green : 0
Saturation Adjustment Aqua : 0
Saturation Adjustment Blue : 0
Saturation Adjustment Purple : 0
Saturation Adjustment Magenta : 0
Luminance Adjustment Red : 0
Luminance Adjustment Orange : 0
Luminance Adjustment Yellow : 0
Luminance Adjustment Green : 0
Luminance Adjustment Aqua : 0
Luminance Adjustment Blue : 0
Luminance Adjustment Purple : 0
Luminance Adjustment Magenta : 0
Split Toning Shadow Hue : 0
Split Toning Shadow Saturation : 0
Split Toning Highlight Hue : 0
Split Toning Highlight Saturation : 0
Split Toning Balance : 0
Parametric Shadows : 0
Parametric Darks : 0
Parametric Lights : 0
Parametric Highlights : 0
Parametric Shadow Split : 25
Parametric Midtone Split : 50
Parametric Highlight Split : 75
Sharpen Radius : +2.9
Sharpen Detail : 19
Sharpen Edge Masking : 63
Post Crop Vignette Amount : +1
Post Crop Vignette Midpoint : 73
Post Crop Vignette Feather : 73
Post Crop Vignette Roundness : 0
Post Crop Vignette Style : Highlight Priority
Grain Amount : 0
Luminance Noise Reduction Detail : 50
Color Noise Reduction Detail : 50
Luminance Noise Reduction Contrast : 29
Lens Profile Enable : 1
Lens Manual Distortion Amount : 0
Perspective Vertical : 0
Perspective Horizontal : 0
Perspective Rotate : 0.0
Perspective Scale : 100
Convert To Grayscale : False
Tone Curve Name : Linear
Camera Profile : Embedded
Lens Profile Setup : Custom
Lens Profile Name : Adobe (TAMRON 18-200mm F/3.5-6.3 DiII A14N, NIKON CORPORATION)
Lens Profile Filename : NIKON CORPORATION (TAMRON 18-200mm F3.5-6.3 DiII A14N) - RAW.lcp
Lens Profile Distortion Scale : 61
Lens Profile Chromatic Aberration Scale : 100
Lens Profile Vignetting Scale : 69
Has Settings : True
Crop Top : 0.08641
Crop Left : 0.027044
Crop Bottom : 0.956703
Crop Right : 0.868163
Crop Angle : 0.905284
Crop Constrain To Warp : 0
Crop Width : 1200
Crop Height : 795
Crop Unit : pixels
Has Crop : True
Already Applied : True
Date Created : 2010:11:28 14:13:22.80-06:00
Tone Curve : 0, 0, 255, 255
Image Width : 199
Image Height : 300
Bits Per Sample : 8
Color Components : 1
Aperture : 5.0
Image Size : 199x300
Megapixels : 0.060
Scale Factor To 35 mm Equivalent : 1.5
Shutter Speed : 1/100
Create Date : 2010:11:28 14:13:22.80
Date/Time Original : 2010:11:28 14:13:22.80
Circle Of Confusion : 0.020 mm
Depth Of Field : 9.20 m (1.25 - 10.46 m)
Field Of View : 71.5 deg
Focal Length : 17.0 mm (35 mm equivalent: 25.0 mm)
Hyperfocal Distance : 2.83 m
Light Value : 11.3
Lens ID : Tamron SP AF 17-50mm f/2.8 XR Di II VC LD Aspherical (IF) (B005)