Uber Exif Photo
Make : NIKON CORPORATION
Camera Model Name : NIKON D90
Software : Adobe Photoshop Lightroom 3.5 (Macintosh)
Modify Date : 2011:10:16 10:57:41
Exposure Time : 0.8
F Number : 4.5
Exposure Program : Aperture-priority AE
ISO : 200
Date/Time Original : 2010:05:03 07:36:10
Create Date : 2010:05:03 07:36:10
Shutter Speed Value : 0.8
Aperture Value : 4.5
Exposure Compensation : 0
Max Aperture Value : 4.6
Subject Distance : 4294967295 m
Metering Mode : Multi-segment
Light Source : Unknown
Flash : No Flash
Focal Length : 40.0 mm
Sensing Method : One-chip color area
Scene Type : Directly photographed
CFA Pattern : [Green,Blue][Red,Green]
Custom Rendered : Normal
Exposure Mode : Auto
White Balance : Auto
Digital Zoom Ratio : 1
Focal Length In 35mm Format : 60 mm
Scene Capture Type : Standard
Gain Control : None
Contrast : Normal
Saturation : Normal
Sharpness : Normal
Subject Distance Range : Unknown
Serial Number : 3357909
Lens Info : 18-105mm f/3.5-5.6
Lens Model : 18.0-105.0 mm f/3.5-5.6
Profile Description : sRGB IEC61966-2.1
Creator Tool : Adobe Photoshop Lightroom 3.5 (Macintosh)
Lens : 18.0-105.0 mm f/3.5-5.6
Image Number : 1865
Approximate Focus Distance : 4294967295
Version : 6.5
Process Version : 5.7
Incremental Temperature : +52
Incremental Tint : 0
Exposure : 0.00
Shadows : 2
Brightness : +26
Luminance Smoothing : 0
Color Noise Reduction : 0
Chromatic Aberration R : 0
Chromatic Aberration B : 0
Vignette Amount : -100
Vignette Midpoint : 20
Shadow Tint : -4
Red Hue : +100
Red Saturation : -100
Green Hue : +100
Green Saturation : +100
Blue Hue : -60
Blue Saturation : +3
Fill Light : 0
Highlight Recovery : 24
Clarity : +29
Defringe : 0
Gray Mixer Red : +17
Gray Mixer Orange : +48
Gray Mixer Yellow : +100
Gray Mixer Green : +100
Gray Mixer Aqua : +80
Gray Mixer Blue : -100
Gray Mixer Purple : -10
Gray Mixer Magenta : +63
Split Toning Shadow Hue : 203
Split Toning Shadow Saturation : 11
Split Toning Highlight Hue : 52
Split Toning Highlight Saturation : 21
Split Toning Balance : 0
Parametric Shadows : -25
Parametric Darks : -8
Parametric Lights : +8
Parametric Highlights : +3
Parametric Shadow Split : 25
Parametric Midtone Split : 50
Parametric Highlight Split : 75
Sharpen Radius : +1.0
Sharpen Detail : 25
Sharpen Edge Masking : 0
Post Crop Vignette Amount : 0
Grain Amount : 0
Lens Profile Enable : 0
Lens Manual Distortion Amount : 0
Perspective Vertical : 0
Perspective Horizontal : 0
Perspective Rotate : 0.0
Perspective Scale : 100
Convert To Grayscale : True
Tone Curve Name : Medium Contrast
Camera Profile : Embedded
Lens Profile Setup : LensDefaults
Has Settings : True
Crop Top : 0
Crop Left : 0
Crop Bottom : 1
Crop Right : 0.441134
Crop Angle : 0
Crop Constrain To Warp : 0
Crop Width : 797
Crop Height : 1200
Crop Unit : pixels
Has Crop : True
Already Applied : True
Date Created : 2010:05:03 07:36:10.00-05:00
Tone Curve : 0, 0, 32, 22, 64, 56, 128, 128, 192, 196, 255, 255
Image Width : 300
Image Height : 199
Bits Per Sample : 8
Color Components : 3
Aperture : 4.5
Image Size : 300x199
Megapixels : 0.060
Scale Factor To 35 mm Equivalent : 1.5
Shutter Speed : 0.8
Create Date : 2010:05:03 07:36:10.00
Date/Time Original : 2010:05:03 07:36:10.00
Circle Of Confusion : 0.020 mm
Depth Of Field : inf (17.75 m - inf)
Field Of View : 33.4 deg
Focal Length : 40.0 mm (35 mm equivalent: 60.0 mm)
Hyperfocal Distance : 17.75 m
Light Value : 3.7
Lens ID : AF-S DX VR Zoom-Nikkor 18-105mm f/3.5-5.6G ED