Uber Exif Photo
By-line : Wm. R. Anderson
Copyright Notice : Wm. R. Anderson
Make : NIKON CORPORATION
Camera Model Name : NIKON 1 V1
Software : Adobe Photoshop Lightroom 3.6 (Macintosh)
Modify Date : 2011:11:27 20:28:53
Artist : Wm. R. Anderson
Copyright : Wm. R. Anderson
Exposure Time : 1/60
F Number : 5.6
Exposure Program : Program AE
ISO : 3200
Sensitivity Type : Recommended Exposure Index
Date/Time Original : 2011:11:27 09:58:46
Create Date : 2011:11:27 09:58:46
Shutter Speed Value : 1/60
Aperture Value : 5.6
Exposure Compensation : 0
Max Aperture Value : 5.7
Subject Distance : 0.94 m
Metering Mode : Multi-segment
Light Source : Unknown
Flash : No Flash
Focal Length : 30.0 mm
Sensing Method : One-chip color area
Scene Type : Directly photographed
Custom Rendered : Normal
Exposure Mode : Auto
White Balance : Auto
Digital Zoom Ratio : 1
Focal Length In 35mm Format : 81 mm
Scene Capture Type : Standard
Gain Control : High gain up
Contrast : Normal
Saturation : Normal
Sharpness : Normal
Subject Distance Range : Unknown
Serial Number : 31008037
Lens Info : 10-30mm f/3.5-5.6
Lens Model : 1 NIKKOR VR 10-30mm f/3.5-5.6
Creator Tool : Adobe Photoshop Lightroom 3.6 (Macintosh)
Lens : 1 NIKKOR VR 10-30mm f/3.5-5.6
Image Number : 222
Approximate Focus Distance : 0.94
Date Created : 2011:11:27 09:58:46.00
Format : image/jpeg
Version : 6.6
Process Version : 5.7
Color Temperature : 4213
Tint : -74
Exposure : +1.15
Shadows : 28
Brightness : +59
Luminance Smoothing : 0
Color Noise Reduction : 25
Chromatic Aberration R : 0
Chromatic Aberration B : 0
Vignette Amount : 0
Shadow Tint : 0
Red Hue : 0
Red Saturation : 0
Green Hue : 0
Green Saturation : 0
Blue Hue : 0
Blue Saturation : 0
Fill Light : 13
Vibrance : 0
Highlight Recovery : 0
Clarity : 0
Defringe : 0
Hue Adjustment Red : 0
Hue Adjustment Orange : 0
Hue Adjustment Yellow : 0
Hue Adjustment Green : 0
Hue Adjustment Aqua : 0
Hue Adjustment Blue : 0
Hue Adjustment Purple : 0
Hue Adjustment Magenta : 0
Saturation Adjustment Red : 0
Saturation Adjustment Orange : 0
Saturation Adjustment Yellow : 0
Saturation Adjustment Green : 0
Saturation Adjustment Aqua : 0
Saturation Adjustment Blue : 0
Saturation Adjustment Purple : 0
Saturation Adjustment Magenta : 0
Luminance Adjustment Red : 0
Luminance Adjustment Orange : 0
Luminance Adjustment Yellow : 0
Luminance Adjustment Green : 0
Luminance Adjustment Aqua : 0
Luminance Adjustment Blue : 0
Luminance Adjustment Purple : 0
Luminance Adjustment Magenta : 0
Split Toning Shadow Hue : 0
Split Toning Shadow Saturation : 0
Split Toning Highlight Hue : 0
Split Toning Highlight Saturation : 0
Split Toning Balance : 0
Parametric Shadows : -14
Parametric Darks : -3
Parametric Lights : 0
Parametric Highlights : 0
Parametric Shadow Split : 25
Parametric Midtone Split : 50
Parametric Highlight Split : 75
Sharpen Radius : +1.0
Sharpen Detail : 50
Sharpen Edge Masking : 0
Post Crop Vignette Amount : -56
Post Crop Vignette Midpoint : 50
Post Crop Vignette Feather : 50
Post Crop Vignette Roundness : 0
Post Crop Vignette Style : Highlight Priority
Post Crop Vignette Highlight Contrast : 0
Grain Amount : 0
Color Noise Reduction Detail : 50
Lens Profile Enable : 1
Lens Manual Distortion Amount : 0
Perspective Vertical : 0
Perspective Horizontal : 0
Perspective Rotate : 0.0
Perspective Scale : 100
Convert To Grayscale : False
Tone Curve Name : Linear
Camera Profile : Adobe Standard
Lens Profile Setup : LensDefaults
Lens Profile Name : Adobe (Nikon 1 NIKKOR VR 10-30mm f/3.5-5.6)
Lens Profile Filename : NIKON 1 J1 (Nikon 1 NIKKOR VR 10-30mm f3.5-5.6) - RAW.lcp
Lens Profile Distortion Scale : 100
Lens Profile Chromatic Aberration Scale : 100
Lens Profile Vignetting Scale : 100
Has Settings : True
Has Crop : False
Already Applied : True
Creator : Wm. R. Anderson
Rights : Wm. R. Anderson
Usage Terms : All Rights Reserved
Tone Curve : 0, 0, 255, 255
Image Width : 300
Image Height : 201
Bits Per Sample : 8
Color Components : 1
Aperture : 5.6
Image Size : 300x201
Megapixels : 0.060
Scale Factor To 35 mm Equivalent : 2.7
Shutter Speed : 1/60
Create Date : 2011:11:27 09:58:46.00
Date/Time Original : 2011:11:27 09:58:46.00
Circle Of Confusion : 0.011 mm
Depth Of Field : 0.12 m (0.88 - 1.00 m)
Field Of View : 25.1 deg
Focal Length : 30.0 mm (35 mm equivalent: 81.0 mm)
Hyperfocal Distance : 14.44 m
Light Value : 5.9
Lens ID : 1 NIKKOR VR 10-30mm f/3.5-5.6