Uber Exif Photo
Make : NIKON CORPORATION
Camera Model Name : NIKON D90
Software : Adobe Photoshop Lightroom 3.5 (Macintosh)
Modify Date : 2011:10:07 19:20:31
Exposure Time : 1/320
F Number : 5.0
Exposure Program : Aperture-priority AE
ISO : 200
Date/Time Original : 2010:05:03 20:16:28
Create Date : 2010:05:03 20:16:28
Shutter Speed Value : 1/320
Aperture Value : 5.0
Exposure Compensation : 0
Max Aperture Value : 4.9
Subject Distance : 4294967295 m
Metering Mode : Multi-segment
Light Source : Unknown
Flash : No Flash
Focal Length : 52.0 mm
Sensing Method : One-chip color area
Scene Type : Directly photographed
CFA Pattern : [Green,Blue][Red,Green]
Custom Rendered : Normal
Exposure Mode : Auto
White Balance : Auto
Digital Zoom Ratio : 1
Focal Length In 35mm Format : 78 mm
Scene Capture Type : Standard
Gain Control : None
Contrast : Normal
Saturation : Normal
Sharpness : Normal
Subject Distance Range : Unknown
Serial Number : 3357909
Lens Info : 18-105mm f/3.5-5.6
Lens Model : 18.0-105.0 mm f/3.5-5.6
Profile Description : sRGB IEC61966-2.1
Creator Tool : Adobe Photoshop Lightroom 3.5 (Macintosh)
Lens : 18.0-105.0 mm f/3.5-5.6
Image Number : 1933
Approximate Focus Distance : 4294967295
Version : 6.5
Process Version : 5.7
Incremental Temperature : 0
Incremental Tint : 0
Exposure : +1.15
Shadows : 14
Brightness : 0
Luminance Smoothing : 0
Color Noise Reduction : 25
Chromatic Aberration R : 0
Chromatic Aberration B : 0
Vignette Amount : -100
Vignette Midpoint : 0
Shadow Tint : 0
Red Hue : 0
Red Saturation : 0
Green Hue : 0
Green Saturation : 0
Blue Hue : 0
Blue Saturation : 0
Fill Light : 0
Vibrance : 0
Highlight Recovery : 25
Clarity : 0
Defringe : 0
Hue Adjustment Red : 0
Hue Adjustment Orange : 0
Hue Adjustment Yellow : 0
Hue Adjustment Green : 0
Hue Adjustment Aqua : 0
Hue Adjustment Blue : -15
Hue Adjustment Purple : -2
Hue Adjustment Magenta : 0
Saturation Adjustment Red : 0
Saturation Adjustment Orange : +13
Saturation Adjustment Yellow : +23
Saturation Adjustment Green : +10
Saturation Adjustment Aqua : +50
Saturation Adjustment Blue : +58
Saturation Adjustment Purple : +23
Saturation Adjustment Magenta : 0
Luminance Adjustment Red : 0
Luminance Adjustment Orange : 0
Luminance Adjustment Yellow : 0
Luminance Adjustment Green : 0
Luminance Adjustment Aqua : 0
Luminance Adjustment Blue : 0
Luminance Adjustment Purple : 0
Luminance Adjustment Magenta : 0
Split Toning Shadow Hue : 0
Split Toning Shadow Saturation : 0
Split Toning Highlight Hue : 0
Split Toning Highlight Saturation : 0
Split Toning Balance : 0
Parametric Shadows : -60
Parametric Darks : -20
Parametric Lights : +10
Parametric Highlights : +60
Parametric Shadow Split : 25
Parametric Midtone Split : 50
Parametric Highlight Split : 75
Sharpen Radius : +1.0
Sharpen Detail : 25
Sharpen Edge Masking : 0
Post Crop Vignette Amount : 0
Grain Amount : 0
Color Noise Reduction Detail : 50
Lens Profile Enable : 0
Lens Manual Distortion Amount : 0
Perspective Vertical : 0
Perspective Horizontal : 0
Perspective Rotate : 0.0
Perspective Scale : 100
Convert To Grayscale : False
Tone Curve Name : Linear
Camera Profile : ACR 2.4
Lens Profile Setup : LensDefaults
Has Settings : True
Has Crop : False
Already Applied : True
Date Created : 2010:05:03 20:16:28.00-05:00
Tone Curve : 0, 0, 255, 255
Gradient Based Corr What : Correction
Gradient Based Corr Amount : 1.000000
Gradient Based Corr Active : true
Gradient Based Corr Exposure : -0.057471
Gradient Based Corr Saturation : 0.250000
Gradient Based Corr Contrast : 0.000000
Gradient Based Corr Clarity : 0.000000
Gradient Based Corr Sharpness : 0.000000
Gradient Based Corr Brightness : 0.000000
Gradient Based Corr Toning Hue : 28.000000
Gradient Based Corr Toning Saturation : 0.700000
Gradient Based Corr Mask What : Mask/Gradient
Gradient Based Corr Mask Value : 1.000000
Gradient Based Corr Mask Zero X : 0.524470
Gradient Based Corr Mask Zero Y : 0.571255
Gradient Based Corr Mask Full X : 0.520392
Gradient Based Corr Mask Full Y : 0.018270
Image Width : 300
Image Height : 199
Bits Per Sample : 8
Color Components : 3
Aperture : 5.0
Image Size : 300x199
Megapixels : 0.060
Scale Factor To 35 mm Equivalent : 1.5
Shutter Speed : 1/320
Create Date : 2010:05:03 20:16:28.00
Date/Time Original : 2010:05:03 20:16:28.00
Circle Of Confusion : 0.020 mm
Depth Of Field : inf (27.00 m - inf)
Field Of View : 26.0 deg
Focal Length : 52.0 mm (35 mm equivalent: 78.0 mm)
Hyperfocal Distance : 27.00 m
Light Value : 12.0
Lens ID : AF-S DX VR Zoom-Nikkor 18-105mm f/3.5-5.6G ED