Uber Exif Photo
Make : NIKON CORPORATION
Camera Model Name : NIKON D90
Software : Adobe Photoshop Lightroom 3.5 (Macintosh)
Modify Date : 2011:10:03 17:42:18
Exposure Time : 1/13
F Number : 3.8
Exposure Program : Program AE
ISO : 800
Date/Time Original : 2011:09:30 06:21:47
Create Date : 2011:09:30 06:21:47
Shutter Speed Value : 1/13
Aperture Value : 3.8
Exposure Compensation : 0
Max Aperture Value : 3.7
Subject Distance : 4.22 m
Metering Mode : Multi-segment
Light Source : Tungsten (Incandescent)
Flash : No Flash
Focal Length : 21.0 mm
Sensing Method : One-chip color area
Scene Type : Directly photographed
CFA Pattern : [Green,Blue][Red,Green]
Custom Rendered : Normal
Exposure Mode : Auto
White Balance : Manual
Digital Zoom Ratio : 1
Focal Length In 35mm Format : 31 mm
Scene Capture Type : Portrait
Gain Control : Low gain up
Contrast : Normal
Saturation : Normal
Sharpness : Normal
Subject Distance Range : Unknown
Serial Number : 3357909
Lens Info : 18-105mm f/3.5-5.6
Lens Model : 18.0-105.0 mm f/3.5-5.6
Creator Tool : Adobe Photoshop Lightroom 3.5 (Macintosh)
Lens : 18.0-105.0 mm f/3.5-5.6
Image Number : 13699
Approximate Focus Distance : 4.22
Date Created : 2011:09:30 06:21:47.00
Version : 6.5
Process Version : 5.7
Color Temperature : 3458
Tint : -150
Exposure : 0.00
Shadows : 5
Brightness : +69
Luminance Smoothing : 47
Color Noise Reduction : 36
Chromatic Aberration R : 0
Chromatic Aberration B : 0
Vignette Amount : 0
Shadow Tint : 0
Red Hue : 0
Red Saturation : 0
Green Hue : 0
Green Saturation : 0
Blue Hue : 0
Blue Saturation : 0
Fill Light : 0
Highlight Recovery : 100
Clarity : 0
Defringe : 0
Gray Mixer Red : -15
Gray Mixer Orange : -21
Gray Mixer Yellow : +100
Gray Mixer Green : +100
Gray Mixer Aqua : +50
Gray Mixer Blue : +15
Gray Mixer Purple : +12
Gray Mixer Magenta : -4
Split Toning Shadow Hue : 0
Split Toning Shadow Saturation : 0
Split Toning Highlight Hue : 0
Split Toning Highlight Saturation : 0
Split Toning Balance : 0
Parametric Shadows : 0
Parametric Darks : 0
Parametric Lights : 0
Parametric Highlights : 0
Parametric Shadow Split : 25
Parametric Midtone Split : 50
Parametric Highlight Split : 75
Sharpen Radius : +1.6
Sharpen Detail : 25
Sharpen Edge Masking : 0
Post Crop Vignette Amount : 0
Grain Amount : 0
Luminance Noise Reduction Detail : 53
Color Noise Reduction Detail : 50
Luminance Noise Reduction Contrast : 41
Lens Profile Enable : 0
Lens Manual Distortion Amount : 0
Perspective Vertical : 0
Perspective Horizontal : 0
Perspective Rotate : 0.0
Perspective Scale : 100
Convert To Grayscale : True
Tone Curve Name : Medium Contrast
Camera Profile : Adobe Standard
Lens Profile Setup : LensDefaults
Has Settings : True
Has Crop : False
Already Applied : True
Tone Curve : 0, 0, 32, 22, 64, 56, 128, 128, 192, 196, 255, 255
Image Width : 199
Image Height : 300
Bits Per Sample : 8
Color Components : 1
Aperture : 3.8
Image Size : 199x300
Megapixels : 0.060
Scale Factor To 35 mm Equivalent : 1.5
Shutter Speed : 1/13
Create Date : 2011:09:30 06:21:47.00
Date/Time Original : 2011:09:30 06:21:47.00
Circle Of Confusion : 0.020 mm
Depth Of Field : 13.58 m (2.43 - 16.01 m)
Field Of View : 60.3 deg
Focal Length : 21.0 mm (35 mm equivalent: 31.0 mm)
Hyperfocal Distance : 5.70 m
Light Value : 4.6
Lens ID : AF-S DX VR Zoom-Nikkor 18-105mm f/3.5-5.6G ED