Uber Exif Photo
By-line : William Anderson
Copyright Notice : 2011 Wm. R. Anderson
Copyright Flag : True
Make : NIKON CORPORATION
Camera Model Name : NIKON D7000
Software : Adobe Photoshop Lightroom 3.4.1
Modify Date : 2011:09:05 22:46:03
Artist : William Anderson
Copyright : 2011 Wm. R. Anderson
Exposure Time : 1/4
F Number : 6.3
Exposure Program : Manual
ISO : 500
Sensitivity Type : Recommended Exposure Index
Date/Time Original : 2011:09:05 19:06:45
Create Date : 2011:09:05 19:06:45
Shutter Speed Value : 1/4
Aperture Value : 6.3
Exposure Compensation : 0
Max Aperture Value : 2.8
Subject Distance : 0.03 m
Metering Mode : Multi-segment
Light Source : Unknown
Flash : Off, Did not fire
Focal Length : 24.0 mm
Sensing Method : One-chip color area
Scene Type : Directly photographed
CFA Pattern : [Red,Green][Green,Blue]
Custom Rendered : Normal
Exposure Mode : Manual
White Balance : Auto
Digital Zoom Ratio : 1
Focal Length In 35mm Format : 36 mm
Scene Capture Type : Standard
Gain Control : Low gain up
Contrast : Normal
Saturation : Normal
Sharpness : Normal
Subject Distance Range : Unknown
Serial Number : 3009475
Lens Info : 24mm f/2.8
Lens Model : 24.0 mm f/2.8
Profile Description : sRGB IEC61966-2.1
Creator Tool : Adobe Photoshop Lightroom 3.4.1
Label : Kemah
Lens : 24.0 mm f/2.8
Image Number : 11687
Approximate Focus Distance : 0.03
Date Created : 2011:09:05 19:06:45.80
Marked : True
Version : 6.4.1
Process Version : 5.7
Color Temperature : 4050
Tint : -2
Exposure : 0.00
Shadows : 8
Brightness : +69
Luminance Smoothing : 0
Color Noise Reduction : 0
Chromatic Aberration R : 0
Chromatic Aberration B : 0
Vignette Amount : 0
Shadow Tint : 0
Red Hue : 0
Red Saturation : 0
Green Hue : 0
Green Saturation : 0
Blue Hue : 0
Blue Saturation : 0
Fill Light : 10
Vibrance : 0
Highlight Recovery : 19
Clarity : 0
Defringe : 0
Hue Adjustment Red : 0
Hue Adjustment Orange : 0
Hue Adjustment Yellow : 0
Hue Adjustment Green : 0
Hue Adjustment Aqua : 0
Hue Adjustment Blue : 0
Hue Adjustment Purple : 0
Hue Adjustment Magenta : 0
Saturation Adjustment Red : 0
Saturation Adjustment Orange : 0
Saturation Adjustment Yellow : 0
Saturation Adjustment Green : 0
Saturation Adjustment Aqua : 0
Saturation Adjustment Blue : 0
Saturation Adjustment Purple : 0
Saturation Adjustment Magenta : 0
Luminance Adjustment Red : 0
Luminance Adjustment Orange : 0
Luminance Adjustment Yellow : 0
Luminance Adjustment Green : 0
Luminance Adjustment Aqua : 0
Luminance Adjustment Blue : 0
Luminance Adjustment Purple : 0
Luminance Adjustment Magenta : 0
Split Toning Shadow Hue : 0
Split Toning Shadow Saturation : 0
Split Toning Highlight Hue : 0
Split Toning Highlight Saturation : 0
Split Toning Balance : 0
Parametric Shadows : 0
Parametric Darks : 0
Parametric Lights : 0
Parametric Highlights : 0
Parametric Shadow Split : 25
Parametric Midtone Split : 50
Parametric Highlight Split : 75
Sharpen Radius : +1.0
Sharpen Detail : 50
Sharpen Edge Masking : 0
Post Crop Vignette Amount : 0
Grain Amount : 0
Lens Profile Enable : 0
Lens Manual Distortion Amount : 0
Perspective Vertical : 0
Perspective Horizontal : 0
Perspective Rotate : 0.0
Perspective Scale : 100
Convert To Grayscale : False
Tone Curve Name : Linear
Camera Profile : Adobe Standard
Lens Profile Setup : LensDefaults
Has Settings : True
Has Crop : False
Already Applied : True
Creator : William Anderson
Rights : 2011 Wm. R. Anderson
Tone Curve : 0, 0, 255, 255
Image Width : 199
Image Height : 300
Bits Per Sample : 8
Color Components : 3
Aperture : 6.3
Image Size : 199x300
Megapixels : 0.060
Scale Factor To 35 mm Equivalent : 1.5
Shutter Speed : 1/4
Create Date : 2011:09:05 19:06:45.80
Date/Time Original : 2011:09:05 19:06:45.80
Circle Of Confusion : 0.020 mm
Depth Of Field : 0.000 m (0.030 - 0.030 m)
Field Of View : 53.1 deg
Focal Length : 24.0 mm (35 mm equivalent: 36.0 mm)
Hyperfocal Distance : 4.56 m
Light Value : 5.0
Lens ID : AF Nikkor 24mm f/2.8