Uber Exif Photo
Make : NIKON CORPORATION
Camera Model Name : NIKON D90
Software : Ver.1.00
Modify Date : 2011:03:10 23:01:01
Exposure Time : 1/60
F Number : 3.5
Exposure Program : Shutter speed priority AE
ISO : 1600
Sensitivity Type : Unknown
Date/Time Original : 2011:03:10 20:49:54
Create Date : 2011:03:10 20:49:54
Shutter Speed Value : 1/60
Aperture Value : 3.5
Exposure Compensation : 0
Max Aperture Value : 3.6
Subject Distance : 2.82 m
Metering Mode : Multi-segment
Light Source : Unknown
Focal Length : 18.0 mm
Sensing Method : One-chip color area
Scene Type : Directly photographed
CFA Pattern : [Green,Blue][Red,Green]
Custom Rendered : Normal
Exposure Mode : Auto
White Balance : Auto
Digital Zoom Ratio : 1
Focal Length In 35mm Format : 27 mm
Scene Capture Type : Portrait
Gain Control : High gain up
Contrast : Normal
Saturation : Normal
Sharpness : Normal
Subject Distance Range : Unknown
Serial Number : 3357909
Lens Info : 18-105mm f/3.5-5.6
Lens Model : 18.0-105.0 mm f/3.5-5.6
Profile Description : sRGB IEC61966-2.1
Date/Time Digitized : 2011:03:10 20:49:54.00-06:00
Exif Image Width : 797
Exif Image Height : 1200
Creator Tool : Adobe Photoshop Lightroom 3.3
Lens : 18.0-105.0 mm f/3.5-5.6
Image Number : 12479
Approximate Focus Distance : 2.82
Version : 6.3
Process Version : 5.7
Color Temperature : 4950
Tint : -1
Exposure : 0.00
Shadows : 4
Brightness : +65
Luminance Smoothing : 0
Color Noise Reduction : 25
Chromatic Aberration R : 0
Chromatic Aberration B : 0
Vignette Amount : 0
Shadow Tint : 0
Red Hue : 0
Red Saturation : 0
Green Hue : 0
Green Saturation : 0
Blue Hue : 0
Blue Saturation : 0
Fill Light : 0
Vibrance : 0
Highlight Recovery : 19
Clarity : 0
Defringe : 0
Hue Adjustment Red : 0
Hue Adjustment Orange : 0
Hue Adjustment Yellow : 0
Hue Adjustment Green : 0
Hue Adjustment Aqua : 0
Hue Adjustment Blue : 0
Hue Adjustment Purple : 0
Hue Adjustment Magenta : 0
Saturation Adjustment Red : 0
Saturation Adjustment Orange : 0
Saturation Adjustment Yellow : 0
Saturation Adjustment Green : 0
Saturation Adjustment Aqua : 0
Saturation Adjustment Blue : 0
Saturation Adjustment Purple : 0
Saturation Adjustment Magenta : 0
Luminance Adjustment Red : 0
Luminance Adjustment Orange : 0
Luminance Adjustment Yellow : 0
Luminance Adjustment Green : 0
Luminance Adjustment Aqua : 0
Luminance Adjustment Blue : 0
Luminance Adjustment Purple : 0
Luminance Adjustment Magenta : 0
Split Toning Shadow Hue : 0
Split Toning Shadow Saturation : 0
Split Toning Highlight Hue : 0
Split Toning Highlight Saturation : 0
Split Toning Balance : 0
Parametric Shadows : 0
Parametric Darks : 0
Parametric Lights : 0
Parametric Highlights : 0
Parametric Shadow Split : 25
Parametric Midtone Split : 50
Parametric Highlight Split : 75
Sharpen Radius : +1.0
Sharpen Detail : 25
Sharpen Edge Masking : 0
Post Crop Vignette Amount : 0
Grain Amount : 0
Color Noise Reduction Detail : 50
Lens Profile Enable : 0
Lens Manual Distortion Amount : 0
Perspective Vertical : 0
Perspective Horizontal : 0
Perspective Rotate : 0.0
Perspective Scale : 100
Convert To Grayscale : False
Tone Curve Name : Medium Contrast
Camera Profile : Adobe Standard
Lens Profile Setup : LensDefaults
Has Settings : True
Has Crop : False
Already Applied : True
Flash Fired : True
Flash Return : Return detected
Flash Mode : On
Flash Function : False
Flash Red Eye Mode : False
Tone Curve : 0, 0, 32, 22, 64, 56, 128, 128, 192, 196, 255, 255
Image Width : 199
Image Height : 300
Bits Per Sample : 8
Color Components : 3
Aperture : 3.5
Image Size : 199x300
Megapixels : 0.060
Scale Factor To 35 mm Equivalent : 1.5
Shutter Speed : 1/60
Create Date : 2011:03:10 20:49:54.00
Date/Time Original : 2011:03:10 20:49:54.00
Flash : On, Return detected
Circle Of Confusion : 0.020 mm
Depth Of Field : 5.41 m (1.76 - 7.16 m)
Field Of View : 67.4 deg
Focal Length : 18.0 mm (35 mm equivalent: 27.0 mm)
Hyperfocal Distance : 4.62 m
Light Value : 5.5
Lens ID : AF-S DX VR Zoom-Nikkor 18-105mm f/3.5-5.6G ED