Uber Exif Photo
Make : NIKON CORPORATION
Camera Model Name : NIKON D90
Software : Ver.1.00
Modify Date : 2010:07:05 21:38:11
Exposure Time : 1/400
F Number : 4.0
Exposure Program : Aperture-priority AE
ISO : 200
Date/Time Original : 2010:04:26 20:03:27
Create Date : 2010:04:26 20:03:27
Shutter Speed Value : 1/400
Aperture Value : 4.0
Exposure Compensation : -1
Max Aperture Value : 4.0
Subject Distance : 1.68 m
Metering Mode : Multi-segment
Light Source : Unknown
Focal Length : 28.0 mm
Sensing Method : One-chip color area
Scene Type : Directly photographed
CFA Pattern : [Green,Blue][Red,Green]
Custom Rendered : Normal
Exposure Mode : Auto
White Balance : Auto
Digital Zoom Ratio : 1
Focal Length In 35mm Format : 42 mm
Scene Capture Type : Standard
Gain Control : None
Contrast : Normal
Saturation : Normal
Sharpness : Normal
Subject Distance Range : Unknown
Profile Description : sRGB IEC61966-2.1
Date/Time Digitized : 2010:04:26 20:03:27.00-05:00
Exif Image Width : 1000
Exif Image Height : 595
Creator Tool : Adobe Photoshop Lightroom
Serial Number : 3357909
Lens Info : 18-105mm f/3.5-5.6
Lens : 18.0-105.0 mm f/3.5-5.6
Image Number : 827
Version : 6.1
Process Version : 5.7
Incremental Temperature : -2
Incremental Tint : -11
Exposure : 0.00
Shadows : 15
Brightness : +50
Luminance Smoothing : 15
Color Noise Reduction : 25
Chromatic Aberration R : 0
Chromatic Aberration B : 0
Vignette Amount : -14
Vignette Midpoint : 64
Shadow Tint : -76
Red Hue : +100
Red Saturation : -12
Green Hue : +100
Green Saturation : +12
Blue Hue : -100
Blue Saturation : +2
Fill Light : 63
Vibrance : -29
Highlight Recovery : 100
Clarity : 0
Defringe : 2
Hue Adjustment Red : +19
Hue Adjustment Orange : 0
Hue Adjustment Yellow : 0
Hue Adjustment Green : 0
Hue Adjustment Aqua : +100
Hue Adjustment Blue : 0
Hue Adjustment Purple : 0
Hue Adjustment Magenta : 0
Saturation Adjustment Red : -100
Saturation Adjustment Orange : -43
Saturation Adjustment Yellow : -76
Saturation Adjustment Green : -50
Saturation Adjustment Aqua : -100
Saturation Adjustment Blue : -62
Saturation Adjustment Purple : -100
Saturation Adjustment Magenta : -100
Luminance Adjustment Red : 0
Luminance Adjustment Orange : +14
Luminance Adjustment Yellow : +7
Luminance Adjustment Green : +10
Luminance Adjustment Aqua : +38
Luminance Adjustment Blue : +100
Luminance Adjustment Purple : 0
Luminance Adjustment Magenta : 0
Split Toning Shadow Hue : 43
Split Toning Shadow Saturation : 5
Split Toning Highlight Hue : 51
Split Toning Highlight Saturation : 29
Split Toning Balance : 0
Parametric Shadows : 0
Parametric Darks : 0
Parametric Lights : +39
Parametric Highlights : 0
Parametric Shadow Split : 25
Parametric Midtone Split : 50
Parametric Highlight Split : 75
Sharpen Radius : +1.0
Sharpen Detail : 25
Sharpen Edge Masking : 0
Post Crop Vignette Amount : 0
Grain Amount : 56
Grain Size : 38
Grain Frequency : 39
Luminance Noise Reduction Detail : 50
Color Noise Reduction Detail : 50
Luminance Noise Reduction Contrast : 0
Lens Profile Enable : 0
Lens Manual Distortion Amount : 0
Perspective Vertical : 0
Perspective Horizontal : 0
Perspective Rotate : 0.0
Perspective Scale : 100
Convert To Grayscale : False
Tone Curve Name : Medium Contrast
Camera Profile : ACR 3.4
Lens Profile Setup : LensDefaults
Has Settings : True
Crop Top : 0.254717
Crop Left : 0.338558
Crop Bottom : 0.801887
Crop Right : 0.554859
Crop Angle : 0
Crop Constrain To Warp : 0
Crop Width : 595
Crop Height : 1000
Crop Unit : pixels
Has Crop : True
Already Applied : True
Flash Fired : False
Flash Return : No return detection
Flash Mode : Unknown
Flash Function : False
Flash Red Eye Mode : False
Tone Curve : 0, 0, 32, 22, 64, 56, 128, 128, 192, 196, 255, 255
Image Width : 300
Image Height : 179
Bits Per Sample : 8
Color Components : 3
Aperture : 4.0
Image Size : 300x179
Megapixels : 0.054
Scale Factor To 35 mm Equivalent : 1.5
Shutter Speed : 1/400
Create Date : 2010:04:26 20:03:27.00
Date/Time Original : 2010:04:26 20:03:27.00
Flash : No Flash
Circle Of Confusion : 0.020 mm
Depth Of Field : 0.58 m (1.44 - 2.02 m)
Field Of View : 46.4 deg
Focal Length : 28.0 mm (35 mm equivalent: 42.0 mm)
Hyperfocal Distance : 9.78 m
Light Value : 11.6
Lens ID : AF-S DX VR Zoom-Nikkor 18-105mm f/3.5-5.6G ED