Uber Exif Photo
Make : NIKON CORPORATION
Camera Model Name : NIKON D7000
Software : Adobe Photoshop Lightroom 3.6 (Macintosh)
Modify Date : 2011:11:24 19:04:13
Exposure Time : 1/100
F Number : 5.6
Exposure Program : Manual
ISO : 100
Sensitivity Type : Recommended Exposure Index
Date/Time Original : 2010:12:09 20:36:20
Create Date : 2010:12:09 20:36:20
Shutter Speed Value : 1/100
Aperture Value : 5.6
Exposure Compensation : 0
Max Aperture Value : 4.0
Metering Mode : Multi-segment
Light Source : Unknown
Flash : Off, Did not fire
Focal Length : 24.0 mm
Sensing Method : One-chip color area
Scene Type : Directly photographed
CFA Pattern : [Red,Green][Green,Blue]
Custom Rendered : Normal
Exposure Mode : Manual
White Balance : Auto
Digital Zoom Ratio : 1
Focal Length In 35mm Format : 36 mm
Scene Capture Type : Standard
Gain Control : None
Contrast : Normal
Saturation : Normal
Sharpness : Normal
Subject Distance Range : Unknown
Serial Number : 3009475
Lens Info : 12-24mm f/4
Lens Model : 12.0-24.0 mm f/4.0
Creator Tool : Adobe Photoshop Lightroom 3.6 (Macintosh)
Lens : 12.0-24.0 mm f/4.0
Image Number : 2020
Version : 6.6
Process Version : 5.7
Color Temperature : 5000
Tint : +3
Exposure : 0.00
Shadows : 6
Brightness : +35
Luminance Smoothing : 5
Color Noise Reduction : 100
Chromatic Aberration R : 0
Chromatic Aberration B : 0
Vignette Amount : -38
Vignette Midpoint : 50
Shadow Tint : 0
Red Hue : 0
Red Saturation : 0
Green Hue : 0
Green Saturation : 0
Blue Hue : 0
Blue Saturation : 0
Fill Light : 0
Highlight Recovery : 13
Clarity : +100
Defringe : 0
Gray Mixer Red : +48
Gray Mixer Orange : +13
Gray Mixer Yellow : -15
Gray Mixer Green : -36
Gray Mixer Aqua : -21
Gray Mixer Blue : +22
Gray Mixer Purple : +47
Gray Mixer Magenta : +33
Split Toning Shadow Hue : 0
Split Toning Shadow Saturation : 0
Split Toning Highlight Hue : 0
Split Toning Highlight Saturation : 0
Split Toning Balance : 0
Parametric Shadows : 0
Parametric Darks : 0
Parametric Lights : 0
Parametric Highlights : 0
Parametric Shadow Split : 25
Parametric Midtone Split : 50
Parametric Highlight Split : 75
Sharpen Radius : +3.0
Sharpen Detail : 14
Sharpen Edge Masking : 75
Post Crop Vignette Amount : -42
Post Crop Vignette Midpoint : 77
Post Crop Vignette Feather : 50
Post Crop Vignette Roundness : 0
Post Crop Vignette Style : Highlight Priority
Post Crop Vignette Highlight Contrast : 0
Grain Amount : 0
Luminance Noise Reduction Detail : 50
Color Noise Reduction Detail : 50
Luminance Noise Reduction Contrast : 0
Lens Profile Enable : 0
Lens Manual Distortion Amount : 0
Perspective Vertical : 0
Perspective Horizontal : 0
Perspective Rotate : 0.0
Perspective Scale : 100
Convert To Grayscale : True
Tone Curve Name : Medium Contrast
Camera Profile : Adobe Standard
Lens Profile Setup : LensDefaults
Has Settings : True
Crop Top : 0.270469
Crop Left : 0.039301
Crop Bottom : 0.850144
Crop Right : 0.618976
Crop Angle : 0
Crop Constrain To Warp : 0
Crop Width : 900
Crop Height : 596
Crop Unit : pixels
Has Crop : True
Already Applied : True
Format : image/jpeg
Date Created : 2010:12:09 20:36:20.90-06:00
Tone Curve : 0, 0, 32, 22, 64, 56, 128, 128, 192, 196, 255, 255
Derived From : Image Width : 300
Image Height : 199
Bits Per Sample : 8
Color Components : 1
Aperture : 5.6
Image Size : 300x199
Megapixels : 0.060
Scale Factor To 35 mm Equivalent : 1.5
Shutter Speed : 1/100
Create Date : 2010:12:09 20:36:20.90
Date/Time Original : 2010:12:09 20:36:20.90
Circle Of Confusion : 0.020 mm
Field Of View : 53.1 deg
Focal Length : 24.0 mm (35 mm equivalent: 36.0 mm)
Hyperfocal Distance : 5.13 m
Light Value : 11.6
Lens ID : 12.0-24.0mm f/4.0