Uber Exif Photo
Make : NIKON CORPORATION
Camera Model Name : NIKON D90
Software : Ver.1.00
Modify Date : 2011:01:10 06:47:16
Exposure Time : 1/60
F Number : 8.0
Exposure Program : Manual
ISO : 200
Sensitivity Type : Unknown
Date/Time Original : 2010:11:06 15:51:13
Create Date : 2010:11:06 15:51:13
Shutter Speed Value : 1/60
Aperture Value : 8.0
Exposure Compensation : 0
Max Aperture Value : 2.8
Subject Distance : 3.55 m
Metering Mode : Multi-segment
Light Source : Unknown
Focal Length : 42.0 mm
Sensing Method : One-chip color area
Scene Type : Directly photographed
CFA Pattern : [Green,Blue][Red,Green]
Custom Rendered : Normal
Exposure Mode : Manual
White Balance : Auto
Digital Zoom Ratio : 1
Focal Length In 35mm Format : 63 mm
Scene Capture Type : Standard
Gain Control : None
Contrast : Normal
Saturation : Normal
Sharpness : Normal
Subject Distance Range : Unknown
Serial Number : 3357909
Lens Info : 17-50mm f/2.8
Lens Model : 17.0-50.0 mm f/2.8
Profile Description : sRGB IEC61966-2.1
Date/Time Digitized : 2010:11:06 15:51:13.00-05:00
Exif Image Width : 1024
Exif Image Height : 680
Creator Tool : Adobe Photoshop Lightroom 3.3
Lens : 17.0-50.0 mm f/2.8
Image Number : 11461
Approximate Focus Distance : 3.55
Version : 6.3
Process Version : 5.7
Color Temperature : 4050
Tint : +1
Exposure : +0.42
Shadows : 5
Brightness : +34
Luminance Smoothing : 0
Color Noise Reduction : 25
Chromatic Aberration R : 0
Chromatic Aberration B : 0
Vignette Amount : 0
Shadow Tint : 0
Red Hue : 0
Red Saturation : 0
Green Hue : 0
Green Saturation : 0
Blue Hue : 0
Blue Saturation : 0
Fill Light : 24
Vibrance : 0
Highlight Recovery : 30
Clarity : 0
Defringe : 0
Hue Adjustment Red : 0
Hue Adjustment Orange : 0
Hue Adjustment Yellow : 0
Hue Adjustment Green : 0
Hue Adjustment Aqua : 0
Hue Adjustment Blue : 0
Hue Adjustment Purple : 0
Hue Adjustment Magenta : 0
Saturation Adjustment Red : 0
Saturation Adjustment Orange : 0
Saturation Adjustment Yellow : 0
Saturation Adjustment Green : 0
Saturation Adjustment Aqua : 0
Saturation Adjustment Blue : 0
Saturation Adjustment Purple : 0
Saturation Adjustment Magenta : 0
Luminance Adjustment Red : 0
Luminance Adjustment Orange : 0
Luminance Adjustment Yellow : 0
Luminance Adjustment Green : 0
Luminance Adjustment Aqua : 0
Luminance Adjustment Blue : 0
Luminance Adjustment Purple : 0
Luminance Adjustment Magenta : 0
Split Toning Shadow Hue : 0
Split Toning Shadow Saturation : 0
Split Toning Highlight Hue : 0
Split Toning Highlight Saturation : 0
Split Toning Balance : 0
Parametric Shadows : 0
Parametric Darks : 0
Parametric Lights : 0
Parametric Highlights : 0
Parametric Shadow Split : 25
Parametric Midtone Split : 50
Parametric Highlight Split : 75
Sharpen Radius : +1.0
Sharpen Detail : 25
Sharpen Edge Masking : 0
Post Crop Vignette Amount : 0
Grain Amount : 0
Color Noise Reduction Detail : 50
Lens Profile Enable : 0
Lens Manual Distortion Amount : 0
Perspective Vertical : 0
Perspective Horizontal : 0
Perspective Rotate : 0.0
Perspective Scale : 100
Convert To Grayscale : False
Tone Curve Name : Medium Contrast
Camera Profile : Adobe Standard
Lens Profile Setup : LensDefaults
Has Settings : True
Has Crop : False
Already Applied : True
Flash Fired : False
Flash Return : No return detection
Flash Mode : Unknown
Flash Function : False
Flash Red Eye Mode : False
Tone Curve : 0, 0, 32, 22, 64, 56, 128, 128, 192, 196, 255, 255
Image Width : 300
Image Height : 199
Bits Per Sample : 8
Color Components : 3
Aperture : 8.0
Image Size : 300x199
Megapixels : 0.060
Scale Factor To 35 mm Equivalent : 1.5
Shutter Speed : 1/60
Create Date : 2010:11:06 15:51:13.00
Date/Time Original : 2010:11:06 15:51:13.00
Flash : No Flash
Circle Of Confusion : 0.020 mm
Depth Of Field : 2.52 m (2.69 - 5.21 m)
Field Of View : 31.9 deg
Focal Length : 42.0 mm (35 mm equivalent: 63.0 mm)
Hyperfocal Distance : 11.01 m
Light Value : 10.9
Lens ID : Tamron SP AF 17-50mm f/2.8 XR Di II VC LD Aspherical (IF) (B005)