Uber Exif Photo
By-line : MOEQRIE
Copyright Notice : MOEQRIE 2010
Copyright Flag : False
Make : NIKON CORPORATION
Camera Model Name : NIKON D700
Orientation : Horizontal (normal)
Software : Adobe Photoshop CS3 Windows
Modify Date : 2010:11:07 12:08:04
Artist : MOEQRIE
Copyright : MOEQRIE 2010
Exposure Time : 1/125
F Number : 4.8
Exposure Program : Manual
ISO : 800
Date/Time Original : 2010:11:06 20:45:46
Create Date : 2010:11:06 20:45:46
Shutter Speed Value : 1/125
Aperture Value : 4.8
Exposure Compensation : 0
Max Aperture Value : 4.8
Subject Distance : 4294967295 m
Metering Mode : Spot
Light Source : Unknown
Focal Length : 340.0 mm
Color Space : sRGB
Exif Image Width : 758
Exif Image Height : 1178
Sensing Method : One-chip color area
Scene Type : Directly photographed
CFA Pattern : [Red,Green][Green,Blue]
Custom Rendered : Normal
Exposure Mode : Manual
White Balance : Auto
Digital Zoom Ratio : 1
Focal Length In 35mm Format : 340 mm
Scene Capture Type : Standard
Gain Control : Low gain up
Contrast : Normal
Saturation : Normal
Sharpness : Normal
Subject Distance Range : Unknown
Profile Description : sRGB IEC61966-2.1
Date/Time Digitized : 2010:11:06 20:45:46.56+01:00
Creator Tool : Adobe Photoshop CS3 Windows
Serial Number : 2152929
Lens Info : 80-200mm f/2.8
Lens : 80.0-200.0 mm f/2.8
Image Number : 16276
Version : 6.1
Process Version : 5.7
Color Temperature : 7402
Tint : +12
Exposure : +0.97
Shadows : 8
Brightness : +30
Luminance Smoothing : 25
Color Noise Reduction : 25
Chromatic Aberration R : 0
Chromatic Aberration B : 0
Vignette Amount : 0
Shadow Tint : 0
Red Hue : 0
Red Saturation : 0
Green Hue : 0
Green Saturation : 0
Blue Hue : 0
Blue Saturation : 0
Fill Light : 37
Vibrance : 0
Highlight Recovery : 20
Clarity : 0
Defringe : 0
Hue Adjustment Red : 0
Hue Adjustment Orange : 0
Hue Adjustment Yellow : 0
Hue Adjustment Green : 0
Hue Adjustment Aqua : 0
Hue Adjustment Blue : 0
Hue Adjustment Purple : 0
Hue Adjustment Magenta : 0
Saturation Adjustment Red : 0
Saturation Adjustment Orange : 0
Saturation Adjustment Yellow : 0
Saturation Adjustment Green : 0
Saturation Adjustment Aqua : 0
Saturation Adjustment Blue : 0
Saturation Adjustment Purple : 0
Saturation Adjustment Magenta : 0
Luminance Adjustment Red : 0
Luminance Adjustment Orange : 0
Luminance Adjustment Yellow : 0
Luminance Adjustment Green : 0
Luminance Adjustment Aqua : 0
Luminance Adjustment Blue : 0
Luminance Adjustment Purple : 0
Luminance Adjustment Magenta : 0
Split Toning Shadow Hue : 0
Split Toning Shadow Saturation : 0
Split Toning Highlight Hue : 0
Split Toning Highlight Saturation : 0
Split Toning Balance : 0
Parametric Shadows : 0
Parametric Darks : 0
Parametric Lights : 0
Parametric Highlights : 0
Parametric Shadow Split : 25
Parametric Midtone Split : 50
Parametric Highlight Split : 75
Sharpen Radius : +1.0
Sharpen Detail : 25
Sharpen Edge Masking : 0
Post Crop Vignette Amount : 0
Grain Amount : 0
Luminance Noise Reduction Detail : 50
Color Noise Reduction Detail : 50
Luminance Noise Reduction Contrast : 0
Lens Profile Enable : 0
Lens Manual Distortion Amount : 0
Perspective Vertical : 0
Perspective Horizontal : 0
Perspective Rotate : 0.0
Perspective Scale : 100
Convert To Grayscale : False
Tone Curve Name : Medium Contrast
Camera Profile : Adobe Standard
Lens Profile Setup : LensDefaults
Has Settings : True
Has Crop : False
Already Applied : True
Color Mode : RGB
ICC Profile Name : sRGB IEC61966-2.1
Flash Fired : False
Flash Return : No return detection
Flash Mode : Unknown
Flash Function : False
Flash Red Eye Mode : False
Tone Curve : 0, 0, 32, 22, 64, 56, 128, 128, 192, 196, 255, 255
Creator : MOEQRIE
Rights : MOEQRIE 2010
Derived From : Image Width : 193
Image Height : 300
Bits Per Sample : 8
Color Components : 3
Aperture : 4.8
Image Size : 193x300
Megapixels : 0.058
Scale Factor To 35 mm Equivalent : 1.0
Shutter Speed : 1/125
Create Date : 2010:11:06 20:45:46.56
Date/Time Original : 2010:11:06 20:45:46.56
Flash : No Flash
Circle Of Confusion : 0.030 mm
Depth Of Field : inf (801.54 m - inf)
Field Of View : 6.1 deg
Focal Length : 340.0 mm (35 mm equivalent: 340.0 mm)
Hyperfocal Distance : 801.54 m
Light Value : 8.5
Lens ID : AF-S Zoom-Nikkor 80-200mm f/2.8D IF-ED