Uber Exif Photo
Photometric Interpretation : RGB
Make : NIKON CORPORATION
Camera Model Name : NIKON D300
Orientation : Horizontal (normal)
Samples Per Pixel : 3
Software : Adobe Photoshop CS5 Windows
Modify Date : 2012:02:16 15:51:45
Exposure Time : 1/100
F Number : 11.0
Exposure Program : Aperture-priority AE
ISO : 200
Sensitivity Type : Unknown
Date/Time Original : 2011:12:19 14:40:41
Create Date : 2011:12:19 14:40:41
Shutter Speed Value : 1/100
Aperture Value : 11.0
Exposure Compensation : 0
Max Aperture Value : 2.8
Subject Distance : 11.9 m
Metering Mode : Multi-segment
Light Source : Unknown
Flash : No Flash
Focal Length : 195.0 mm
Color Space : Uncalibrated
Exif Image Width : 1024
Exif Image Height : 702
Sensing Method : One-chip color area
Scene Type : Directly photographed
CFA Pattern : [Red,Green][Green,Blue]
Custom Rendered : Normal
Exposure Mode : Auto
White Balance : Auto
Digital Zoom Ratio : 1
Focal Length In 35mm Format : 292 mm
Scene Capture Type : Standard
Gain Control : None
Contrast : Normal
Saturation : Normal
Sharpness : Normal
Subject Distance Range : Unknown
Serial Number : 7061092
Lens Info : 70-200mm f/2.8
Lens Model : 70.0-200.0 mm f/2.8
Profile Description : Adobe RGB (1998)
Creator Tool : Adobe Photoshop CS5 Windows
Rating : 0
Lens : 70.0-200.0 mm f/2.8
Image Number : 16760
Approximate Focus Distance : 11.9
Raw File Name : DSC_6262.NEF
Version : 6.3
Process Version : 5.7
Color Temperature : 4600
Tint : +4
Exposure : -0.15
Shadows : 9
Brightness : +46
Luminance Smoothing : 0
Color Noise Reduction : 25
Chromatic Aberration R : 0
Chromatic Aberration B : 0
Vignette Amount : 0
Shadow Tint : 0
Red Hue : 0
Red Saturation : 0
Green Hue : 0
Green Saturation : 0
Blue Hue : 0
Blue Saturation : 0
Fill Light : 21
Vibrance : +18
Highlight Recovery : 5
Clarity : 0
Defringe : 0
Hue Adjustment Red : 0
Hue Adjustment Orange : 0
Hue Adjustment Yellow : 0
Hue Adjustment Green : 0
Hue Adjustment Aqua : 0
Hue Adjustment Blue : 0
Hue Adjustment Purple : 0
Hue Adjustment Magenta : 0
Saturation Adjustment Red : 0
Saturation Adjustment Orange : 0
Saturation Adjustment Yellow : 0
Saturation Adjustment Green : 0
Saturation Adjustment Aqua : 0
Saturation Adjustment Blue : 0
Saturation Adjustment Purple : 0
Saturation Adjustment Magenta : 0
Luminance Adjustment Red : 0
Luminance Adjustment Orange : 0
Luminance Adjustment Yellow : 0
Luminance Adjustment Green : 0
Luminance Adjustment Aqua : 0
Luminance Adjustment Blue : 0
Luminance Adjustment Purple : 0
Luminance Adjustment Magenta : 0
Split Toning Shadow Hue : 0
Split Toning Shadow Saturation : 0
Split Toning Highlight Hue : 0
Split Toning Highlight Saturation : 0
Split Toning Balance : 0
Parametric Shadows : 0
Parametric Darks : 0
Parametric Lights : 0
Parametric Highlights : 0
Parametric Shadow Split : 25
Parametric Midtone Split : 50
Parametric Highlight Split : 75
Sharpen Radius : +1.0
Sharpen Detail : 25
Sharpen Edge Masking : 0
Post Crop Vignette Amount : 0
Grain Amount : 0
Color Noise Reduction Detail : 50
Lens Profile Enable : 0
Lens Manual Distortion Amount : 0
Perspective Vertical : 0
Perspective Horizontal : 0
Perspective Rotate : 0.0
Perspective Scale : 100
Convert To Grayscale : False
Tone Curve Name : Medium Contrast
Camera Profile : Adobe Standard
Lens Profile Setup : LensDefaults
Has Settings : True
Has Crop : False
Already Applied : True
Sidecar For Extension : NEF
Date Created : 2011:12:19 14:40:41.058
Color Mode : RGB
ICC Profile Name : Adobe RGB (1998)
Format : image/jpeg
Tone Curve : 0, 0, 32, 22, 64, 56, 128, 128, 192, 196, 255, 255
Image Width : 300
Image Height : 206
Bits Per Sample : 8
Color Components : 3
Aperture : 11.0
Image Size : 300x206
Megapixels : 0.062
Scale Factor To 35 mm Equivalent : 1.5
Shutter Speed : 1/100
Create Date : 2011:12:19 14:40:41.58
Date/Time Original : 2011:12:19 14:40:41.58
Modify Date : 2012:02:16 15:51:45.58
Circle Of Confusion : 0.020 mm
Depth Of Field : 1.62 m (11.14 - 12.77 m)
Field Of View : 7.1 deg
Focal Length : 195.0 mm (35 mm equivalent: 292.0 mm)
Hyperfocal Distance : 172.28 m
Light Value : 12.6
Lens ID : AF-S Nikkor 70-200mm f/2.8G ED VR II