Uber Exif Photo
By-line : XINGLAI ZHUANG
Copyright Notice : 2018 XINGLAI ZHUANG, ALL RIGHTS RESEARVED
Make : NIKON CORPORATION
Camera Model Name : NIKON D850
Orientation : Horizontal (normal)
Software : Adobe Photoshop CC 2018 (Windows)
Modify Date : 2019:03:31 20:18:19
Artist : XINGLAI ZHUANG
Copyright : 2018 XINGLAI ZHUANG, ALL RIGHTS RESEARVED
Exposure Time : 1/2000
F Number : 6.3
Exposure Program : Manual
ISO : 1250
Sensitivity Type : Recommended Exposure Index
Recommended Exposure Index : 1250
Date/Time Original : 2019:03:31 09:44:08
Create Date : 2019:03:31 09:44:08
Shutter Speed Value : 1/2000
Aperture Value : 6.3
Exposure Compensation : 0
Max Aperture Value : 5.7
Metering Mode : Spot
Light Source : Unknown
Flash : No Flash
Focal Length : 480.0 mm
Color Space : Uncalibrated
Exif Image Width : 1080
Exif Image Height : 1920
Sensing Method : One-chip color area
Scene Type : Directly photographed
CFA Pattern : [Red,Green][Green,Blue]
Custom Rendered : Normal
Exposure Mode : Manual
White Balance : Auto
Focal Length In 35mm Format : 480 mm
Scene Capture Type : Standard
Gain Control : Low gain up
Contrast : Normal
Saturation : Normal
Sharpness : Normal
Subject Distance Range : Unknown
Serial Number : 9017196
Lens Info : 200-500mm f/5.6
Lens Model : 200.0-500.0 mm f/5.6
Profile Description : Adobe RGB (1998)
Creator Tool : NIKON D850 Ver.1.02
Rating : 0
Format : image/jpeg
Lens : 200.0-500.0 mm f/5.6
Image Number : 35728
Approximate Focus Distance : 4294967295
Date Created : 2019:03:31 09:44:08.007
Color Mode : RGB
ICC Profile Name : Adobe RGB (1998)
Version : 11.0
Process Version : 11.0
Color Temperature : 5250
Tint : +11
Luminance Smoothing : 35
Color Noise Reduction : 25
Vignette Amount : 0
Shadow Tint : 0
Red Hue : 0
Red Saturation : 0
Green Hue : 0
Green Saturation : 0
Blue Hue : 0
Blue Saturation : 0
Vibrance : 0
Hue Adjustment Red : 0
Hue Adjustment Orange : 0
Hue Adjustment Yellow : 0
Hue Adjustment Green : 0
Hue Adjustment Aqua : 0
Hue Adjustment Blue : 0
Hue Adjustment Purple : 0
Hue Adjustment Magenta : 0
Saturation Adjustment Red : 0
Saturation Adjustment Orange : 0
Saturation Adjustment Yellow : 0
Saturation Adjustment Green : 0
Saturation Adjustment Aqua : 0
Saturation Adjustment Blue : 0
Saturation Adjustment Purple : 0
Saturation Adjustment Magenta : 0
Luminance Adjustment Red : 0
Luminance Adjustment Orange : 0
Luminance Adjustment Yellow : 0
Luminance Adjustment Green : 0
Luminance Adjustment Aqua : 0
Luminance Adjustment Blue : 0
Luminance Adjustment Purple : 0
Luminance Adjustment Magenta : 0
Split Toning Shadow Hue : 0
Split Toning Shadow Saturation : 0
Split Toning Highlight Hue : 0
Split Toning Highlight Saturation : 0
Split Toning Balance : 0
Parametric Shadows : 0
Parametric Darks : 0
Parametric Lights : 0
Parametric Highlights : 0
Parametric Shadow Split : 25
Parametric Midtone Split : 50
Parametric Highlight Split : 75
Sharpen Radius : +1.0
Sharpen Detail : 25
Sharpen Edge Masking : 0
Post Crop Vignette Amount : 0
Grain Amount : 0
Luminance Noise Reduction Detail : 50
Color Noise Reduction Detail : 50
Luminance Noise Reduction Contrast : 0
Color Noise Reduction Smoothness : 50
Lens Profile Enable : 0
Lens Manual Distortion Amount : 0
Perspective Vertical : 0
Perspective Horizontal : 0
Perspective Rotate : 0.0
Perspective Scale : 100
Perspective Aspect : 0
Perspective Upright : Off
Perspective X : 0.00
Perspective Y : 0.00
Auto Lateral CA : 0
Exposure 2012 : +0.25
Contrast 2012 : +23
Highlights 2012 : -100
Shadows 2012 : +63
Whites 2012 : +2
Blacks 2012 : 0
Clarity 2012 : 0
Defringe Purple Amount : 0
Defringe Purple Hue Lo : 30
Defringe Purple Hue Hi : 70
Defringe Green Amount : 0
Defringe Green Hue Lo : 40
Defringe Green Hue Hi : 60
Dehaze : +17
Tone Map Strength : 0
Convert To Grayscale : False
Override Look Vignette : False
Tone Curve Name : Medium Contrast
Tone Curve Name 2012 : Linear
Camera Profile : Adobe Standard
Lens Profile Setup : LensDefaults
Has Settings : True
Has Crop : False
Already Applied : True
Raw File Name : DSC_5420.NEF
Creator : XINGLAI ZHUANG
Rights : 2018 XINGLAI ZHUANG, ALL RIGHTS RESEARVED
Tone Curve : 0, 0, 32, 22, 64, 56, 128, 128, 192, 196, 255, 255
Tone Curve Red : 0, 0, 255, 255
Tone Curve Green : 0, 0, 255, 255
Tone Curve Blue : 0, 0, 255, 255
Tone Curve PV2012 : 0, 0, 255, 255
Tone Curve PV2012 Red : 0, 0, 255, 255
Tone Curve PV2012 Green : 0, 0, 255, 255
Tone Curve PV2012 Blue : 0, 0, 255, 255
Look Name : Adobe Color
Look Amount : 1.000000
Look Supports Amount : false
Look Supports Monochrome : false
Look Supports Output Referred : false
Look Copyright : © 2018 Adobe Systems, Inc.
Look Group : Profiles
Look Parameters Version : 11.0
Look Parameters Process Version : 11.0
Look Parameters Convert To Grayscale : False
Look Parameters Camera Profile : Adobe Standard
Look Parameters Look Table : E1095149FDB39D7A057BAB208837E2E1
Look Parameters Tone Curve PV2012 : 0, 0, 22, 16, 40, 35, 127, 127, 224, 230, 240, 246, 255, 255
Look Parameters Tone Curve PV2012 Red : 0, 0, 255, 255
Look Parameters Tone Curve PV2012 Green : 0, 0, 255, 255
Look Parameters Tone Curve PV2012 Blue : 0, 0, 255, 255
Image Width : 350
Image Height : 622
Bits Per Sample : 8
Color Components : 3
Aperture : 6.3
Image Size : 350x622
Megapixels : 0.218
Scale Factor To 35 mm Equivalent : 1.0
Shutter Speed : 1/2000
Create Date : 2019:03:31 09:44:08.70
Date/Time Original : 2019:03:31 09:44:08.70
Modify Date : 2019:03:31 20:18:19.70
Circle Of Confusion : 0.030 mm
Depth Of Field : inf (1217.17 m - inf)
Field Of View : 4.3 deg
Focal Length : 480.0 mm (35 mm equivalent: 480.0 mm)
Hyperfocal Distance : 1217.17 m
Light Value : 12.6
Lens ID : AF-S Nikkor 200-500mm f/5.6E ED VR