Uber Exif Photo
Photometric Interpretation : RGB
Make : NIKON CORPORATION
Camera Model Name : NIKON D810
Orientation : Horizontal (normal)
Samples Per Pixel : 3
Software : Adobe Photoshop CS5 Macintosh
Modify Date : 2018:01:27 06:19:15
Exposure Time : 1/1250
F Number : 2.2
Exposure Program : Manual
ISO : 200
Sensitivity Type : Recommended Exposure Index
Date/Time Original : 2018:01:21 13:13:02
Create Date : 2018:01:21 13:13:02
Shutter Speed Value : 1/1250
Aperture Value : 2.2
Exposure Compensation : 0
Max Aperture Value : 1.4
Metering Mode : Multi-segment
Light Source : Unknown
Flash : Off, Did not fire
Focal Length : 58.0 mm
Color Space : sRGB
Exif Image Width : 1344
Exif Image Height : 914
Sensing Method : One-chip color area
Scene Type : Directly photographed
CFA Pattern : [Red,Green][Green,Blue]
Custom Rendered : Normal
Exposure Mode : Manual
White Balance : Auto
Digital Zoom Ratio : 1
Focal Length In 35mm Format : 58 mm
Scene Capture Type : Standard
Gain Control : None
Contrast : Normal
Saturation : Normal
Sharpness : Normal
Subject Distance Range : Unknown
Serial Number : 3010180
Lens Info : 58mm f/1.4
Lens Model : 58.0 mm f/1.4
Profile Description : sRGB IEC61966-2.1
Creator Tool : Adobe Photoshop Lightroom 6.0 (Macintosh)
Lens : 58.0 mm f/1.4
Image Number : 28192
Approximate Focus Distance : 5.01
Date Created : 2018:01:21 13:13:02.088
Color Mode : RGB
ICC Profile Name : sRGB IEC61966-2.1
Format : image/jpeg
Version : 9.0
Process Version : 6.7
Auto White Version : 134348800
Incremental Temperature : 0
Incremental Tint : 0
Luminance Smoothing : 0
Color Noise Reduction : 0
Vignette Amount : 0
Shadow Tint : 0
Red Hue : 0
Red Saturation : 0
Green Hue : 0
Green Saturation : 0
Blue Hue : 0
Blue Saturation : 0
Vibrance : 0
Hue Adjustment Red : 0
Hue Adjustment Orange : 0
Hue Adjustment Yellow : 0
Hue Adjustment Green : 0
Hue Adjustment Aqua : 0
Hue Adjustment Blue : 0
Hue Adjustment Purple : 0
Hue Adjustment Magenta : 0
Saturation Adjustment Red : 0
Saturation Adjustment Orange : 0
Saturation Adjustment Yellow : 0
Saturation Adjustment Green : 0
Saturation Adjustment Aqua : 0
Saturation Adjustment Blue : 0
Saturation Adjustment Purple : 0
Saturation Adjustment Magenta : 0
Luminance Adjustment Red : 0
Luminance Adjustment Orange : 0
Luminance Adjustment Yellow : 0
Luminance Adjustment Green : 0
Luminance Adjustment Aqua : 0
Luminance Adjustment Blue : 0
Luminance Adjustment Purple : 0
Luminance Adjustment Magenta : 0
Split Toning Shadow Hue : 0
Split Toning Shadow Saturation : 0
Split Toning Highlight Hue : 0
Split Toning Highlight Saturation : 0
Split Toning Balance : 0
Parametric Shadows : 0
Parametric Darks : 0
Parametric Lights : 0
Parametric Highlights : 0
Parametric Shadow Split : 25
Parametric Midtone Split : 50
Parametric Highlight Split : 75
Sharpen Radius : +1.0
Sharpen Detail : 25
Sharpen Edge Masking : 0
Post Crop Vignette Amount : 0
Grain Amount : 0
Lens Profile Enable : 0
Lens Manual Distortion Amount : 0
Perspective Vertical : 0
Perspective Horizontal : 0
Perspective Rotate : 0.0
Perspective Scale : 100
Perspective Aspect : 0
Perspective Upright : Off
Auto Lateral CA : 0
Exposure 2012 : +1.05
Contrast 2012 : 0
Highlights 2012 : -41
Shadows 2012 : 0
Whites 2012 : 0
Blacks 2012 : 0
Clarity 2012 : 0
Defringe Purple Amount : 0
Defringe Purple Hue Lo : 30
Defringe Purple Hue Hi : 70
Defringe Green Amount : 0
Defringe Green Hue Lo : 40
Defringe Green Hue Hi : 60
Convert To Grayscale : False
Tone Curve Name : Linear
Tone Curve Name 2012 : Linear
Camera Profile : Embedded
Lens Profile Setup : LensDefaults
Has Settings : True
Has Crop : False
Already Applied : True
Raw File Name : DSC_5119.jpg
Tone Curve : 0, 0, 255, 255
Tone Curve Red : 0, 0, 255, 255
Tone Curve Green : 0, 0, 255, 255
Tone Curve Blue : 0, 0, 255, 255
Tone Curve PV2012 : 0, 0, 255, 255
Tone Curve PV2012 Red : 0, 0, 255, 255
Tone Curve PV2012 Green : 0, 0, 255, 255
Tone Curve PV2012 Blue : 0, 0, 255, 255
Image Width : 300
Image Height : 204
Bits Per Sample : 8
Color Components : 3
Aperture : 2.2
Image Size : 300x204
Megapixels : 0.061
Scale Factor To 35 mm Equivalent : 1.0
Shutter Speed : 1/1250
Create Date : 2018:01:21 13:13:02.88
Date/Time Original : 2018:01:21 13:13:02.88
Circle Of Confusion : 0.030 mm
Depth Of Field : 0.98 m (4.57 - 5.55 m)
Field Of View : 34.5 deg
Focal Length : 58.0 mm (35 mm equivalent: 58.0 mm)
Hyperfocal Distance : 50.89 m
Light Value : 11.6
Lens ID : AF-S Nikkor 58mm f/1.4G