Uber Exif Photo
Make : NIKON CORPORATION
Camera Model Name : NIKON D700
Orientation : Horizontal (normal)
Software : Adobe Photoshop CS6 (Macintosh)
Modify Date : 2018:10:27 12:13:50
Exposure Time : 1/200
F Number : 2.8
Exposure Program : Manual
ISO : 200
Date/Time Original : 2018:10:25 09:35:14
Create Date : 2018:10:25 09:35:14
Shutter Speed Value : 1/200
Aperture Value : 2.8
Exposure Compensation : -1/3
Max Aperture Value : 1.0
Metering Mode : Center-weighted average
Light Source : Unknown
Flash : No Flash
Focal Length : 28.0 mm
Color Space : Uncalibrated
Exif Image Width : 1428
Exif Image Height : 1024
Sensing Method : One-chip color area
Scene Type : Directly photographed
CFA Pattern : [Red,Green][Green,Blue]
Custom Rendered : Normal
Exposure Mode : Manual
White Balance : Manual
Digital Zoom Ratio : 1
Focal Length In 35mm Format : 28 mm
Scene Capture Type : Standard
Gain Control : None
Contrast : Normal
Saturation : Normal
Sharpness : Normal
Subject Distance Range : Unknown
Serial Number : 2205982
Lens Info : 0mm f/0
Lens Model : 0.0 mm f/0.0
Profile Description : Adobe RGB (1998)
Creator Tool : Ver.1.01
Rating : 0
Lens : 0.0 mm f/0.0
Image Number : 88497
Date Created : 2018:10:25 09:35:14.042
Color Mode : RGB
ICC Profile Name : Adobe RGB (1998)
Format : image/jpeg
Raw File Name : DSC_9861.NEF
Version : 9.1.1
Process Version : 6.7
Auto White Version : 134348800
Color Temperature : 6000
Tint : -7
Luminance Smoothing : 0
Color Noise Reduction : 25
Vignette Amount : 0
Shadow Tint : 0
Red Hue : 0
Red Saturation : 0
Green Hue : 0
Green Saturation : 0
Blue Hue : 0
Blue Saturation : 0
Vibrance : 0
Hue Adjustment Red : 0
Hue Adjustment Orange : 0
Hue Adjustment Yellow : 0
Hue Adjustment Green : 0
Hue Adjustment Aqua : 0
Hue Adjustment Blue : 0
Hue Adjustment Purple : 0
Hue Adjustment Magenta : 0
Saturation Adjustment Red : 0
Saturation Adjustment Orange : 0
Saturation Adjustment Yellow : 0
Saturation Adjustment Green : 0
Saturation Adjustment Aqua : 0
Saturation Adjustment Blue : 0
Saturation Adjustment Purple : 0
Saturation Adjustment Magenta : 0
Luminance Adjustment Red : 0
Luminance Adjustment Orange : 0
Luminance Adjustment Yellow : 0
Luminance Adjustment Green : 0
Luminance Adjustment Aqua : 0
Luminance Adjustment Blue : 0
Luminance Adjustment Purple : 0
Luminance Adjustment Magenta : 0
Split Toning Shadow Hue : 0
Split Toning Shadow Saturation : 0
Split Toning Highlight Hue : 0
Split Toning Highlight Saturation : 0
Split Toning Balance : 0
Parametric Shadows : 0
Parametric Darks : 0
Parametric Lights : 0
Parametric Highlights : 0
Parametric Shadow Split : 25
Parametric Midtone Split : 50
Parametric Highlight Split : 75
Sharpen Radius : +1.0
Sharpen Detail : 25
Sharpen Edge Masking : 0
Post Crop Vignette Amount : 0
Grain Amount : 0
Color Noise Reduction Detail : 50
Color Noise Reduction Smoothness : 50
Lens Profile Enable : 0
Lens Manual Distortion Amount : 0
Perspective Vertical : 0
Perspective Horizontal : 0
Perspective Rotate : 0.0
Perspective Scale : 100
Perspective Aspect : 0
Perspective Upright : Off
Auto Lateral CA : 0
Exposure 2012 : -0.25
Contrast 2012 : 0
Highlights 2012 : -29
Shadows 2012 : +33
Whites 2012 : -10
Blacks 2012 : +18
Clarity 2012 : 0
Defringe Purple Amount : 0
Defringe Purple Hue Lo : 30
Defringe Purple Hue Hi : 70
Defringe Green Amount : 0
Defringe Green Hue Lo : 40
Defringe Green Hue Hi : 60
Dehaze : 0
Tone Map Strength : 0
Convert To Grayscale : False
Tone Curve Name : Medium Contrast
Tone Curve Name 2012 : Linear
Camera Profile : Adobe Standard
Lens Profile Setup : LensDefaults
Has Settings : True
Has Crop : False
Already Applied : True
Tone Curve : 0, 0, 32, 22, 64, 56, 128, 128, 192, 196, 255, 255
Tone Curve Red : 0, 0, 255, 255
Tone Curve Green : 0, 0, 255, 255
Tone Curve Blue : 0, 0, 255, 255
Tone Curve PV2012 : 0, 0, 255, 255
Tone Curve PV2012 Red : 0, 0, 255, 255
Tone Curve PV2012 Green : 0, 0, 255, 255
Tone Curve PV2012 Blue : 0, 0, 255, 255
Image Width : 350
Image Height : 251
Bits Per Sample : 8
Color Components : 3
Aperture : 2.8
Image Size : 350x251
Megapixels : 0.088
Scale Factor To 35 mm Equivalent : 1.0
Shutter Speed : 1/200
Create Date : 2018:10:25 09:35:14.42
Date/Time Original : 2018:10:25 09:35:14.42
Modify Date : 2018:10:27 12:13:50.42
Circle Of Confusion : 0.030 mm
Field Of View : 65.5 deg
Focal Length : 28.0 mm (35 mm equivalent: 28.0 mm)
Hyperfocal Distance : 9.32 m
Light Value : 9.6
Lens ID : 0.0mm f/0.0