Uber Exif Photo
By-line : John L Dobson
Copyright Notice : J L Dobson
Photometric Interpretation : RGB
Make : NIKON CORPORATION
Camera Model Name : NIKON D700
Orientation : Horizontal (normal)
Samples Per Pixel : 3
Planar Configuration : Chunky
Software : Adobe Photoshop CS4 Macintosh
Modify Date : 2010:04:17 23:06:59
Artist : John L Dobson
Copyright : J L Dobson
Exposure Time : 1/160
F Number : 5.0
Exposure Program : Aperture-priority AE
ISO : 400
Date/Time Original : 2010:03:26 13:41:34
Create Date : 2010:03:26 13:41:34
Shutter Speed Value : 1/160
Aperture Value : 5.0
Exposure Compensation : 0
Max Aperture Value : 2.8
Subject Distance : 1.5 m
Metering Mode : Multi-segment
Light Source : Unknown
Focal Length : 62.0 mm
Color Space : Uncalibrated
Exif Image Width : 1661
Exif Image Height : 2312
Sensing Method : One-chip color area
Scene Type : Directly photographed
CFA Pattern : [Red,Green][Green,Blue]
Custom Rendered : Normal
Exposure Mode : Auto
White Balance : Auto
Digital Zoom Ratio : 1
Focal Length In 35mm Format : 62 mm
Scene Capture Type : Standard
Gain Control : Low gain up
Contrast : Normal
Saturation : Normal
Sharpness : Normal
Subject Distance Range : Unknown
Profile Description : Adobe RGB (1998)
Date/Time Digitized : 2010:03:26 13:41:34.24Z
Creator Tool : Adobe Photoshop Lightroom
Format : image/jpeg
Serial Number : 2196757
Lens Info : 24-70mm f/2.8
Lens : 24.0-70.0 mm f/2.8
Image Number : 1081
Version : 5.6
Color Temperature : 4950
Tint : -4
Exposure : 0.00
Shadows : 10
Brightness : +50
Luminance Smoothing : 0
Color Noise Reduction : 25
Chromatic Aberration R : 0
Chromatic Aberration B : 0
Vignette Amount : 0
Shadow Tint : 0
Red Hue : 0
Red Saturation : 0
Green Hue : 0
Green Saturation : 0
Blue Hue : 0
Blue Saturation : 0
Fill Light : 10
Vibrance : 0
Highlight Recovery : 100
Clarity : 0
Defringe : 0
Hue Adjustment Red : 0
Hue Adjustment Orange : 0
Hue Adjustment Yellow : 0
Hue Adjustment Green : 0
Hue Adjustment Aqua : 0
Hue Adjustment Blue : 0
Hue Adjustment Purple : 0
Hue Adjustment Magenta : 0
Saturation Adjustment Red : 0
Saturation Adjustment Orange : 0
Saturation Adjustment Yellow : 0
Saturation Adjustment Green : 0
Saturation Adjustment Aqua : 0
Saturation Adjustment Blue : 0
Saturation Adjustment Purple : 0
Saturation Adjustment Magenta : 0
Luminance Adjustment Red : 0
Luminance Adjustment Orange : 0
Luminance Adjustment Yellow : 0
Luminance Adjustment Green : 0
Luminance Adjustment Aqua : 0
Luminance Adjustment Blue : 0
Luminance Adjustment Purple : 0
Luminance Adjustment Magenta : 0
Split Toning Shadow Hue : 0
Split Toning Shadow Saturation : 0
Split Toning Highlight Hue : 0
Split Toning Highlight Saturation : 0
Split Toning Balance : 0
Parametric Shadows : 0
Parametric Darks : 0
Parametric Lights : 0
Parametric Highlights : 0
Parametric Shadow Split : 25
Parametric Midtone Split : 50
Parametric Highlight Split : 75
Sharpen Radius : +1.5
Sharpen Detail : 25
Sharpen Edge Masking : 0
Post Crop Vignette Amount : 0
Convert To Grayscale : False
Tone Curve Name : Medium Contrast
Camera Profile : Adobe Standard
Has Settings : True
Crop Top : 0.04822
Crop Left : 0.31016
Crop Bottom : 0.864524
Crop Right : 0.700535
Crop Angle : 0
Crop Width : 1661
Crop Height : 2312
Crop Unit : pixels
Has Crop : True
Already Applied : True
Color Mode : RGB
ICC Profile Name : Adobe RGB (1998)
Flash Fired : False
Flash Return : No return detection
Flash Mode : Unknown
Flash Function : False
Flash Red Eye Mode : False
Creator : John L Dobson
Rights : J L Dobson
Tone Curve : 0, 0, 32, 22, 64, 56, 128, 128, 192, 196, 255, 255
Image Width : 215
Image Height : 300
Bits Per Sample : 8
Color Components : 3
Aperture : 5.0
Image Size : 215x300
Megapixels : 0.065
Scale Factor To 35 mm Equivalent : 1.0
Shutter Speed : 1/160
Create Date : 2010:03:26 13:41:34.24
Date/Time Original : 2010:03:26 13:41:34.24
Flash : No Flash
Circle Of Confusion : 0.030 mm
Depth Of Field : 0.17 m (1.42 - 1.59 m)
Field Of View : 32.4 deg
Focal Length : 62.0 mm (35 mm equivalent: 62.0 mm)
Hyperfocal Distance : 25.59 m
Light Value : 10.0
Lens ID : AF-S Zoom-Nikkor 24-70mm f/2.8G ED