Uber Exif Photo
Photometric Interpretation : RGB
Make : NIKON CORPORATION
Camera Model Name : NIKON Z 6
Orientation : Horizontal (normal)
Samples Per Pixel : 3
Planar Configuration : Chunky
Software : Adobe Photoshop 23.5 (Macintosh)
Modify Date : 2023:03:26 17:14:49
Exposure Time : 1/500
F Number : 8.0
Exposure Program : Manual
ISO : 500
Sensitivity Type : Recommended Exposure Index
Recommended Exposure Index : 500
Date/Time Original : 2023:03:25 14:39:22
Create Date : 2023:03:25 14:39:22
Shutter Speed Value : 1/500
Aperture Value : 8.0
Exposure Compensation : 0
Metering Mode : Multi-segment
Light Source : Unknown
Flash : No Flash
Focal Length : 24.0 mm
Color Space : Uncalibrated
Exif Image Width : 3949
Exif Image Height : 3262
Sensing Method : One-chip color area
Scene Type : Directly photographed
CFA Pattern : [Red,Green][Green,Blue]
Custom Rendered : Custom
Exposure Mode : Manual
White Balance : Auto
Focal Length In 35mm Format : 24 mm
Scene Capture Type : Standard
Gain Control : None
Contrast : Normal
Saturation : Normal
Sharpness : Soft
Subject Distance Range : Unknown
Serial Number : 6031629
Lens Info : 24-70mm f/4
Lens Make : NIKON
Lens Model : NIKKOR Z 24-70mm f/4 S
Lens Serial Number : 20021028
Creator Tool : Adobe Photoshop Lightroom Classic 12.2.1 (Macintosh)
Lens : NIKKOR Z 24-70mm f/4 S
Image Number : 1299
Distortion Correction Already Applied : True
Lateral Chromatic Aberration Correction Already Applied : True
Vignette Correction Already Applied : True
Date Created : 2023:03:25 14:39:22.008
Color Mode : RGB
ICC Profile Name : Adobe RGB (1998)
Preserved File Name : DSC_1299.NEF
Format : image/jpeg
Raw File Name : DSC_1299.NEF
Version : 15.2
Process Version : 11.0
Auto White Version : 134348800
Color Temperature : 7500
Tint : 0
Clarity : +50
Exposure 2012 : 0.00
Contrast 2012 : 0
Highlights 2012 : 0
Shadows 2012 : 0
Whites 2012 : 0
Blacks 2012 : 0
Texture : 0
Clarity 2012 : 0
Dehaze : 0
Vibrance : +25
Parametric Shadows : 0
Parametric Darks : 0
Parametric Lights : 0
Parametric Highlights : 0
Parametric Shadow Split : 25
Parametric Midtone Split : 50
Parametric Highlight Split : 75
Sharpen Radius : +1.0
Sharpen Detail : 25
Sharpen Edge Masking : 0
Luminance Smoothing : 0
Color Noise Reduction : 25
Color Noise Reduction Detail : 50
Color Noise Reduction Smoothness : 50
Gray Mixer Red : +39
Gray Mixer Orange : +12
Gray Mixer Yellow : -9
Gray Mixer Green : -17
Gray Mixer Aqua : -10
Gray Mixer Blue : +20
Gray Mixer Purple : +25
Gray Mixer Magenta : +32
Split Toning Shadow Hue : 37
Split Toning Shadow Saturation : 15
Split Toning Highlight Hue : 51
Split Toning Highlight Saturation : 5
Split Toning Balance : 0
Color Grade Midtone Hue : 0
Color Grade Midtone Sat : 0
Color Grade Shadow Lum : 0
Color Grade Midtone Lum : 0
Color Grade Highlight Lum : 0
Color Grade Blending : 100
Color Grade Global Hue : 0
Color Grade Global Sat : 0
Color Grade Global Lum : 0
Auto Lateral CA : 1
Lens Profile Enable : 1
Lens Manual Distortion Amount : 0
Vignette Amount : 0
Perspective Upright : Auto
Perspective Vertical : 0
Perspective Horizontal : 0
Perspective Rotate : 0.0
Perspective Aspect : 0
Perspective Scale : 100
Perspective X : 0.00
Perspective Y : 0.00
Grain Amount : 0
Post Crop Vignette Amount : 0
Shadow Tint : 0
Red Hue : 0
Red Saturation : 0
Green Hue : 0
Green Saturation : 0
Blue Hue : 0
Blue Saturation : 0
Convert To Grayscale : True
Override Look Vignette : False
Tone Curve Name 2012 : Medium Contrast
Camera Profile : Adobe Standard v2
Lens Profile Setup : LensDefaults
Has Settings : True
Crop Top : 0.06766
Crop Left : 0.132515
Crop Bottom : 0.878287
Crop Right : 0.785509
Crop Angle : 0
Crop Constrain To Warp : 0
Has Crop : True
Already Applied : True
Tone Curve PV2012 : 0, 0, 32, 22, 64, 56, 128, 128, 192, 196, 255, 255
Tone Curve PV2012 Red : 0, 0, 255, 255
Tone Curve PV2012 Green : 0, 0, 255, 255
Tone Curve PV2012 Blue : 0, 0, 255, 255
Profile Description : Adobe RGB (1998)
Image Width : 400
Image Height : 330
Bits Per Sample : 8
Color Components : 3
Aperture : 8.0
Image Size : 400x330
Megapixels : 0.132
Scale Factor To 35 mm Equivalent : 1.0
Shutter Speed : 1/500
Create Date : 2023:03:25 14:39:22.08+00:00
Date/Time Original : 2023:03:25 14:39:22.08+00:00
Modify Date : 2023:03:26 17:14:49+00:00
Circle Of Confusion : 0.030 mm
Field Of View : 73.7 deg
Focal Length : 24.0 mm (35 mm equivalent: 24.0 mm)
Hyperfocal Distance : 2.40 m
Light Value : 12.6
Lens ID : NIKKOR Z 24-70mm f/4 S