Uber Exif Photo
Photometric Interpretation : RGB
Make : NIKON CORPORATION
Camera Model Name : NIKON D5000
Orientation : Horizontal (normal)
Samples Per Pixel : 3
Software : Adobe Photoshop CS5 Windows
Modify Date : 2011:04:10 19:59:36
Exposure Time : 1/1000
F Number : 16.0
Exposure Program : Not Defined
ISO : 200
Sensitivity Type : Unknown
Date/Time Original : 2011:04:10 19:25:50
Create Date : 2011:04:10 19:27:40
Shutter Speed Value : 1/1000
Aperture Value : 16.0
Exposure Compensation : 0
Max Aperture Value : 5.7
Subject Distance : 4294967295 m
Metering Mode : Multi-segment
Light Source : Fine Weather
Flash : Auto, Did not fire
Focal Length : 55.0 mm
Color Space : Uncalibrated
Exif Image Width : 3424
Exif Image Height : 1920
Sensing Method : One-chip color area
Scene Type : Directly photographed
CFA Pattern : [Green,Blue][Red,Green]
Custom Rendered : Normal
Exposure Mode : Auto
White Balance : Manual
Digital Zoom Ratio : 1
Focal Length In 35mm Format : 82 mm
Scene Capture Type : Landscape
Gain Control : None
Contrast : Normal
Saturation : Normal
Sharpness : Normal
Subject Distance Range : Unknown
Serial Number : 7451212
Lens Info : 18-55mm f/3.5-5.6
Lens Model : 18.0-55.0 mm f/3.5-5.6
Creator Tool : Adobe Photoshop CS5 Windows
Lens : 18.0-55.0 mm f/3.5-5.6
Image Number : 4253
Approximate Focus Distance : 4294967295
Version : 6.3
Process Version : 5.7
Incremental Temperature : -31
Incremental Tint : +15
Exposure : -0.08
Shadows : 39
Brightness : +50
Luminance Smoothing : 0
Color Noise Reduction : 25
Chromatic Aberration R : 0
Chromatic Aberration B : 0
Vignette Amount : 0
Shadow Tint : -4
Red Hue : +100
Red Saturation : -100
Green Hue : +100
Green Saturation : +100
Blue Hue : -60
Blue Saturation : +3
Fill Light : 0
Vibrance : 0
Highlight Recovery : 0
Clarity : +100
Defringe : 0
Hue Adjustment Red : 0
Hue Adjustment Orange : 0
Hue Adjustment Yellow : 0
Hue Adjustment Green : 0
Hue Adjustment Aqua : +31
Hue Adjustment Blue : +4
Hue Adjustment Purple : 0
Hue Adjustment Magenta : 0
Saturation Adjustment Red : 0
Saturation Adjustment Orange : 0
Saturation Adjustment Yellow : 0
Saturation Adjustment Green : 0
Saturation Adjustment Aqua : +26
Saturation Adjustment Blue : +4
Saturation Adjustment Purple : 0
Saturation Adjustment Magenta : 0
Luminance Adjustment Red : 0
Luminance Adjustment Orange : 0
Luminance Adjustment Yellow : 0
Luminance Adjustment Green : 0
Luminance Adjustment Aqua : +23
Luminance Adjustment Blue : +3
Luminance Adjustment Purple : 0
Luminance Adjustment Magenta : 0
Split Toning Shadow Hue : 2
Split Toning Shadow Saturation : 95
Split Toning Highlight Hue : 0
Split Toning Highlight Saturation : 0
Split Toning Balance : 0
Parametric Shadows : 0
Parametric Darks : 0
Parametric Lights : 0
Parametric Highlights : 0
Parametric Shadow Split : 25
Parametric Midtone Split : 50
Parametric Highlight Split : 75
Sharpen Radius : +1.0
Sharpen Detail : 25
Sharpen Edge Masking : 0
Post Crop Vignette Amount : 0
Grain Amount : 0
Color Noise Reduction Detail : 50
Lens Profile Enable : 0
Lens Manual Distortion Amount : 0
Perspective Vertical : 0
Perspective Horizontal : 0
Perspective Rotate : 0.0
Perspective Scale : 100
Convert To Grayscale : False
Tone Curve Name : Medium Contrast
Camera Profile : Embedded
Lens Profile Setup : LensDefaults
Has Settings : True
Has Crop : False
Already Applied : True
Date Created : 2011:04:10 19:25:50.005
Color Mode : RGB
Format : image/jpeg
Tone Curve : 0, 0, 32, 22, 64, 56, 128, 128, 192, 196, 255, 255
Image Width : 300
Image Height : 168
Bits Per Sample : 8
Color Components : 3
Aperture : 16.0
Image Size : 300x168
Megapixels : 0.050
Scale Factor To 35 mm Equivalent : 1.5
Shutter Speed : 1/1000
Create Date : 2011:04:10 19:27:40.00
Date/Time Original : 2011:04:10 19:25:50.50
Circle Of Confusion : 0.020 mm
Depth Of Field : inf (9.38 m - inf)
Field Of View : 24.8 deg
Focal Length : 55.0 mm (35 mm equivalent: 82.0 mm)
Hyperfocal Distance : 9.38 m
Light Value : 17.0
Lens ID : AF-S DX VR Zoom-Nikkor 18-55mm f/3.5-5.6G