Uber Exif Photo
By-line : Max Deluca
Copyright Notice : Max Deluca
Make : NIKON CORPORATION
Camera Model Name : NIKON D5000
Software : Ver.1.00
Modify Date : 2011:04:09 18:09:58
Copyright : Max Deluca
Exposure Time : 1/400
F Number : 5.0
Exposure Program : Aperture-priority AE
ISO : 160
Sensitivity Type : Unknown
Date/Time Original : 2011:04:09 11:13:03
Create Date : 2011:04:09 11:13:03
Shutter Speed Value : 1/400
Aperture Value : 5.0
Exposure Compensation : +1
Max Aperture Value : 5.1
Subject Distance : 1.41 m
Metering Mode : Center-weighted average
Light Source : Fine Weather
Focal Length : 35.0 mm
Sensing Method : One-chip color area
Scene Type : Directly photographed
CFA Pattern : [Green,Blue][Red,Green]
Custom Rendered : Normal
Exposure Mode : Auto
White Balance : Manual
Digital Zoom Ratio : 1
Focal Length In 35mm Format : 52 mm
Scene Capture Type : Standard
Gain Control : None
Contrast : Normal
Saturation : Normal
Sharpness : Normal
Subject Distance Range : Unknown
Serial Number : 7451212
Lens Info : 18-55mm f/3.5-5.6
Lens Model : 18.0-55.0 mm f/3.5-5.6
Profile Description : sRGB IEC61966-2.1
Date/Time Digitized : 2011:04:09 11:13:03.00+01:00
Exif Image Width : 4288
Exif Image Height : 2848
Creator Tool : Adobe Photoshop Lightroom 3.3
Label : Delucamedia
Lens : 18.0-55.0 mm f/3.5-5.6
Image Number : 4211
Approximate Focus Distance : 1.41
Version : 6.3
Process Version : 5.7
Color Temperature : 6800
Tint : +63
Exposure : +0.70
Shadows : 8
Brightness : +57
Luminance Smoothing : 0
Color Noise Reduction : 25
Chromatic Aberration R : 0
Chromatic Aberration B : 0
Vignette Amount : -41
Vignette Midpoint : 48
Shadow Tint : 0
Red Hue : 0
Red Saturation : -34
Green Hue : 0
Green Saturation : 0
Blue Hue : 0
Blue Saturation : +63
Fill Light : 0
Highlight Recovery : 0
Clarity : 0
Defringe : 0
Gray Mixer Red : +10
Gray Mixer Orange : -5
Gray Mixer Yellow : -12
Gray Mixer Green : -19
Gray Mixer Aqua : -13
Gray Mixer Blue : +16
Gray Mixer Purple : +25
Gray Mixer Magenta : +19
Split Toning Shadow Hue : 30
Split Toning Shadow Saturation : 28
Split Toning Highlight Hue : 50
Split Toning Highlight Saturation : 66
Split Toning Balance : 0
Parametric Shadows : -20
Parametric Darks : -2
Parametric Lights : +2
Parametric Highlights : 0
Parametric Shadow Split : 25
Parametric Midtone Split : 50
Parametric Highlight Split : 75
Sharpen Radius : +1.0
Sharpen Detail : 25
Sharpen Edge Masking : 0
Post Crop Vignette Amount : 0
Grain Amount : 0
Color Noise Reduction Detail : 50
Lens Profile Enable : 0
Lens Manual Distortion Amount : 0
Perspective Vertical : 0
Perspective Horizontal : 0
Perspective Rotate : 0.0
Perspective Scale : 100
Convert To Grayscale : True
Tone Curve Name : Linear
Camera Profile : Adobe Standard
Lens Profile Setup : LensDefaults
Has Settings : True
Has Crop : False
Already Applied : True
Flash Fired : False
Flash Return : No return detection
Flash Mode : Unknown
Flash Function : False
Flash Red Eye Mode : False
Creator Country : UK
Creator Work Email : max.deluca@live.co.uk
Creator : Max Deluca
Rights : Max Deluca
Usage Terms : None
Tone Curve : 0, 0, 255, 255
Image Width : 300
Image Height : 199
Bits Per Sample : 8
Color Components : 3
Aperture : 5.0
Image Size : 300x199
Megapixels : 0.060
Scale Factor To 35 mm Equivalent : 1.5
Shutter Speed : 1/400
Create Date : 2011:04:09 11:13:03.00
Date/Time Original : 2011:04:09 11:13:03.00
Flash : No Flash
Circle Of Confusion : 0.020 mm
Depth Of Field : 0.32 m (1.27 - 1.59 m)
Field Of View : 38.2 deg
Focal Length : 35.0 mm (35 mm equivalent: 52.0 mm)
Hyperfocal Distance : 12.11 m
Light Value : 12.6
Lens ID : AF-S DX VR Zoom-Nikkor 18-55mm f/3.5-5.6G