Uber Exif Photo
By-line : RMPantke(c)rmp1006@hotmail.com
Copyright Notice : RMPantke
Make : NIKON CORPORATION
Camera Model Name : NIKON D700
Orientation : Horizontal (normal)
Software : Adobe Photoshop CS4 Macintosh
Modify Date : 2010:11:26 19:37:05
Artist : RMPantke(c)rmp1006@hotmail.com
Copyright : RMPantke
Exposure Time : 1/10
F Number : 2.0
Exposure Program : Manual
ISO : 200
Date/Time Original : 2010:11:24 11:19:43
Create Date : 2010:11:24 11:19:43
Shutter Speed Value : 1/10
Aperture Value : 2.0
Exposure Compensation : +5
Max Aperture Value : 1.0
Metering Mode : Spot
Light Source : Unknown
Focal Length : 35.0 mm
Color Space : sRGB
Exif Image Width : 443
Exif Image Height : 600
Sensing Method : One-chip color area
Scene Type : Directly photographed
CFA Pattern : [Red,Green][Green,Blue]
Custom Rendered : Normal
Exposure Mode : Manual
White Balance : Auto
Digital Zoom Ratio : 1
Focal Length In 35mm Format : 35 mm
Scene Capture Type : Standard
Gain Control : None
Contrast : Normal
Saturation : Normal
Sharpness : Normal
Subject Distance Range : Unknown
Profile Description : sRGB IEC61966-2.1
Date/Time Digitized : 2010:11:24 11:19:43.42+01:00
Creator Tool : Ver.1.02
Rating : 0
Serial Number : 2215464
Lens Info : 0mm f/0
Lens : 0.0 mm f/0.0
Image Number : 1401
Format : image/jpeg
Preserved File Name : _ROS1376.NEF
Raw File Name : 20101124_Federn_0150.dng
Version : 5.0
Color Temperature : 6400
Tint : -8
Exposure : +0.75
Shadows : 5
Brightness : +50
Luminance Smoothing : 0
Color Noise Reduction : 25
Chromatic Aberration R : -1
Chromatic Aberration B : 0
Vignette Amount : 0
Shadow Tint : 0
Red Hue : 0
Red Saturation : 0
Green Hue : 0
Green Saturation : 0
Blue Hue : 0
Blue Saturation : 0
Fill Light : 0
Vibrance : 0
Highlight Recovery : 0
Clarity : +63
Defringe : 0
Hue Adjustment Red : 0
Hue Adjustment Orange : 0
Hue Adjustment Yellow : 0
Hue Adjustment Green : 0
Hue Adjustment Aqua : 0
Hue Adjustment Blue : 0
Hue Adjustment Purple : 0
Hue Adjustment Magenta : 0
Saturation Adjustment Red : 0
Saturation Adjustment Orange : 0
Saturation Adjustment Yellow : 0
Saturation Adjustment Green : 0
Saturation Adjustment Aqua : 0
Saturation Adjustment Blue : 0
Saturation Adjustment Purple : 0
Saturation Adjustment Magenta : 0
Luminance Adjustment Red : 0
Luminance Adjustment Orange : 0
Luminance Adjustment Yellow : 0
Luminance Adjustment Green : 0
Luminance Adjustment Aqua : 0
Luminance Adjustment Blue : 0
Luminance Adjustment Purple : 0
Luminance Adjustment Magenta : 0
Split Toning Shadow Hue : 0
Split Toning Shadow Saturation : 0
Split Toning Highlight Hue : 0
Split Toning Highlight Saturation : 0
Split Toning Balance : 0
Parametric Shadows : 0
Parametric Darks : -21
Parametric Lights : +15
Parametric Highlights : 0
Parametric Shadow Split : 25
Parametric Midtone Split : 50
Parametric Highlight Split : 75
Sharpen Radius : +1.0
Sharpen Detail : 25
Sharpen Edge Masking : 0
Post Crop Vignette Amount : 0
Convert To Grayscale : False
Tone Curve Name : Medium Contrast
Camera Profile : Camera Neutral
Has Settings : True
Crop Top : 0
Crop Left : 0.246391
Crop Bottom : 1
Crop Right : 0.719923
Crop Angle : 0
Has Crop : True
Already Applied : True
Color Mode : RGB
ICC Profile Name : sRGB IEC61966-2.1
Flash Fired : False
Flash Return : No return detection
Flash Mode : Unknown
Flash Function : False
Flash Red Eye Mode : False
Rights : RMPantke
Creator : RMPantke(c)rmp1006@hotmail.com, RMpantke
Tone Curve : 0, 0, 32, 22, 64, 56, 128, 128, 192, 196, 255, 255
Image Width : 222
Image Height : 300
Bits Per Sample : 8
Color Components : 3
Aperture : 2.0
Image Size : 222x300
Megapixels : 0.067
Scale Factor To 35 mm Equivalent : 1.0
Shutter Speed : 1/10
Create Date : 2010:11:24 11:19:43.42
Date/Time Original : 2010:11:24 11:19:43.42
Modify Date : 2010:11:26 19:37:05.42
Flash : No Flash
Circle Of Confusion : 0.030 mm
Field Of View : 54.4 deg
Focal Length : 35.0 mm (35 mm equivalent: 35.0 mm)
Hyperfocal Distance : 20.39 m
Light Value : 4.3
Lens ID : 0.0mm f/0.0