Uber Exif Photo
By-line : RMPantke(c)rmp1006@hotmail.com
Copyright Notice : RMPantke
Make : NIKON CORPORATION
Camera Model Name : NIKON D700
Orientation : Horizontal (normal)
Software : Adobe Photoshop CS4 Macintosh
Modify Date : 2010:07:23 09:33:04
Artist : RMPantke(c)rmp1006@hotmail.com
Copyright : RMPantke
Exposure Time : 1/13
F Number : 4.0
Exposure Program : Manual
ISO : 200
Date/Time Original : 2010:07:20 21:22:02
Create Date : 2010:07:20 21:22:02
Shutter Speed Value : 1/13
Aperture Value : 4.0
Exposure Compensation : 0
Max Aperture Value : 1.0
Metering Mode : Multi-segment
Light Source : Unknown
Focal Length : 35.0 mm
Color Space : sRGB
Exif Image Width : 1024
Exif Image Height : 788
Sensing Method : One-chip color area
Scene Type : Directly photographed
CFA Pattern : [Red,Green][Green,Blue]
Custom Rendered : Normal
Exposure Mode : Manual
White Balance : Auto
Digital Zoom Ratio : 1
Focal Length In 35mm Format : 35 mm
Scene Capture Type : Standard
Gain Control : None
Contrast : Normal
Saturation : Normal
Sharpness : Normal
Subject Distance Range : Unknown
Profile Description : sRGB IEC61966-2.1
Date/Time Digitized : 2010:07:20 21:22:02.31+02:00
Creator Tool : Ver.1.02
Rating : 0
Format : image/jpeg
Serial Number : 2215464
Lens Info : 0mm f/0
Lens : 0.0 mm f/0.0
Image Number : 586
Raw File Name : ROS_0564.NEF
Version : 5.0
Color Temperature : 5000
Tint : -26
Exposure : 0.00
Shadows : 5
Brightness : +50
Luminance Smoothing : 0
Color Noise Reduction : 25
Chromatic Aberration R : 0
Chromatic Aberration B : 0
Vignette Amount : 0
Shadow Tint : 0
Red Hue : 0
Red Saturation : 0
Green Hue : 0
Green Saturation : 0
Blue Hue : 0
Blue Saturation : 0
Fill Light : 0
Vibrance : 0
Highlight Recovery : 100
Clarity : 0
Defringe : 0
Hue Adjustment Red : 0
Hue Adjustment Orange : 0
Hue Adjustment Yellow : 0
Hue Adjustment Green : 0
Hue Adjustment Aqua : 0
Hue Adjustment Blue : 0
Hue Adjustment Purple : 0
Hue Adjustment Magenta : 0
Saturation Adjustment Red : 0
Saturation Adjustment Orange : 0
Saturation Adjustment Yellow : 0
Saturation Adjustment Green : 0
Saturation Adjustment Aqua : 0
Saturation Adjustment Blue : 0
Saturation Adjustment Purple : 0
Saturation Adjustment Magenta : 0
Luminance Adjustment Red : 0
Luminance Adjustment Orange : 0
Luminance Adjustment Yellow : 0
Luminance Adjustment Green : 0
Luminance Adjustment Aqua : 0
Luminance Adjustment Blue : 0
Luminance Adjustment Purple : 0
Luminance Adjustment Magenta : 0
Split Toning Shadow Hue : 0
Split Toning Shadow Saturation : 0
Split Toning Highlight Hue : 0
Split Toning Highlight Saturation : 0
Split Toning Balance : 0
Parametric Shadows : 0
Parametric Darks : 0
Parametric Lights : 0
Parametric Highlights : 0
Parametric Shadow Split : 25
Parametric Midtone Split : 50
Parametric Highlight Split : 75
Sharpen Radius : +1.0
Sharpen Detail : 25
Sharpen Edge Masking : 0
Post Crop Vignette Amount : 0
Convert To Grayscale : False
Tone Curve Name : Medium Contrast
Camera Profile : Beta
Has Settings : True
Crop Top : 0.315485
Crop Left : 0.239654
Crop Bottom : 0.931983
Crop Right : 0.772859
Crop Angle : 0
Has Crop : True
Already Applied : True
Color Mode : RGB
ICC Profile Name : sRGB IEC61966-2.1
Flash Fired : False
Flash Return : No return detection
Flash Mode : Unknown
Flash Function : False
Flash Red Eye Mode : False
Creator : RMPantke(c)rmp1006@hotmail.com
Rights : RMPantke
Tone Curve : 0, 0, 32, 22, 64, 56, 128, 128, 192, 196, 255, 255
Image Width : 300
Image Height : 231
Bits Per Sample : 8
Color Components : 3
Aperture : 4.0
Image Size : 300x231
Megapixels : 0.069
Scale Factor To 35 mm Equivalent : 1.0
Shutter Speed : 1/13
Create Date : 2010:07:20 21:22:02.31
Date/Time Original : 2010:07:20 21:22:02.31
Modify Date : 2010:07:23 09:33:04.31
Flash : No Flash
Circle Of Confusion : 0.030 mm
Field Of View : 54.4 deg
Focal Length : 35.0 mm (35 mm equivalent: 35.0 mm)
Hyperfocal Distance : 10.19 m
Light Value : 6.7
Lens ID : 0.0mm f/0.0