Uber Exif Photo
By-line : {your name}
By-line Title : Nikon digital camera user
Copyright Notice : (C)2007 {your name}, all rights reserved
Photometric Interpretation : RGB
Make : NIKON CORPORATION
Camera Model Name : NIKON D700
Orientation : Horizontal (normal)
Samples Per Pixel : 3
Software : Adobe Photoshop CS5 Windows
Modify Date : 2010:08:15 10:28:24
Artist : {your name}
Copyright : (C)2007 {your name}, all rights reserved
Exposure Time : 1/100
F Number : 20.0
Exposure Program : Program AE
ISO : 200
Date/Time Original : 2009:10:08 12:17:05
Create Date : 2009:10:08 12:17:05
Shutter Speed Value : 1/100
Aperture Value : 20.0
Exposure Compensation : 0
Max Aperture Value : 3.5
Subject Distance : 4294967295 m
Metering Mode : Multi-segment
Light Source : Unknown
Flash : No Flash
Focal Length : 24.0 mm
Color Space : sRGB
Exif Image Width : 474
Exif Image Height : 683
Sensing Method : One-chip color area
Scene Type : Directly photographed
CFA Pattern : [Red,Green][Green,Blue]
Custom Rendered : Normal
Exposure Mode : Auto
White Balance : Auto
Digital Zoom Ratio : 1
Focal Length In 35mm Format : 24 mm
Scene Capture Type : Standard
Gain Control : None
Contrast : Normal
Saturation : Normal
Sharpness : Normal
Subject Distance Range : Unknown
Profile Description : sRGB IEC61966-2.1
Authors Position : Nikon digital camera user
Color Mode : RGB
ICC Profile Name : sRGB IEC61966-2.1
Date Created : 2009:10:08 12:17:05.031
Rating Percent : 0
Creator Tool : Nikon Transfer 1.5 W
Serial Number : 2137471
Lens Info : 24-120mm f/3.5-5.6
Lens : 24.0-120.0 mm f/3.5-5.6
Image Number : 3612
Version : 6.1
Process Version : 5.7
Color Temperature : 4619
Tint : -11
Exposure : -0.87
Shadows : 12
Brightness : +50
Luminance Smoothing : 0
Color Noise Reduction : 25
Chromatic Aberration R : 0
Chromatic Aberration B : 0
Vignette Amount : 0
Shadow Tint : 0
Red Hue : 0
Red Saturation : 0
Green Hue : 0
Green Saturation : 0
Blue Hue : 0
Blue Saturation : 0
Fill Light : 0
Vibrance : +73
Highlight Recovery : 0
Clarity : +95
Defringe : 0
Hue Adjustment Red : 0
Hue Adjustment Orange : 0
Hue Adjustment Yellow : 0
Hue Adjustment Green : 0
Hue Adjustment Aqua : 0
Hue Adjustment Blue : 0
Hue Adjustment Purple : 0
Hue Adjustment Magenta : 0
Saturation Adjustment Red : +30
Saturation Adjustment Orange : +25
Saturation Adjustment Yellow : +38
Saturation Adjustment Green : +22
Saturation Adjustment Aqua : +10
Saturation Adjustment Blue : +5
Saturation Adjustment Purple : +10
Saturation Adjustment Magenta : +10
Luminance Adjustment Red : -15
Luminance Adjustment Orange : +15
Luminance Adjustment Yellow : +16
Luminance Adjustment Green : +5
Luminance Adjustment Aqua : +4
Luminance Adjustment Blue : +8
Luminance Adjustment Purple : 0
Luminance Adjustment Magenta : -1
Split Toning Shadow Hue : 0
Split Toning Shadow Saturation : 0
Split Toning Highlight Hue : 0
Split Toning Highlight Saturation : 0
Split Toning Balance : 0
Parametric Shadows : 0
Parametric Darks : 0
Parametric Lights : +10
Parametric Highlights : -20
Parametric Shadow Split : 25
Parametric Midtone Split : 50
Parametric Highlight Split : 75
Sharpen Radius : +1.0
Sharpen Detail : 25
Sharpen Edge Masking : 0
Post Crop Vignette Amount : 0
Grain Amount : 0
Color Noise Reduction Detail : 50
Lens Profile Enable : 0
Lens Manual Distortion Amount : 0
Perspective Vertical : 0
Perspective Horizontal : 0
Perspective Rotate : 0.0
Perspective Scale : 100
Convert To Grayscale : False
Tone Curve Name : Medium Contrast
Camera Profile : Adobe Standard
Lens Profile Setup : LensDefaults
Has Settings : True
Has Crop : False
Already Applied : True
Format : image/jpeg
Tone Curve : 0, 0, 32, 22, 64, 56, 128, 128, 192, 196, 255, 255
Gradient Based Corr What : Correction
Gradient Based Corr Amount : 1.000000
Gradient Based Corr Active : true
Gradient Based Corr Exposure : -0.398000
Gradient Based Corr Saturation : 0.000000
Gradient Based Corr Contrast : 0.000000
Gradient Based Corr Clarity : 0.133000
Gradient Based Corr Sharpness : 0.000000
Gradient Based Corr Brightness : 0.000000
Gradient Based Corr Toning Hue : 240.000000
Gradient Based Corr Toning Saturation : 0.000000
Gradient Based Corr Mask What : Mask/Gradient
Gradient Based Corr Mask Value : 1.000000
Gradient Based Corr Mask Zero X : 0.447369
Gradient Based Corr Mask Zero Y : 0.474934
Gradient Based Corr Mask Full X : 0.703509
Gradient Based Corr Mask Full Y : 0.474934
Creator : {your name}
Rights : (C)2007 {your name}, all rights reserved
Usage Terms : For consideration only, no reproduction without prior permission
Image Width : 208
Image Height : 300
Bits Per Sample : 8
Color Components : 3
Aperture : 20.0
Image Size : 208x300
Megapixels : 0.062
Scale Factor To 35 mm Equivalent : 1.0
Shutter Speed : 1/100
Create Date : 2009:10:08 12:17:05.31
Date/Time Original : 2009:10:08 12:17:05.31
Circle Of Confusion : 0.030 mm
Depth Of Field : inf (0.96 m - inf)
Field Of View : 73.7 deg
Focal Length : 24.0 mm (35 mm equivalent: 24.0 mm)
Hyperfocal Distance : 0.96 m
Light Value : 14.3
Lens ID : AF-S VR Zoom-Nikkor 24-120mm f/3.5-5.6G IF-ED