Uber Exif Photo
Make : NIKON CORPORATION
Camera Model Name : NIKON D700
Orientation : Horizontal (normal)
Software : Adobe Photoshop CS5 Macintosh
Modify Date : 2011:02:27 18:03:55
Exposure Time : 1/160
F Number : 11.0
Exposure Program : Aperture-priority AE
ISO : 1000
Sensitivity Type : Unknown
Date/Time Original : 2011:02:27 16:01:20
Create Date : 2011:02:27 16:01:20
Shutter Speed Value : 1/160
Aperture Value : 11.0
Exposure Compensation : -1/3
Max Aperture Value : 2.0
Metering Mode : Multi-segment
Light Source : Unknown
Flash : No Flash
Focal Length : 100.0 mm
Color Space : sRGB
Exif Image Width : 624
Exif Image Height : 840
Sensing Method : One-chip color area
Scene Type : Directly photographed
CFA Pattern : [Red,Green][Green,Blue]
Custom Rendered : Normal
Exposure Mode : Auto
White Balance : Auto
Digital Zoom Ratio : 1
Focal Length In 35mm Format : 100 mm
Scene Capture Type : Standard
Gain Control : High gain up
Contrast : Normal
Saturation : Normal
Sharpness : Hard
Subject Distance Range : Unknown
Serial Number : 2057656
Lens Info : 100mm f/2
Lens Model : Zeiss Makro-Planar T* 2/100 ZF.2
Profile Description : sRGB IEC61966-2.1
Creator Tool : Ver.1.02
Rating : 0
Lens : Zeiss Makro-Planar T* 2/100 ZF.2
Image Number : 14511
Raw File Name : DSC_4277.NEF
Version : 6.3
Process Version : 5.7
Color Temperature : 5700
Tint : -3
Exposure : -0.25
Shadows : 7
Brightness : +50
Luminance Smoothing : 0
Color Noise Reduction : 5
Chromatic Aberration R : 0
Chromatic Aberration B : 0
Vignette Amount : 0
Shadow Tint : 0
Red Hue : 0
Red Saturation : 0
Green Hue : 0
Green Saturation : 0
Blue Hue : 0
Blue Saturation : 0
Fill Light : 0
Vibrance : 0
Highlight Recovery : 0
Clarity : +6
Defringe : 0
Hue Adjustment Red : 0
Hue Adjustment Orange : -10
Hue Adjustment Yellow : 0
Hue Adjustment Green : 0
Hue Adjustment Aqua : 0
Hue Adjustment Blue : 0
Hue Adjustment Purple : 0
Hue Adjustment Magenta : 0
Saturation Adjustment Red : 0
Saturation Adjustment Orange : 0
Saturation Adjustment Yellow : 0
Saturation Adjustment Green : 0
Saturation Adjustment Aqua : 0
Saturation Adjustment Blue : 0
Saturation Adjustment Purple : 0
Saturation Adjustment Magenta : 0
Luminance Adjustment Red : 0
Luminance Adjustment Orange : 0
Luminance Adjustment Yellow : 0
Luminance Adjustment Green : 0
Luminance Adjustment Aqua : 0
Luminance Adjustment Blue : 0
Luminance Adjustment Purple : 0
Luminance Adjustment Magenta : 0
Split Toning Shadow Hue : 0
Split Toning Shadow Saturation : 0
Split Toning Highlight Hue : 0
Split Toning Highlight Saturation : 0
Split Toning Balance : 0
Parametric Shadows : 0
Parametric Darks : 0
Parametric Lights : 0
Parametric Highlights : 0
Parametric Shadow Split : 25
Parametric Midtone Split : 50
Parametric Highlight Split : 75
Sharpen Radius : +1.0
Sharpen Detail : 25
Sharpen Edge Masking : 0
Post Crop Vignette Amount : 0
Grain Amount : 0
Color Noise Reduction Detail : 50
Lens Profile Enable : 0
Lens Manual Distortion Amount : 0
Perspective Vertical : 0
Perspective Horizontal : 0
Perspective Rotate : 0.0
Perspective Scale : 100
Convert To Grayscale : False
Tone Curve Name : Medium Contrast
Camera Profile : Camera Vivid
Lens Profile Setup : Custom
Lens Profile Name : Adobe (Zeiss Distagon T* 2/35 ZE)
Lens Profile Filename : Canon (Zeiss Distagon T 35 f2 ZE).lcp
Lens Profile Distortion Scale : 100
Lens Profile Chromatic Aberration Scale : 100
Lens Profile Vignetting Scale : 100
Has Settings : True
Crop Top : 0.027656
Crop Left : 0.063892
Crop Bottom : 0.997089
Crop Right : 0.932236
Crop Angle : 0
Crop Constrain To Warp : 0
Has Crop : True
Already Applied : True
Sidecar For Extension : NEF
Color Mode : RGB
ICC Profile Name : sRGB IEC61966-2.1
Date Created : 2011:02:27 16:01:20.005
Format : image/jpeg
Tone Curve : 0, 0, 32, 22, 64, 56, 128, 128, 192, 196, 255, 255
Derived From : Image Width : 223
Image Height : 300
Bits Per Sample : 8
Color Components : 3
Aperture : 11.0
Image Size : 223x300
Megapixels : 0.067
Scale Factor To 35 mm Equivalent : 1.0
Shutter Speed : 1/160
Create Date : 2011:02:27 16:01:20.05
Date/Time Original : 2011:02:27 16:01:20.05
Modify Date : 2011:02:27 18:03:55.05
Circle Of Confusion : 0.030 mm
Field Of View : 20.4 deg
Focal Length : 100.0 mm (35 mm equivalent: 100.0 mm)
Hyperfocal Distance : 30.26 m
Light Value : 10.9