Uber Exif Photo
Make : NIKON CORPORATION
Camera Model Name : NIKON D700
Software : Ver.1.02
Modify Date : 2010:10:21 21:03:41
Exposure Time : 1/80
F Number : 1.4
Exposure Program : Manual
ISO : 200
Sensitivity Type : Unknown
Date/Time Original : 2010:10:21 23:11:43
Create Date : 2010:10:21 23:11:43
Shutter Speed Value : 1/80
Aperture Value : 1.4
Exposure Compensation : 0
Max Aperture Value : 1.4
Subject Distance : 0.56 m
Metering Mode : Spot
Light Source : Unknown
Focal Length : 24.0 mm
Sensing Method : One-chip color area
Scene Type : Directly photographed
CFA Pattern : [Red,Green][Green,Blue]
Custom Rendered : Normal
Exposure Mode : Manual
White Balance : Auto
Digital Zoom Ratio : 1
Focal Length In 35mm Format : 24 mm
Scene Capture Type : Standard
Gain Control : None
Contrast : Normal
Saturation : Normal
Sharpness : Normal
Subject Distance Range : Unknown
Serial Number : 2133700
Lens Info : 24mm f/1.4
Lens Model : 24.0 mm f/1.4
Profile Description : sRGB IEC61966-2.1
Date/Time Digitized : 2010:10:21 23:11:43.58-04:00
Exif Image Width : 4198
Exif Image Height : 2794
Creator Tool : Adobe Photoshop Lightroom
Lens : 24.0 mm f/1.4
Image Number : 18006
Approximate Focus Distance : 0.56
Version : 6.2
Process Version : 5.7
Color Temperature : 6250
Tint : +8
Exposure : +0.90
Shadows : 5
Brightness : +58
Luminance Smoothing : 0
Color Noise Reduction : 25
Chromatic Aberration R : 0
Chromatic Aberration B : 0
Vignette Amount : 0
Shadow Tint : 0
Red Hue : 0
Red Saturation : 0
Green Hue : 0
Green Saturation : 0
Blue Hue : 0
Blue Saturation : 0
Fill Light : 0
Vibrance : +20
Highlight Recovery : 0
Clarity : +32
Defringe : 0
Hue Adjustment Red : 0
Hue Adjustment Orange : 0
Hue Adjustment Yellow : 0
Hue Adjustment Green : 0
Hue Adjustment Aqua : 0
Hue Adjustment Blue : 0
Hue Adjustment Purple : 0
Hue Adjustment Magenta : 0
Saturation Adjustment Red : 0
Saturation Adjustment Orange : 0
Saturation Adjustment Yellow : 0
Saturation Adjustment Green : 0
Saturation Adjustment Aqua : 0
Saturation Adjustment Blue : 0
Saturation Adjustment Purple : 0
Saturation Adjustment Magenta : 0
Luminance Adjustment Red : 0
Luminance Adjustment Orange : 0
Luminance Adjustment Yellow : 0
Luminance Adjustment Green : 0
Luminance Adjustment Aqua : 0
Luminance Adjustment Blue : 0
Luminance Adjustment Purple : 0
Luminance Adjustment Magenta : 0
Split Toning Shadow Hue : 0
Split Toning Shadow Saturation : 0
Split Toning Highlight Hue : 0
Split Toning Highlight Saturation : 0
Split Toning Balance : 0
Parametric Shadows : 0
Parametric Darks : 0
Parametric Lights : 0
Parametric Highlights : 0
Parametric Shadow Split : 25
Parametric Midtone Split : 50
Parametric Highlight Split : 75
Sharpen Radius : +1.0
Sharpen Detail : 83
Sharpen Edge Masking : 0
Post Crop Vignette Amount : 0
Grain Amount : 0
Color Noise Reduction Detail : 50
Lens Profile Enable : 0
Lens Manual Distortion Amount : 0
Perspective Vertical : 0
Perspective Horizontal : 0
Perspective Rotate : 0.0
Perspective Scale : 100
Convert To Grayscale : False
Tone Curve Name : Medium Contrast
Camera Profile : Adobe Standard
Lens Profile Setup : LensDefaults
Has Settings : True
Crop Top : 0.013567
Crop Left : 0.00378
Crop Bottom : 0.986433
Crop Right : 0.99622
Crop Angle : -0.524362
Crop Constrain To Warp : 0
Crop Width : 4198
Crop Height : 2794
Crop Unit : pixels
Has Crop : True
Already Applied : True
Flash Fired : False
Flash Return : No return detection
Flash Mode : Unknown
Flash Function : False
Flash Red Eye Mode : False
Tone Curve : 0, 0, 32, 22, 64, 56, 128, 128, 192, 196, 255, 255
Image Width : 300
Image Height : 200
Bits Per Sample : 8
Color Components : 3
Aperture : 1.4
Image Size : 300x200
Megapixels : 0.060
Scale Factor To 35 mm Equivalent : 1.0
Shutter Speed : 1/80
Create Date : 2010:10:21 23:11:43.58
Date/Time Original : 2010:10:21 23:11:43.58
Flash : No Flash
Circle Of Confusion : 0.030 mm
Depth Of Field : 0.04 m (0.54 - 0.58 m)
Field Of View : 73.7 deg
Focal Length : 24.0 mm (35 mm equivalent: 24.0 mm)
Hyperfocal Distance : 13.69 m
Light Value : 6.3
Lens ID : AF-S Nikkor 24mm f/1.4G ED