Uber Exif Photo
Make : NIKON CORPORATION
Camera Model Name : NIKON D700
Software : Ver.1.02
Modify Date : 2010:11:08 20:34:48
Exposure Time : 8
F Number : 7.1
Exposure Program : Manual
ISO : 200
Sensitivity Type : Unknown
Date/Time Original : 2010:11:08 23:56:37
Create Date : 2010:11:08 23:56:37
Shutter Speed Value : 8
Aperture Value : 7.1
Exposure Compensation : 0
Max Aperture Value : 2.8
Subject Distance : 4294967295 m
Metering Mode : Multi-segment
Light Source : Unknown
Focal Length : 70.0 mm
Sensing Method : One-chip color area
Scene Type : Directly photographed
CFA Pattern : [Red,Green][Green,Blue]
Custom Rendered : Normal
Exposure Mode : Manual
White Balance : Auto
Digital Zoom Ratio : 1
Focal Length In 35mm Format : 70 mm
Scene Capture Type : Standard
Gain Control : None
Contrast : Normal
Saturation : Normal
Sharpness : Normal
Subject Distance Range : Unknown
Serial Number : 2133700
Lens Info : 70-200mm f/2.8
Lens Model : 70.0-200.0 mm f/2.8
Profile Description : sRGB IEC61966-2.1
Date/Time Digitized : 2010:11:08 23:56:37.63-05:00
Exif Image Width : 4141
Exif Image Height : 2755
Creator Tool : Adobe Photoshop Lightroom
Lens : 70.0-200.0 mm f/2.8
Image Number : 18711
Approximate Focus Distance : 4294967295
Version : 6.2
Process Version : 5.7
Color Temperature : 6091
Tint : 0
Exposure : 0.00
Shadows : 5
Brightness : +50
Luminance Smoothing : 9
Color Noise Reduction : 25
Chromatic Aberration R : 0
Chromatic Aberration B : 0
Vignette Amount : 0
Shadow Tint : 0
Red Hue : 0
Red Saturation : 0
Green Hue : 0
Green Saturation : 0
Blue Hue : 0
Blue Saturation : 0
Fill Light : 0
Vibrance : +18
Highlight Recovery : 0
Clarity : +20
Defringe : 0
Hue Adjustment Red : 0
Hue Adjustment Orange : 0
Hue Adjustment Yellow : 0
Hue Adjustment Green : 0
Hue Adjustment Aqua : 0
Hue Adjustment Blue : 0
Hue Adjustment Purple : 0
Hue Adjustment Magenta : 0
Saturation Adjustment Red : 0
Saturation Adjustment Orange : 0
Saturation Adjustment Yellow : 0
Saturation Adjustment Green : 0
Saturation Adjustment Aqua : 0
Saturation Adjustment Blue : 0
Saturation Adjustment Purple : 0
Saturation Adjustment Magenta : 0
Luminance Adjustment Red : 0
Luminance Adjustment Orange : 0
Luminance Adjustment Yellow : 0
Luminance Adjustment Green : 0
Luminance Adjustment Aqua : 0
Luminance Adjustment Blue : 0
Luminance Adjustment Purple : 0
Luminance Adjustment Magenta : 0
Split Toning Shadow Hue : 0
Split Toning Shadow Saturation : 0
Split Toning Highlight Hue : 0
Split Toning Highlight Saturation : 0
Split Toning Balance : 0
Parametric Shadows : +5
Parametric Darks : +9
Parametric Lights : -7
Parametric Highlights : +43
Parametric Shadow Split : 25
Parametric Midtone Split : 50
Parametric Highlight Split : 75
Sharpen Radius : +1.0
Sharpen Detail : 70
Sharpen Edge Masking : 0
Post Crop Vignette Amount : +2
Post Crop Vignette Midpoint : 50
Post Crop Vignette Feather : 50
Post Crop Vignette Roundness : 0
Post Crop Vignette Style : Highlight Priority
Grain Amount : 0
Luminance Noise Reduction Detail : 50
Color Noise Reduction Detail : 50
Luminance Noise Reduction Contrast : 0
Lens Profile Enable : 0
Lens Manual Distortion Amount : 0
Perspective Vertical : 0
Perspective Horizontal : 0
Perspective Rotate : 0.0
Perspective Scale : 100
Convert To Grayscale : False
Tone Curve Name : Strong Contrast
Camera Profile : Adobe Standard
Lens Profile Setup : LensDefaults
Has Settings : True
Crop Top : 0.027361
Crop Left : 0.007623
Crop Bottom : 0.972639
Crop Right : 0.992377
Crop Angle : -1.07236
Crop Constrain To Warp : 0
Crop Width : 4141
Crop Height : 2755
Crop Unit : pixels
Has Crop : True
Already Applied : True
Flash Fired : False
Flash Return : No return detection
Flash Mode : Unknown
Flash Function : False
Flash Red Eye Mode : False
Tone Curve : 0, 0, 32, 16, 64, 50, 128, 128, 192, 202, 255, 255
Gradient Based Corr What : Correction
Gradient Based Corr Amount : 1.000000
Gradient Based Corr Active : true
Gradient Based Corr Exposure : -0.011765
Gradient Based Corr Saturation : 0.000000
Gradient Based Corr Contrast : 0.317647
Gradient Based Corr Clarity : 0.294118
Gradient Based Corr Sharpness : 0.411765
Gradient Based Corr Brightness : 0.000000
Gradient Based Corr Toning Hue : 235.000000
Gradient Based Corr Toning Saturation : 0.720000
Gradient Based Corr Mask What : Mask/Gradient
Gradient Based Corr Mask Value : 1.000000
Gradient Based Corr Mask Zero X : 0.521360
Gradient Based Corr Mask Zero Y : 0.511055
Gradient Based Corr Mask Full X : 0.521483
Gradient Based Corr Mask Full Y : 0.520867
Image Width : 300
Image Height : 200
Bits Per Sample : 8
Color Components : 3
Aperture : 7.1
Image Size : 300x200
Megapixels : 0.060
Scale Factor To 35 mm Equivalent : 1.0
Shutter Speed : 8
Create Date : 2010:11:08 23:56:37.63
Date/Time Original : 2010:11:08 23:56:37.63
Flash : No Flash
Circle Of Confusion : 0.030 mm
Depth Of Field : inf (22.97 m - inf)
Field Of View : 28.8 deg
Focal Length : 70.0 mm (35 mm equivalent: 70.0 mm)
Hyperfocal Distance : 22.97 m
Light Value : 1.7
Lens ID : AF-S Nikkor 70-200mm f/2.8G ED VR II