Uber Exif Photo
By-line : Martha Benedict
Copyright Notice : ©2010 Martha Benedict
Copyright Flag : True
Make : NIKON CORPORATION
Camera Model Name : NIKON D700
Software : Ver.1.02
Modify Date : 2010:12:13 19:05:26
Copyright : (C)2010 Martha Benedict
Exposure Time : 1/400
F Number : 5.6
Exposure Program : Aperture-priority AE
ISO : 3200
Sensitivity Type : Unknown
Date/Time Original : 2010:12:13 12:01:36
Create Date : 2010:12:13 12:01:36
Shutter Speed Value : 1/400
Aperture Value : 5.6
Exposure Compensation : 0
Max Aperture Value : 5.7
Subject Distance : 6.31 m
Metering Mode : Multi-segment
Light Source : Unknown
Focal Length : 250.0 mm
User Comment : (c)MarthaBenedict
Sensing Method : One-chip color area
Scene Type : Directly photographed
CFA Pattern : [Red,Green][Green,Blue]
Custom Rendered : Normal
Exposure Mode : Auto
White Balance : Auto
Digital Zoom Ratio : 1
Focal Length In 35mm Format : 250 mm
Scene Capture Type : Standard
Gain Control : High gain up
Contrast : Normal
Saturation : Normal
Sharpness : Normal
Subject Distance Range : Unknown
Serial Number : 2187702
Lens Info : 70-300mm f/4.5-5.6
Lens Model : 70.0-300.0 mm f/4.5-5.6
Profile Description : sRGB IEC61966-2.1
Date/Time Digitized : 2010:12:13 12:01:36.48-08:00
Exif Image Width : 681
Exif Image Height : 1024
Creator Tool : Adobe Photoshop Lightroom 3.3
Rating : 3
Lens : 70.0-300.0 mm f/4.5-5.6
Image Number : 64679
Approximate Focus Distance : 6.31
Marked : True
Version : 6.3
Process Version : 5.7
Color Temperature : 4000
Tint : 0
Exposure : -1.10
Shadows : 16
Brightness : +50
Luminance Smoothing : 0
Color Noise Reduction : 25
Chromatic Aberration R : 0
Chromatic Aberration B : 0
Vignette Amount : 0
Shadow Tint : 0
Red Hue : 0
Red Saturation : 0
Green Hue : 0
Green Saturation : 0
Blue Hue : 0
Blue Saturation : 0
Fill Light : 24
Vibrance : 0
Highlight Recovery : 0
Clarity : 0
Defringe : 0
Hue Adjustment Red : 0
Hue Adjustment Orange : 0
Hue Adjustment Yellow : 0
Hue Adjustment Green : 0
Hue Adjustment Aqua : 0
Hue Adjustment Blue : 0
Hue Adjustment Purple : 0
Hue Adjustment Magenta : 0
Saturation Adjustment Red : 0
Saturation Adjustment Orange : 0
Saturation Adjustment Yellow : 0
Saturation Adjustment Green : 0
Saturation Adjustment Aqua : 0
Saturation Adjustment Blue : 0
Saturation Adjustment Purple : 0
Saturation Adjustment Magenta : 0
Luminance Adjustment Red : 0
Luminance Adjustment Orange : 0
Luminance Adjustment Yellow : 0
Luminance Adjustment Green : 0
Luminance Adjustment Aqua : 0
Luminance Adjustment Blue : 0
Luminance Adjustment Purple : 0
Luminance Adjustment Magenta : 0
Split Toning Shadow Hue : 0
Split Toning Shadow Saturation : 0
Split Toning Highlight Hue : 0
Split Toning Highlight Saturation : 0
Split Toning Balance : 0
Parametric Shadows : 0
Parametric Darks : 0
Parametric Lights : 0
Parametric Highlights : 0
Parametric Shadow Split : 25
Parametric Midtone Split : 50
Parametric Highlight Split : 75
Sharpen Radius : +1.0
Sharpen Detail : 25
Sharpen Edge Masking : 0
Post Crop Vignette Amount : 0
Grain Amount : 0
Color Noise Reduction Detail : 50
Lens Profile Enable : 0
Lens Manual Distortion Amount : 0
Perspective Vertical : 0
Perspective Horizontal : 0
Perspective Rotate : 0.0
Perspective Scale : 100
Convert To Grayscale : False
Tone Curve Name : Medium Contrast
Camera Profile : Adobe Standard
Lens Profile Setup : LensDefaults
Has Settings : True
Crop Top : 0.046809
Crop Left : 0.192374
Crop Bottom : 0.83066
Crop Right : 0.976225
Crop Angle : 0
Crop Constrain To Warp : 0
Crop Width : 1024
Crop Height : 681
Crop Unit : pixels
Has Crop : True
Already Applied : True
Flash Fired : False
Flash Return : No return detection
Flash Mode : Unknown
Flash Function : False
Flash Red Eye Mode : False
Creator : Martha Benedict
Rights : ©2010 Martha Benedict
Creator Postal Code : 90031
Creator Work Telephone : 323-226-0017
Creator Region : CA
Creator Country : USA
Creator City : Los Angeles
Creator Address : 1111 Pagoda Place
Creator Work Email : mfbenedict@earthlink.net
Usage Terms : All Rights Reserved
Tone Curve : 0, 0, 32, 22, 64, 56, 128, 128, 192, 196, 255, 255
Image Width : 200
Image Height : 300
Bits Per Sample : 8
Color Components : 3
Aperture : 5.6
Image Size : 200x300
Megapixels : 0.060
Scale Factor To 35 mm Equivalent : 1.0
Shutter Speed : 1/400
Create Date : 2010:12:13 12:01:36.48
Date/Time Original : 2010:12:13 12:01:36.48
Flash : No Flash
Circle Of Confusion : 0.030 mm
Depth Of Field : 0.21 m (6.21 - 6.41 m)
Field Of View : 8.2 deg
Focal Length : 250.0 mm (35 mm equivalent: 250.0 mm)
Hyperfocal Distance : 371.45 m
Light Value : 8.6
Lens ID : AF-S VR Zoom-Nikkor 70-300mm f/4.5-5.6G IF-ED