Uber Exif Photo
By-line : FO-TIK PHOTOGRAPHY
Copyright Notice : COPYRIGHT 2022 BARRY GOSSAGE
Make : NIKON CORPORATION
Camera Model Name : NIKON Z 6_2
Orientation : Horizontal (normal)
Software : Adobe Photoshop 23.4 (Windows)
Modify Date : 2022:08:01 13:26:46
Artist : FO-TIK PHOTOGRAPHY
Copyright : COPYRIGHT 2022 BARRY GOSSAGE
Exposure Time : 1/40
F Number : 11.0
Exposure Program : Manual
ISO : 100
Sensitivity Type : Recommended Exposure Index
Recommended Exposure Index : 100
Date/Time Original : 2022:03:08 12:30:59
Create Date : 2022:03:08 12:30:59
Shutter Speed Value : 1/40
Aperture Value : 11.0
Exposure Compensation : -1/3
Metering Mode : Multi-segment
Light Source : Unknown
Flash : No Flash
Focal Length : 70.0 mm
Color Space : Uncalibrated
Exif Image Width : 1250
Exif Image Height : 950
Sensing Method : One-chip color area
Scene Type : Directly photographed
CFA Pattern : [Red,Green][Green,Blue]
Custom Rendered : Custom
Exposure Mode : Manual
White Balance : Auto
Focal Length In 35mm Format : 70 mm
Scene Capture Type : Standard
Gain Control : None
Contrast : Normal
Saturation : Normal
Sharpness : Normal
Subject Distance Range : Unknown
Serial Number : 3026906
Lens Info : 24-70mm f/2.8
Lens Model : 24-70mm f/2.8G
Profile Description : ProPhoto RGB
Creator Tool : NIKON Z 6_2 Ver.01.30
Rating : 0
Format : image/jpeg
Lens : 24-70mm f/2.8G
Image Number : 638
Distortion Correction Already Applied : True
Lateral Chromatic Aberration Correction Already Applied : True
Vignette Correction Already Applied : True
Date Created : 2022:03:08 12:30:59.066-08:00
Color Mode : RGB
ICC Profile Name : ProPhoto RGB
Version : 14.4.1
Process Version : 11.0
Color Temperature : 4200
Tint : +9
Exposure 2012 : +2.00
Contrast 2012 : 0
Highlights 2012 : -66
Shadows 2012 : +50
Whites 2012 : +25
Blacks 2012 : -25
Texture : 0
Clarity 2012 : +25
Dehaze : +25
Vibrance : +25
Parametric Shadows : 0
Parametric Darks : 0
Parametric Lights : 0
Parametric Highlights : 0
Parametric Shadow Split : 25
Parametric Midtone Split : 50
Parametric Highlight Split : 75
Sharpen Radius : +2.0
Luminance Smoothing : 0
Luminance Noise Reduction Detail : 75
Color Noise Reduction : 0
Hue Adjustment Red : 0
Hue Adjustment Orange : 0
Hue Adjustment Yellow : 0
Hue Adjustment Green : 0
Hue Adjustment Aqua : 0
Hue Adjustment Blue : 0
Hue Adjustment Purple : 0
Hue Adjustment Magenta : 0
Saturation Adjustment Red : 0
Saturation Adjustment Orange : 0
Saturation Adjustment Yellow : 0
Saturation Adjustment Green : 0
Saturation Adjustment Aqua : 0
Saturation Adjustment Blue : 0
Saturation Adjustment Purple : 0
Saturation Adjustment Magenta : 0
Luminance Adjustment Red : 0
Luminance Adjustment Orange : 0
Luminance Adjustment Yellow : 0
Luminance Adjustment Green : 0
Luminance Adjustment Aqua : 0
Luminance Adjustment Blue : 0
Luminance Adjustment Purple : 0
Luminance Adjustment Magenta : 0
Split Toning Shadow Hue : 0
Split Toning Shadow Saturation : 0
Split Toning Highlight Hue : 0
Split Toning Highlight Saturation : 0
Split Toning Balance : 0
Color Grade Midtone Hue : 0
Color Grade Midtone Sat : 0
Color Grade Shadow Lum : 0
Color Grade Midtone Lum : 0
Color Grade Highlight Lum : 0
Color Grade Blending : 50
Color Grade Global Hue : 0
Color Grade Global Sat : 0
Color Grade Global Lum : 0
Auto Lateral CA : 1
Lens Profile Enable : 1
Lens Manual Distortion Amount : 0
Vignette Amount : 0
Defringe Purple Amount : 5
Defringe Purple Hue Lo : 30
Defringe Purple Hue Hi : 70
Defringe Green Amount : 5
Defringe Green Hue Lo : 40
Defringe Green Hue Hi : 60
Perspective Upright : Off
Perspective Vertical : 0
Perspective Horizontal : 0
Perspective Rotate : 0.0
Perspective Aspect : 0
Perspective Scale : 100
Perspective X : 0.00
Perspective Y : 0.00
Grain Amount : 0
Post Crop Vignette Amount : 0
Shadow Tint : 0
Red Hue : 0
Red Saturation : 0
Green Hue : 0
Green Saturation : 0
Blue Hue : 0
Blue Saturation : 0
Convert To Grayscale : False
Override Look Vignette : False
Tone Curve Name 2012 : Linear
Camera Profile : Linear-Nikon Z 6 2
Lens Profile Setup : Custom
Lens Profile Name : Adobe (Canon EF 24-70mm f/2.8 L II USM)
Lens Profile Filename : Canon EOS 5D Mark II (Canon EF 24-70mm f2.8 L II USM) - RAW.lcp
Lens Profile Is Embedded : False
Lens Profile Distortion Scale : 100
Lens Profile Vignetting Scale : 100
Has Settings : True
Has Crop : False
Already Applied : True
Creator : FO-TIK PHOTOGRAPHY
Rights : COPYRIGHT 2022 BARRY GOSSAGE
Tone Curve PV2012 : 0, 0, 255, 255
Tone Curve PV2012 Red : 0, 0, 255, 255
Tone Curve PV2012 Green : 0, 0, 255, 255
Tone Curve PV2012 Blue : 0, 0, 255, 255
Image Width : 400
Image Height : 304
Bits Per Sample : 8
Color Components : 3
Aperture : 11.0
Image Size : 400x304
Megapixels : 0.122
Scale Factor To 35 mm Equivalent : 1.0
Shutter Speed : 1/40
Create Date : 2022:03:08 12:30:59.66-08:00
Date/Time Original : 2022:03:08 12:30:59.66-08:00
Modify Date : 2022:08:01 13:26:46.66-08:00
Circle Of Confusion : 0.030 mm
Field Of View : 28.8 deg
Focal Length : 70.0 mm (35 mm equivalent: 70.0 mm)
Hyperfocal Distance : 14.83 m
Light Value : 12.2
Lens ID : 24-70mm f/2.8G