Uber Exif Photo
Photometric Interpretation : RGB
Make : NIKON CORPORATION
Camera Model Name : NIKON D810
Orientation : Horizontal (normal)
Samples Per Pixel : 3
Planar Configuration : Chunky
Software : Adobe Photoshop CC 2019 (Windows)
Modify Date : 2018:11:17 15:07:45
Exposure Time : 1/50
F Number : 10.0
Exposure Program : Aperture-priority AE
ISO : 100
Sensitivity Type : Recommended Exposure Index
Date/Time Original : 2017:10:12 18:16:29
Create Date : 2017:10:12 18:16:29
Shutter Speed Value : 1/50
Aperture Value : 10.0
Exposure Compensation : -2
Max Aperture Value : 2.8
Metering Mode : Multi-segment
Light Source : Unknown
Flash : Off, Did not fire
Focal Length : 26.0 mm
Color Space : sRGB
Exif Image Width : 700
Exif Image Height : 474
Sensing Method : One-chip color area
Scene Type : Directly photographed
CFA Pattern : [Red,Green][Green,Blue]
Custom Rendered : Normal
Exposure Mode : Auto
White Balance : Auto
Digital Zoom Ratio : 1
Focal Length In 35mm Format : 26 mm
Scene Capture Type : Landscape
Gain Control : None
Contrast : Normal
Saturation : Normal
Sharpness : Normal
Subject Distance Range : Unknown
Serial Number : 2030827
Lens Info : 24-70mm f/2.8
Lens Model : 24.0-70.0 mm f/2.8
Profile Description : sRGB IEC61966-2.1
Creator Tool : Adobe Photoshop CC 2019 (Windows)
Label : Approved
Lens : 24.0-70.0 mm f/2.8
Image Number : 1047
Approximate Focus Distance : 5.01
Lateral Chromatic Aberration Correction Already Applied : True
Date Created : 2017:10:12 18:16:29.043
Color Mode : RGB
ICC Profile Name : sRGB IEC61966-2.1
Format : image/jpeg
Raw File Name : _DSC1044.NEF
Version : 11.0
Process Version : 11.0
Color Temperature : 6643
Tint : +11
Luminance Smoothing : 36
Color Noise Reduction : 36
Vignette Amount : 0
Shadow Tint : 0
Red Hue : 0
Red Saturation : 0
Green Hue : 0
Green Saturation : 0
Blue Hue : 0
Blue Saturation : 0
Vibrance : +38
Hue Adjustment Red : 0
Hue Adjustment Orange : -40
Hue Adjustment Yellow : 0
Hue Adjustment Green : +13
Hue Adjustment Aqua : -2
Hue Adjustment Blue : 0
Hue Adjustment Purple : 0
Hue Adjustment Magenta : 0
Saturation Adjustment Red : 0
Saturation Adjustment Orange : -13
Saturation Adjustment Yellow : 0
Saturation Adjustment Green : +4
Saturation Adjustment Aqua : 0
Saturation Adjustment Blue : -1
Saturation Adjustment Purple : -2
Saturation Adjustment Magenta : 0
Luminance Adjustment Red : 0
Luminance Adjustment Orange : 0
Luminance Adjustment Yellow : 0
Luminance Adjustment Green : +20
Luminance Adjustment Aqua : -7
Luminance Adjustment Blue : +16
Luminance Adjustment Purple : 0
Luminance Adjustment Magenta : 0
Split Toning Shadow Hue : 0
Split Toning Shadow Saturation : 0
Split Toning Highlight Hue : 0
Split Toning Highlight Saturation : 19
Split Toning Balance : 0
Parametric Shadows : +34
Parametric Darks : +30
Parametric Lights : -20
Parametric Highlights : +63
Parametric Shadow Split : 25
Parametric Midtone Split : 50
Parametric Highlight Split : 75
Sharpen Radius : +1.0
Sharpen Detail : 25
Sharpen Edge Masking : 0
Post Crop Vignette Amount : 0
Grain Amount : 0
Luminance Noise Reduction Detail : 50
Color Noise Reduction Detail : 50
Luminance Noise Reduction Contrast : 0
Color Noise Reduction Smoothness : 50
Lens Profile Enable : 0
Lens Manual Distortion Amount : 0
Perspective Vertical : 0
Perspective Horizontal : 0
Perspective Rotate : 0.0
Perspective Scale : 100
Perspective Aspect : 0
Perspective Upright : Off
Perspective X : 0.00
Perspective Y : 0.00
Auto Lateral CA : 1
Exposure 2012 : -0.77
Contrast 2012 : +12
Highlights 2012 : -14
Shadows 2012 : +100
Whites 2012 : +43
Blacks 2012 : -45
Clarity 2012 : +43
Defringe Purple Amount : 0
Defringe Purple Hue Lo : 30
Defringe Purple Hue Hi : 70
Defringe Green Amount : 0
Defringe Green Hue Lo : 40
Defringe Green Hue Hi : 60
Dehaze : 0
Tone Map Strength : 0
Convert To Grayscale : False
Override Look Vignette : False
Tone Curve Name : Linear
Tone Curve Name 2012 : Linear
Camera Profile : Adobe Standard
Lens Profile Setup : LensDefaults
Has Settings : True
Crop Top : 0.04635
Crop Left : 0
Crop Bottom : 0.83314
Crop Right : 0.775715
Crop Angle : 0
Crop Constrain To Warp : 0
Has Crop : True
Already Applied : True
Tone Curve : 0, 0, 255, 255
Tone Curve Red : 0, 0, 255, 255
Tone Curve Green : 0, 0, 255, 255
Tone Curve Blue : 0, 0, 255, 255
Tone Curve PV2012 : 0, 0, 255, 255
Tone Curve PV2012 Red : 0, 0, 255, 255
Tone Curve PV2012 Green : 0, 0, 255, 255
Tone Curve PV2012 Blue : 0, 0, 255, 255
Gradient Based Corr Range Mask Version : +2, +2, +2
Gradient Based Corr Range Mask Type : 0, 0, 0
Gradient Based Corr Range Mask Color Amount : 0.500000, 0.500000, 0.500000
Gradient Based Corr Range Mask Lum Min : 0.000000, 0.000000, 0.000000
Gradient Based Corr Range Mask Lum Max : 1.000000, 1.000000, 1.000000
Gradient Based Corr Range Mask Lum Feather : 0.500000, 0.500000, 0.500000
Gradient Based Corr Range Mask Depth Min : 0.000000, 0.000000, 0.000000
Gradient Based Corr Range Mask Depth Max : 1.000000, 1.000000, 1.000000
Gradient Based Corr Range Mask Depth Feather : 0.500000, 0.500000, 0.500000
Gradient Based Corr What : Correction
Gradient Based Corr Amount : 1.000000
Gradient Based Corr Active : true
Gradient Based Corr Saturation : 0.000000
Gradient Based Corr Sharpness : 0.000000
Gradient Based Corr Brightness : 0.000000
Gradient Based Corr Toning Hue : 59.000000
Gradient Based Corr Toning Saturation : 0.450000
Gradient Based Corr Exposure 2012 : 0.100000
Gradient Based Corr Contrast 2012 : 0.000000
Gradient Based Corr Highlights 2012 : 0.000000
Gradient Based Corr Shadows 2012 : 0.000000
Gradient Based Corr Whites 2012 : 0.000000
Gradient Based Corr Blacks 2012 : 0.000000
Gradient Based Corr Clarity 2012 : 0.000000
Gradient Based Corr Dehaze : 0.000000
Gradient Based Corr Luminance Noise : 0.000000
Gradient Based Corr Moire : 0.000000
Gradient Based Corr Defringe : 0.000000
Gradient Based Corr Temperature : 0.000000
Gradient Based Corr Tint : 0.304350
Gradient Based Corr Mask What : Mask/Gradient
Gradient Based Corr Mask Value : 1.000000
Gradient Based Corr Mask Zero X : 0.369301
Gradient Based Corr Mask Zero Y : 0.475757
Gradient Based Corr Mask Full X : 0.369301
Gradient Based Corr Mask Full Y : 0.046351
Circ Grad Based Corr What : Correction
Circ Grad Based Corr Amount : 1.000000
Circ Grad Based Corr Active : true
Circ Grad Based Corr Saturation : 0.000000
Circ Grad Based Corr Sharpness : 0.000000
Circ Grad Based Corr Brightness : 0.000000
Circ Grad Based Corr Toning Hue : 230.000000
Circ Grad Based Corr Toning Saturation : 0.470000
Circ Grad Based Corr Exposure 2012 : -0.190000
Circ Grad Based Corr Contrast 2012 : 0.000000
Circ Grad Based Corr Highlights 2012 : 0.000000
Circ Grad Based Corr Shadows 2012 : 0.000000
Circ Grad Based Corr Whites 2012 : 0.000000
Circ Grad Based Corr Blacks 2012 : 0.000000
Circ Grad Based Corr Clarity 2012 : 0.000000
Circ Grad Based Corr Dehaze : 0.000000
Circ Grad Based Corr Luminance Noise : 0.000000
Circ Grad Based Corr Moire : 0.000000
Circ Grad Based Corr Defringe : 0.000000
Circ Grad Based Corr Temperature : -0.413040
Circ Grad Based Corr Tint : 0.000000
Circ Grad Based Corr Mask What : Mask/CircularGradient
Circ Grad Based Corr Mask Value : 1.000000
Circ Grad Based Corr Mask Top : 0.287947
Circ Grad Based Corr Mask Left : -0.060840
Circ Grad Based Corr Mask Bottom : 0.483050
Circ Grad Based Corr Mask Right : 0.345573
Circ Grad Based Corr Mask Angle : 0.000000
Circ Grad Based Corr Mask Midpoint : +50
Circ Grad Based Corr Mask Roundness : 0
Circ Grad Based Corr Mask Feather : +85
Circ Grad Based Corr Mask Flipped : true
Circ Grad Based Corr Mask Version : +2
Circ Grad Based Corr Range Mask Version : +2
Circ Grad Based Corr Range Mask Type : 0
Circ Grad Based Corr Range Mask Color Amount : 0.500000
Circ Grad Based Corr Range Mask Lum Min : 0.000000
Circ Grad Based Corr Range Mask Lum Max : 1.000000
Circ Grad Based Corr Range Mask Lum Feather : 0.500000
Circ Grad Based Corr Range Mask Depth Min : 0.000000
Circ Grad Based Corr Range Mask Depth Max : 1.000000
Circ Grad Based Corr Range Mask Depth Feather : 0.500000
Image Width : 350
Image Height : 237
Bits Per Sample : 8
Color Components : 3
Aperture : 10.0
Image Size : 350x237
Megapixels : 0.083
Scale Factor To 35 mm Equivalent : 1.0
Shutter Speed : 1/50
Date/Time Original : 2017:10:12 18:16:29.43
Circle Of Confusion : 0.030 mm
Depth Of Field : inf (1.56 m - inf)
Field Of View : 69.4 deg
Focal Length : 26.0 mm (35 mm equivalent: 26.0 mm)
Hyperfocal Distance : 2.25 m
Light Value : 12.3
Lens ID : AF-S Zoom-Nikkor 24-70mm f/2.8G ED