Uber Exif Photo
Photometric Interpretation : RGB
Make : NIKON CORPORATION
Camera Model Name : NIKON D810
Orientation : Horizontal (normal)
Samples Per Pixel : 3
Planar Configuration : Chunky
Software : Adobe Photoshop CC 2019 (Windows)
Modify Date : 2018:10:26 13:29:32
Exposure Time : 1/160
F Number : 5.0
Exposure Program : Aperture-priority AE
ISO : 200
Sensitivity Type : Recommended Exposure Index
Date/Time Original : 2017:09:25 18:50:47
Create Date : 2017:09:25 18:50:47
Shutter Speed Value : 1/160
Aperture Value : 5.0
Exposure Compensation : -1
Max Aperture Value : 2.8
Metering Mode : Multi-segment
Light Source : Unknown
Flash : Off, Did not fire
Focal Length : 24.0 mm
Color Space : sRGB
Exif Image Width : 600
Exif Image Height : 400
Sensing Method : One-chip color area
Scene Type : Directly photographed
CFA Pattern : [Red,Green][Green,Blue]
Custom Rendered : Normal
Exposure Mode : Auto
White Balance : Auto
Digital Zoom Ratio : 1
Focal Length In 35mm Format : 24 mm
Scene Capture Type : Landscape
Gain Control : None
Contrast : Normal
Saturation : Normal
Sharpness : Normal
Subject Distance Range : Unknown
Serial Number : 2030827
Lens Info : 24-70mm f/2.8
Lens Model : 24.0-70.0 mm f/2.8
Profile Description : sRGB IEC61966-2.1
Creator Tool : Adobe Photoshop CC 2019 (Windows)
Lens : 24.0-70.0 mm f/2.8
Image Number : 608
Approximate Focus Distance : 5.01
Lateral Chromatic Aberration Correction Already Applied : True
Date Created : 2017:09:25 18:50:47.005
Color Mode : RGB
ICC Profile Name : sRGB IEC61966-2.1
Format : image/jpeg
Version : 9.12
Process Version : 6.7
Auto White Version : 134348800
Color Temperature : 5700
Tint : +11
Luminance Smoothing : 36
Color Noise Reduction : 36
Vignette Amount : 0
Shadow Tint : 0
Red Hue : 0
Red Saturation : 0
Green Hue : 0
Green Saturation : 0
Blue Hue : 0
Blue Saturation : 0
Vibrance : +38
Hue Adjustment Red : 0
Hue Adjustment Orange : -40
Hue Adjustment Yellow : 0
Hue Adjustment Green : +13
Hue Adjustment Aqua : -2
Hue Adjustment Blue : 0
Hue Adjustment Purple : +27
Hue Adjustment Magenta : 0
Saturation Adjustment Red : 0
Saturation Adjustment Orange : +2
Saturation Adjustment Yellow : 0
Saturation Adjustment Green : +4
Saturation Adjustment Aqua : 0
Saturation Adjustment Blue : +4
Saturation Adjustment Purple : 0
Saturation Adjustment Magenta : 0
Luminance Adjustment Red : 0
Luminance Adjustment Orange : -9
Luminance Adjustment Yellow : 0
Luminance Adjustment Green : +20
Luminance Adjustment Aqua : -7
Luminance Adjustment Blue : +29
Luminance Adjustment Purple : 0
Luminance Adjustment Magenta : 0
Split Toning Shadow Hue : 0
Split Toning Shadow Saturation : 0
Split Toning Highlight Hue : 0
Split Toning Highlight Saturation : 19
Split Toning Balance : 0
Parametric Shadows : +34
Parametric Darks : +30
Parametric Lights : -20
Parametric Highlights : +63
Parametric Shadow Split : 25
Parametric Midtone Split : 50
Parametric Highlight Split : 75
Sharpen Radius : +1.0
Sharpen Detail : 25
Sharpen Edge Masking : 0
Post Crop Vignette Amount : 0
Grain Amount : 0
Luminance Noise Reduction Detail : 50
Color Noise Reduction Detail : 50
Luminance Noise Reduction Contrast : 0
Color Noise Reduction Smoothness : 50
Lens Profile Enable : 0
Lens Manual Distortion Amount : 0
Perspective Vertical : 0
Perspective Horizontal : 0
Perspective Rotate : 0.0
Perspective Scale : 100
Perspective Aspect : 0
Perspective Upright : Off
Perspective X : 0.00
Perspective Y : 0.00
Auto Lateral CA : 1
Exposure 2012 : +0.56
Contrast 2012 : +48
Highlights 2012 : -69
Shadows 2012 : +100
Whites 2012 : +43
Blacks 2012 : -48
Clarity 2012 : +54
Defringe Purple Amount : 0
Defringe Purple Hue Lo : 30
Defringe Purple Hue Hi : 70
Defringe Green Amount : 0
Defringe Green Hue Lo : 40
Defringe Green Hue Hi : 60
Dehaze : 0
Tone Map Strength : 0
Convert To Grayscale : False
Tone Curve Name : Linear
Tone Curve Name 2012 : Linear
Camera Profile : Adobe Standard
Lens Profile Setup : LensDefaults
Has Settings : True
Has Crop : False
Already Applied : True
Tone Curve : 0, 0, 255, 255
Tone Curve Red : 0, 0, 255, 255
Tone Curve Green : 0, 0, 255, 255
Tone Curve Blue : 0, 0, 255, 255
Tone Curve PV2012 : 0, 0, 255, 255
Tone Curve PV2012 Red : 0, 0, 255, 255
Tone Curve PV2012 Green : 0, 0, 255, 255
Tone Curve PV2012 Blue : 0, 0, 255, 255
Gradient Based Corr What : Correction
Gradient Based Corr Amount : 1.000000
Gradient Based Corr Active : true
Gradient Based Corr Saturation : 0.000000
Gradient Based Corr Sharpness : 0.000000
Gradient Based Corr Brightness : 0.000000
Gradient Based Corr Toning Hue : 24.000000
Gradient Based Corr Toning Saturation : 0.290000
Gradient Based Corr Exposure 2012 : -0.175000
Gradient Based Corr Contrast 2012 : 0.000000
Gradient Based Corr Highlights 2012 : 0.000000
Gradient Based Corr Shadows 2012 : 0.000000
Gradient Based Corr Whites 2012 : 0.000000
Gradient Based Corr Blacks 2012 : 0.000000
Gradient Based Corr Clarity 2012 : 0.000000
Gradient Based Corr Dehaze : 0.000000
Gradient Based Corr Luminance Noise : 0.000000
Gradient Based Corr Moire : 0.000000
Gradient Based Corr Defringe : 0.000000
Gradient Based Corr Temperature : 0.119050
Gradient Based Corr Tint : 0.095240
Gradient Based Corr Mask What : Mask/Gradient
Gradient Based Corr Mask Value : 1.000000
Gradient Based Corr Mask Zero X : 0.480169
Gradient Based Corr Mask Zero Y : 0.785082
Gradient Based Corr Mask Full X : 0.480169
Gradient Based Corr Mask Full Y : 0.136536
Circ Grad Based Corr What : Correction
Circ Grad Based Corr Amount : 1.000000
Circ Grad Based Corr Active : true
Circ Grad Based Corr Saturation : 0.000000
Circ Grad Based Corr Sharpness : 0.678570
Circ Grad Based Corr Brightness : 0.000000
Circ Grad Based Corr Toning Hue : 15.000000
Circ Grad Based Corr Toning Saturation : 0.000000
Circ Grad Based Corr Exposure 2012 : 0.089250
Circ Grad Based Corr Contrast 2012 : 0.000000
Circ Grad Based Corr Highlights 2012 : 0.000000
Circ Grad Based Corr Shadows 2012 : 0.000000
Circ Grad Based Corr Whites 2012 : 0.000000
Circ Grad Based Corr Blacks 2012 : 0.000000
Circ Grad Based Corr Clarity 2012 : 0.464290
Circ Grad Based Corr Dehaze : 0.000000
Circ Grad Based Corr Luminance Noise : 0.000000
Circ Grad Based Corr Moire : 0.000000
Circ Grad Based Corr Defringe : 0.000000
Circ Grad Based Corr Temperature : 0.000000
Circ Grad Based Corr Tint : 0.071430
Circ Grad Based Corr Mask What : Mask/CircularGradient
Circ Grad Based Corr Mask Value : 1.000000
Circ Grad Based Corr Mask Top : 0.697677
Circ Grad Based Corr Mask Left : 0.008192
Circ Grad Based Corr Mask Bottom : 0.782525
Circ Grad Based Corr Mask Right : 0.150631
Circ Grad Based Corr Mask Angle : -1.532100
Circ Grad Based Corr Mask Midpoint : +50
Circ Grad Based Corr Mask Roundness : 0
Circ Grad Based Corr Mask Feather : +44
Circ Grad Based Corr Mask Flipped : true
Circ Grad Based Corr Mask Version : +2
Image Width : 350
Image Height : 233
Bits Per Sample : 8
Color Components : 3
Aperture : 5.0
Image Size : 350x233
Megapixels : 0.082
Scale Factor To 35 mm Equivalent : 1.0
Shutter Speed : 1/160
Create Date : 2017:09:25 18:50:47.50
Date/Time Original : 2017:09:25 18:50:47.50
Circle Of Confusion : 0.030 mm
Depth Of Field : inf (2.18 m - inf)
Field Of View : 73.7 deg
Focal Length : 24.0 mm (35 mm equivalent: 24.0 mm)
Hyperfocal Distance : 3.83 m
Light Value : 11.0
Lens ID : AF-S Zoom-Nikkor 24-70mm f/2.8G ED