Uber Exif Photo
By-line : Tony Johansson
Copyright Notice : Tony Johansson
Copyright Flag : True
Make : NIKON CORPORATION
Camera Model Name : NIKON D800E
Software : Adobe Photoshop Lightroom 6.14 (Windows)
Modify Date : 2020:09:05 11:43:53
Artist : Tony Johansson
Copyright : Tony Johansson
Exposure Time : 1/40
F Number : 5.0
Exposure Program : Manual
ISO : 100
Sensitivity Type : Recommended Exposure Index
Date/Time Original : 2020:09:01 19:51:45
Create Date : 2020:09:01 19:51:45
Shutter Speed Value : 1/40
Aperture Value : 5.0
Exposure Compensation : 0
Max Aperture Value : 2.8
Metering Mode : Spot
Light Source : Unknown
Flash : Off, Did not fire
Focal Length : 30.0 mm
Color Space : sRGB
Sensing Method : One-chip color area
Scene Type : Directly photographed
CFA Pattern : [Red,Green][Green,Blue]
Custom Rendered : Normal
Exposure Mode : Manual
White Balance : Auto
Digital Zoom Ratio : 1
Focal Length In 35mm Format : 30 mm
Scene Capture Type : Standard
Gain Control : None
Contrast : Normal
Saturation : Normal
Sharpness : Normal
Subject Distance Range : Unknown
Serial Number : 6008695
Lens Info : 15-30mm f/2.8
Lens Model : 15.0-30.0 mm f/2.8
Profile Description : sRGB IEC61966-2.1
Format : image/jpeg
Creator Tool : Adobe Photoshop Lightroom 6.14 (Windows)
Lens : 15.0-30.0 mm f/2.8
Image Number : 10249
Approximate Focus Distance : 5.01
Distortion Correction Already Applied : True
Lateral Chromatic Aberration Correction Already Applied : True
Vignette Correction Already Applied : True
Date Created : 2020:09:01 19:51:45.50
Marked : True
Version : 10.1
Process Version : 6.7
Auto White Version : 134348800
Color Temperature : 6000
Tint : +15
Luminance Smoothing : 0
Color Noise Reduction : 25
Vignette Amount : 0
Shadow Tint : 0
Red Hue : 0
Red Saturation : 0
Green Hue : 0
Green Saturation : 0
Blue Hue : 0
Blue Saturation : 0
Vibrance : +33
Hue Adjustment Red : +10
Hue Adjustment Orange : 0
Hue Adjustment Yellow : 0
Hue Adjustment Green : 0
Hue Adjustment Aqua : 0
Hue Adjustment Blue : +5
Hue Adjustment Purple : 0
Hue Adjustment Magenta : 0
Saturation Adjustment Red : +16
Saturation Adjustment Orange : +31
Saturation Adjustment Yellow : -5
Saturation Adjustment Green : 0
Saturation Adjustment Aqua : 0
Saturation Adjustment Blue : +41
Saturation Adjustment Purple : +68
Saturation Adjustment Magenta : +29
Luminance Adjustment Red : +1
Luminance Adjustment Orange : -8
Luminance Adjustment Yellow : 0
Luminance Adjustment Green : 0
Luminance Adjustment Aqua : 0
Luminance Adjustment Blue : -38
Luminance Adjustment Purple : +31
Luminance Adjustment Magenta : 0
Split Toning Shadow Hue : 250
Split Toning Shadow Saturation : 7
Split Toning Highlight Hue : 58
Split Toning Highlight Saturation : 37
Split Toning Balance : -68
Parametric Shadows : 0
Parametric Darks : 0
Parametric Lights : 0
Parametric Highlights : 0
Parametric Shadow Split : 25
Parametric Midtone Split : 50
Parametric Highlight Split : 75
Sharpen Radius : +0.9
Sharpen Detail : 45
Sharpen Edge Masking : 17
Post Crop Vignette Amount : 0
Grain Amount : 0
Color Noise Reduction Detail : 50
Color Noise Reduction Smoothness : 50
Lens Profile Enable : 1
Lens Manual Distortion Amount : 0
Perspective Vertical : 0
Perspective Horizontal : 0
Perspective Rotate : 0.0
Perspective Scale : 100
Perspective Aspect : 0
Perspective Upright : Off
Perspective X : 0.00
Perspective Y : 0.00
Auto Lateral CA : 1
Exposure 2012 : -0.67
Contrast 2012 : 0
Highlights 2012 : -80
Shadows 2012 : +9
Whites 2012 : -100
Blacks 2012 : +15
Clarity 2012 : +15
Defringe Purple Amount : 0
Defringe Purple Hue Lo : 30
Defringe Purple Hue Hi : 70
Defringe Green Amount : 0
Defringe Green Hue Lo : 40
Defringe Green Hue Hi : 60
Dehaze : 0
Tone Map Strength : 0
Convert To Grayscale : False
Tone Curve Name : Linear
Tone Curve Name 2012 : Linear
Camera Profile : Camera Standard
Lens Profile Setup : Custom
Lens Profile Name : Adobe (TAMRON SP 15-30mm F2.8 Di VC USD A012N, NIKON CORPORATION)
Lens Profile Filename : NIKON CORPORATION (TAMRON SP 15-30mm F_2.8 Di VC USD A012N) - RAW.lcp
Lens Profile Distortion Scale : 100
Lens Profile Chromatic Aberration Scale : 100
Lens Profile Vignetting Scale : 100
Has Settings : True
Crop Top : 0.219484
Crop Left : 0.034455
Crop Bottom : 0.965962
Crop Right : 1
Crop Angle : 0
Crop Constrain To Warp : 0
Has Crop : True
Already Applied : True
Creator : Tony Johansson
Rights : Tony Johansson
Creator Postal Code : 415 46
Creator Work Telephone : +46(0)731002099
Creator Country : Sverige
Creator City : Göteborg
Creator Address : Januarigatan 18
Creator Work Email : Tony64jo@hotmail.com
Tone Curve : 0, 0, 255, 255
Tone Curve Red : 0, 0, 255, 255
Tone Curve Green : 0, 0, 255, 255
Tone Curve Blue : 0, 0, 255, 255
Tone Curve PV2012 : 0, 0, 255, 255
Tone Curve PV2012 Red : 0, 0, 255, 255
Tone Curve PV2012 Green : 0, 0, 255, 255
Tone Curve PV2012 Blue : 0, 0, 255, 255
Paint Correction What : Correction
Paint Correction Amount : 1.000000
Paint Correction Active : true
Paint Correction Saturation : 0.000000
Paint Correction Sharpness : 0.000000
Paint Correction Brightness : 0.000000
Paint Correction Toning Hue : 240.000000
Paint Correction Toning Saturation : 0.000000
Paint Correction Exposure 2012 : 0.062500
Paint Correction Contrast 2012 : 0.000000
Paint Correction Highlights 2012 : 0.000000
Paint Correction Shadows 2012 : 0.000000
Paint Correction Whites 2012 : 0.000000
Paint Correction Blacks 2012 : 0.000000
Paint Correction Clarity 2012 : 0.000000
Paint Correction Dehaze : 0.000000
Paint Correction Luminance Noise : 0.000000
Paint Correction Moire : 0.000000
Paint Correction Defringe : 0.000000
Paint Correction Temperature : 0.000000
Paint Correction Tint : 0.000000
Paint Correction Mask What : Mask/Paint
Paint Correction Mask Value : 1.000000
Paint Correction Mask Radius : 0.019418
Paint Correction Mask Flow : 1.000000
Paint Correction Mask Center Weight : 0.000000
Gradient Based Corr What : Correction
Gradient Based Corr Amount : 1.000000
Gradient Based Corr Active : true
Gradient Based Corr Saturation : 0.000000
Gradient Based Corr Sharpness : 0.000000
Gradient Based Corr Brightness : 0.000000
Gradient Based Corr Toning Hue : 0.000000
Gradient Based Corr Toning Saturation : 0.000000
Gradient Based Corr Exposure 2012 : 0.481500
Gradient Based Corr Contrast 2012 : -0.061730
Gradient Based Corr Highlights 2012 : 0.024690
Gradient Based Corr Shadows 2012 : 0.148150
Gradient Based Corr Whites 2012 : 0.000000
Gradient Based Corr Blacks 2012 : 0.000000
Gradient Based Corr Clarity 2012 : 0.000000
Gradient Based Corr Dehaze : 0.000000
Gradient Based Corr Luminance Noise : 0.000000
Gradient Based Corr Moire : 0.000000
Gradient Based Corr Defringe : 0.000000
Gradient Based Corr Temperature : 0.000000
Gradient Based Corr Tint : 0.000000
Gradient Based Corr Mask What : Mask/Gradient
Gradient Based Corr Mask Value : 1.000000
Gradient Based Corr Mask Zero X : 0.519864
Gradient Based Corr Mask Zero Y : 0.454990
Gradient Based Corr Mask Full X : 0.520032
Gradient Based Corr Mask Full Y : 0.997372
Circ Grad Based Corr What : Correction
Circ Grad Based Corr Amount : 1.000000
Circ Grad Based Corr Active : true
Circ Grad Based Corr Saturation : 0.000000
Circ Grad Based Corr Sharpness : 0.000000
Circ Grad Based Corr Brightness : 0.000000
Circ Grad Based Corr Toning Hue : 0.000000
Circ Grad Based Corr Toning Saturation : 0.986755
Circ Grad Based Corr Exposure 2012 : 0.086500
Circ Grad Based Corr Contrast 2012 : 0.000000
Circ Grad Based Corr Highlights 2012 : 0.000000
Circ Grad Based Corr Shadows 2012 : 0.000000
Circ Grad Based Corr Whites 2012 : 0.000000
Circ Grad Based Corr Blacks 2012 : 0.000000
Circ Grad Based Corr Clarity 2012 : 0.012350
Circ Grad Based Corr Dehaze : 0.000000
Circ Grad Based Corr Luminance Noise : 0.000000
Circ Grad Based Corr Moire : 0.000000
Circ Grad Based Corr Defringe : 0.000000
Circ Grad Based Corr Temperature : 0.000000
Circ Grad Based Corr Tint : 0.000000
Circ Grad Based Corr Mask What : Mask/CircularGradient
Circ Grad Based Corr Mask Value : 1.000000
Circ Grad Based Corr Mask Top : 0.828403
Circ Grad Based Corr Mask Left : 0.543444
Circ Grad Based Corr Mask Bottom : 0.846046
Circ Grad Based Corr Mask Right : 0.552826
Circ Grad Based Corr Mask Angle : 3.589160
Circ Grad Based Corr Mask Midpoint : +50
Circ Grad Based Corr Mask Roundness : 0
Circ Grad Based Corr Mask Feather : +41
Circ Grad Based Corr Mask Flipped : true
Circ Grad Based Corr Mask Version : +2
Image Width : 400
Image Height : 206
Bits Per Sample : 8
Color Components : 3
Aperture : 5.0
Image Size : 400x206
Megapixels : 0.082
Scale Factor To 35 mm Equivalent : 1.0
Shutter Speed : 1/40
Create Date : 2020:09:01 19:51:45.50
Date/Time Original : 2020:09:01 19:51:45.50
Circle Of Confusion : 0.030 mm
Depth Of Field : 26.96 m (2.74 - 29.69 m)
Field Of View : 61.9 deg
Focal Length : 30.0 mm (35 mm equivalent: 30.0 mm)
Hyperfocal Distance : 5.99 m
Light Value : 10.0
Lens ID : Tamron SP 15-30mm f/2.8 Di VC USD G2 (A041)