Uber Exif Photo
By-line : Tony Johansson
Copyright Notice : Tony Johansson
Copyright Flag : True
Make : NIKON CORPORATION
Camera Model Name : NIKON D850
Software : Adobe Photoshop Lightroom 6.14 (Windows)
Modify Date : 2020:10:24 21:58:40
Artist : Tony Johansson
Copyright : Tony Johansson
Exposure Time : 5
F Number : 13.0
Exposure Program : Aperture-priority AE
ISO : 64
Sensitivity Type : Recommended Exposure Index
Recommended Exposure Index : 64
Date/Time Original : 2020:10:24 17:17:28
Create Date : 2020:10:24 17:17:28
Shutter Speed Value : 5
Aperture Value : 13.0
Exposure Compensation : +2
Max Aperture Value : 2.8
Metering Mode : Multi-segment
Light Source : Unknown
Flash : No Flash
Focal Length : 125.0 mm
Color Space : Uncalibrated
Sensing Method : One-chip color area
Scene Type : Directly photographed
CFA Pattern : [Red,Green][Green,Blue]
Custom Rendered : Custom
Exposure Mode : Auto
White Balance : Auto
Focal Length In 35mm Format : 125 mm
Scene Capture Type : Standard
Gain Control : None
Contrast : Normal
Saturation : Normal
Sharpness : Normal
Subject Distance Range : Unknown
Serial Number : 6067175
Lens Info : 70-200mm f/2.8
Lens Model : 70.0-200.0 mm f/2.8
Profile Description : Adobe RGB (1998)
Creator Tool : Adobe Photoshop Lightroom 6.14 (Windows)
Format : image/jpeg
Lens : 70.0-200.0 mm f/2.8
Image Number : 656
Approximate Focus Distance : 63.1
Distortion Correction Already Applied : True
Lateral Chromatic Aberration Correction Already Applied : True
Vignette Correction Already Applied : True
Date Created : 2020:10:24 17:17:28.18
Marked : True
Version : 10.1
Process Version : 6.7
Auto White Version : 134348800
Color Temperature : 5000
Tint : +9
Luminance Smoothing : 0
Color Noise Reduction : 25
Vignette Amount : 0
Shadow Tint : 0
Red Hue : 0
Red Saturation : 0
Green Hue : 0
Green Saturation : 0
Blue Hue : 0
Blue Saturation : 0
Vibrance : +35
Hue Adjustment Red : 0
Hue Adjustment Orange : -17
Hue Adjustment Yellow : -15
Hue Adjustment Green : 0
Hue Adjustment Aqua : 0
Hue Adjustment Blue : +3
Hue Adjustment Purple : +32
Hue Adjustment Magenta : 0
Saturation Adjustment Red : 0
Saturation Adjustment Orange : -7
Saturation Adjustment Yellow : -18
Saturation Adjustment Green : 0
Saturation Adjustment Aqua : -7
Saturation Adjustment Blue : -29
Saturation Adjustment Purple : -42
Saturation Adjustment Magenta : +9
Luminance Adjustment Red : 0
Luminance Adjustment Orange : -2
Luminance Adjustment Yellow : -14
Luminance Adjustment Green : 0
Luminance Adjustment Aqua : 0
Luminance Adjustment Blue : -5
Luminance Adjustment Purple : -73
Luminance Adjustment Magenta : 0
Split Toning Shadow Hue : 0
Split Toning Shadow Saturation : 0
Split Toning Highlight Hue : 0
Split Toning Highlight Saturation : 0
Split Toning Balance : 0
Parametric Shadows : 0
Parametric Darks : 0
Parametric Lights : 0
Parametric Highlights : 0
Parametric Shadow Split : 25
Parametric Midtone Split : 50
Parametric Highlight Split : 75
Sharpen Radius : +0.5
Sharpen Detail : 28
Sharpen Edge Masking : 0
Post Crop Vignette Amount : 0
Grain Amount : 0
Color Noise Reduction Detail : 50
Color Noise Reduction Smoothness : 50
Lens Profile Enable : 1
Lens Manual Distortion Amount : 0
Perspective Vertical : 0
Perspective Horizontal : 0
Perspective Rotate : 0.0
Perspective Scale : 100
Perspective Aspect : 0
Perspective Upright : Off
Perspective X : 0.00
Perspective Y : 0.00
Auto Lateral CA : 1
Exposure 2012 : -1.87
Contrast 2012 : +24
Highlights 2012 : +44
Shadows 2012 : -5
Whites 2012 : +41
Blacks 2012 : -51
Clarity 2012 : +49
Defringe Purple Amount : 0
Defringe Purple Hue Lo : 30
Defringe Purple Hue Hi : 70
Defringe Green Amount : 0
Defringe Green Hue Lo : 40
Defringe Green Hue Hi : 60
Dehaze : 0
Tone Map Strength : 0
Convert To Grayscale : False
Tone Curve Name : Linear
Tone Curve Name 2012 : Linear
Camera Profile : Camera Standard
Lens Profile Setup : Custom
Lens Profile Name : Adobe (TAMRON SP 70-200mm F2.8 Di VC USD A009N)
Lens Profile Filename : NIKON CORPORATION (TAMRON SP 70-200mm F_2.8 Di VC USD A009N) - RAW.lcp
Lens Profile Distortion Scale : 100
Lens Profile Chromatic Aberration Scale : 100
Lens Profile Vignetting Scale : 100
Has Settings : True
Crop Top : 0.03143
Crop Left : 0.001185
Crop Bottom : 0.987276
Crop Right : 0.998815
Crop Angle : 0.10686
Crop Constrain To Warp : 0
Has Crop : True
Already Applied : True
Creator : Tony Johansson
Rights : Tony Johansson
Creator Postal Code : 415 46
Creator Work Telephone : +46(0)731002099
Creator Country : Sverige
Creator City : Göteborg
Creator Address : Januarigatan 18
Creator Work Email : Tony64jo@hotmail.com
Tone Curve : 0, 0, 255, 255
Tone Curve Red : 0, 0, 255, 255
Tone Curve Green : 0, 0, 255, 255
Tone Curve Blue : 0, 0, 255, 255
Tone Curve PV2012 : 0, 0, 255, 255
Tone Curve PV2012 Red : 0, 0, 255, 255
Tone Curve PV2012 Green : 0, 0, 255, 255
Tone Curve PV2012 Blue : 0, 0, 255, 255
Image Width : 400
Image Height : 254
Bits Per Sample : 8
Color Components : 3
Aperture : 13.0
Image Size : 400x254
Megapixels : 0.102
Scale Factor To 35 mm Equivalent : 1.0
Shutter Speed : 5
Create Date : 2020:10:24 17:17:28.18
Date/Time Original : 2020:10:24 17:17:28.18
Circle Of Confusion : 0.030 mm
Depth Of Field : inf (24.51 m - inf)
Field Of View : 16.4 deg
Focal Length : 125.0 mm (35 mm equivalent: 125.0 mm)
Hyperfocal Distance : 40.00 m
Light Value : 5.7
Lens ID : Tamron SP 70-200mm f/2.8 Di VC USD G2 (A025)