Uber Exif Photo
Photometric Interpretation : RGB
Make : NIKON CORPORATION
Camera Model Name : NIKON D80
Orientation : Horizontal (normal)
Samples Per Pixel : 3
Software : Adobe Photoshop CS5 Windows
Modify Date : 2017:02:14 11:24:39
Exposure Time : 1/160
F Number : 13.0
Exposure Program : Aperture-priority AE
ISO : 200
Date/Time Original : 2017:01:13 10:46:11
Create Date : 2017:01:13 10:46:11
Shutter Speed Value : 1/160
Aperture Value : 13.0
Exposure Compensation : 0
Max Aperture Value : 3.5
Subject Distance : 2.24 m
Metering Mode : Multi-segment
Light Source : Unknown
Flash : No Flash
Focal Length : 18.0 mm
Color Space : Uncalibrated
Exif Image Width : 1026
Exif Image Height : 688
Sensing Method : One-chip color area
Scene Type : Directly photographed
Custom Rendered : Normal
Exposure Mode : Auto
White Balance : Auto
Digital Zoom Ratio : 1
Focal Length In 35mm Format : 27 mm
Scene Capture Type : Standard
Gain Control : None
Contrast : Normal
Saturation : Normal
Sharpness : Normal
Subject Distance Range : Unknown
Profile Description : Adobe RGB (1998)
Creator Tool : Adobe Photoshop CS5 Windows
Rating : 0
Serial Number : 4391476
Lens Info : 18-55mm f/3.5-5.6
Lens : 18.0-55.0 mm f/3.5-5.6
Image Number : 3417
Raw File Name : DSC_0131.NEF
Version : 6.0
Process Version : 5.7
Color Temperature : 5500
Tint : +10
Exposure : +1.85
Shadows : 24
Brightness : +21
Luminance Smoothing : 0
Color Noise Reduction : 25
Chromatic Aberration R : 0
Chromatic Aberration B : 0
Vignette Amount : 0
Shadow Tint : 0
Red Hue : 0
Red Saturation : 0
Green Hue : 0
Green Saturation : 0
Blue Hue : 0
Blue Saturation : 0
Fill Light : 0
Vibrance : 0
Highlight Recovery : 25
Clarity : 0
Defringe : 0
Hue Adjustment Red : 0
Hue Adjustment Orange : 0
Hue Adjustment Yellow : 0
Hue Adjustment Green : 0
Hue Adjustment Aqua : 0
Hue Adjustment Blue : 0
Hue Adjustment Purple : 0
Hue Adjustment Magenta : 0
Saturation Adjustment Red : 0
Saturation Adjustment Orange : 0
Saturation Adjustment Yellow : 0
Saturation Adjustment Green : 0
Saturation Adjustment Aqua : 0
Saturation Adjustment Blue : 0
Saturation Adjustment Purple : 0
Saturation Adjustment Magenta : 0
Luminance Adjustment Red : 0
Luminance Adjustment Orange : 0
Luminance Adjustment Yellow : 0
Luminance Adjustment Green : 0
Luminance Adjustment Aqua : 0
Luminance Adjustment Blue : 0
Luminance Adjustment Purple : 0
Luminance Adjustment Magenta : 0
Split Toning Shadow Hue : 0
Split Toning Shadow Saturation : 0
Split Toning Highlight Hue : 0
Split Toning Highlight Saturation : 0
Split Toning Balance : 0
Parametric Shadows : 0
Parametric Darks : 0
Parametric Lights : 0
Parametric Highlights : 0
Parametric Shadow Split : 25
Parametric Midtone Split : 50
Parametric Highlight Split : 75
Sharpen Radius : +1.0
Sharpen Detail : 25
Sharpen Edge Masking : 0
Post Crop Vignette Amount : 0
Grain Amount : 0
Color Noise Reduction Detail : 50
Convert To Grayscale : False
Tone Curve Name : Medium Contrast
Camera Profile : Adobe Standard
Has Settings : True
Has Crop : False
Already Applied : True
Sidecar For Extension : NEF
Date Created : 2017:01:13 10:46:11.009
Color Mode : RGB
ICC Profile Name : Adobe RGB (1998)
Format : image/jpeg
Tone Curve : 0, 0, 32, 22, 64, 56, 128, 128, 192, 196, 255, 255
Image Width : 300
Image Height : 201
Bits Per Sample : 8
Color Components : 3
Aperture : 13.0
Image Size : 300x201
Megapixels : 0.060
Scale Factor To 35 mm Equivalent : 1.5
Shutter Speed : 1/160
Create Date : 2017:01:13 10:46:11.90
Date/Time Original : 2017:01:13 10:46:11.90
Modify Date : 2017:02:14 11:24:39.90
Circle Of Confusion : 0.020 mm
Depth Of Field : inf (0.80 m - inf)
Field Of View : 67.4 deg
Focal Length : 18.0 mm (35 mm equivalent: 27.0 mm)
Hyperfocal Distance : 1.24 m
Light Value : 13.7
Lens ID : AF-S DX VR Zoom-Nikkor 18-55mm f/3.5-5.6G