Uber Exif Photo
Make : NIKON CORPORATION
Camera Model Name : NIKON D750
Orientation : Horizontal (normal)
Software : Adobe Photoshop Lightroom 5.7.1 (Macintosh)
Modify Date : 2016:04:01 17:47:44
Exposure Time : 1/30
F Number : 4.0
Exposure Program : Aperture-priority AE
ISO : 900
Date/Time Original : 2016:04:01 08:25:50
Create Date : 2016:04:01 08:25:50
Shutter Speed Value : 1/30
Aperture Value : 4.0
Exposure Compensation : 0
Max Aperture Value : 4.0
Metering Mode : Center-weighted average
Light Source : Unknown
Flash : Off, Did not fire
Focal Length : 52.0 mm
Color Space : sRGB
Exif Image Width : 6016
Exif Image Height : 4016
Sensing Method : One-chip color area
Scene Type : Directly photographed
Exposure Mode : Auto
White Balance : Auto
Digital Zoom Ratio : 1
Focal Length In 35mm Format : 52 mm
Scene Capture Type : Standard
Gain Control : High gain up
Contrast : Normal
Saturation : Normal
Sharpness : Normal
Subject Distance Range : Unknown
Lens Info : 24-120mm f/4
Lens Model : 24.0-120.0 mm f/4.0
Profile Description : sRGB IEC61966-2.1
Luminance Adjustment Green : 0
Hue Adjustment Green : 0
Saturation Adjustment Yellow : 0
Parametric Darks : +13
Perspective Scale : 100
Clarity 2012 : 0
Hue Adjustment Magenta : 0
Color Noise Reduction : 0
Perspective Upright : Off
Has Crop : False
Hue Adjustment Aqua : 0
Red Saturation : 0
Parametric Shadows : -9
Hue Adjustment Orange : 0
Hue Adjustment Yellow : 0
Split Toning Shadow Saturation : 0
Lens Manual Distortion Amount : 0
Tone Curve Name : Linear
Shadows 2012 : 0
Hue Adjustment Blue : 0
Blacks 2012 : 0
Tone Curve Name 2012 : Linear
Luminance Adjustment Magenta : 0
Convert To Grayscale : False
Luminance Smoothing : 0
Highlights 2012 : 0
Luminance Adjustment Yellow : 0
Incremental Tint : 0
Parametric Midtone Split : 50
Perspective Aspect : 0
Shadow Tint : 0
Hue Adjustment Red : 0
Split Toning Highlight Saturation : 0
Split Toning Shadow Hue : 0
Has Settings : True
Lens Profile Setup : LensDefaults
Defringe Purple Hue Hi : 70
Saturation Adjustment Orange : 0
Defringe Purple Hue Lo : 30
Post Crop Vignette Amount : 0
Split Toning Balance : 0
Lens Profile Enable : 0
Vignette Amount : 0
Perspective Rotate : 0.0
Process Version : 6.7
Saturation Adjustment Purple : 0
Saturation Adjustment Green : 0
Vibrance : 0
Parametric Highlights : 0
Green Saturation : 0
Parametric Shadow Split : 25
Luminance Adjustment Purple : 0
Luminance Adjustment Orange : 0
Green Hue : 0
Perspective Vertical : 0
Blue Saturation : 0
Perspective Horizontal : 0
Sharpen Detail : 25
Blue Hue : 0
Luminance Adjustment Aqua : 0
Parametric Highlight Split : 75
Auto Lateral CA : 0
Incremental Temperature : 0
Red Hue : 0
Split Toning Highlight Hue : 0
Camera Profile : Embedded
Saturation Adjustment Aqua : 0
Saturation Adjustment Red : 0
Defringe Purple Amount : 0
Parametric Lights : +25
Sharpen Radius : +1.0
Luminance Adjustment Blue : 0
Luminance Adjustment Red : 0
Hue Adjustment Purple : 0
Auto White Version : 134348800
Saturation Adjustment Blue : 0
Contrast 2012 : 0
Already Applied : True
Defringe Green Hue Hi : 60
Grain Amount : 0
Version : 8.7.1
Defringe Green Amount : 0
Whites 2012 : 0
Defringe Green Hue Lo : 40
Sharpen Edge Masking : 0
Exposure 2012 : 0.00
Saturation Adjustment Magenta : 0
Image Number : 3105
Serial Number : 8520843
Lens : 24.0-120.0 mm f/4.0
Creator Tool : Adobe Photoshop Lightroom 5.7.1 (Macintosh)
Format : image/jpeg
Date Created : 2016:04:01 08:25:50.34
Tone Curve PV2012 Red : 0, 0, 255, 255
Tone Curve PV2012 Green : 0, 0, 255, 255
Tone Curve PV2012 : 0, 0, 255, 255
Tone Curve Green : 0, 0, 255, 255
Tone Curve Red : 0, 0, 255, 255
Tone Curve Blue : 0, 0, 255, 255
Tone Curve : 0, 0, 255, 255
Tone Curve PV2012 Blue : 0, 0, 255, 255
Image Width : 300
Image Height : 200
Bits Per Sample : 8
Color Components : 3
Aperture : 4.0
Image Size : 300x200
Megapixels : 0.060
Scale Factor To 35 mm Equivalent : 1.0
Shutter Speed : 1/30
Date/Time Original : 2016:04:01 08:25:50.34
Circle Of Confusion : 0.030 mm
Field Of View : 38.2 deg
Focal Length : 52.0 mm (35 mm equivalent: 52.0 mm)
Hyperfocal Distance : 22.50 m
Light Value : 5.7
Lens ID : AF-S Nikkor 24-120mm f/4G ED VR