Uber Exif Photo
By-line : Jarek
Copyright Notice : Jarek
Make : NIKON CORPORATION
Camera Model Name : NIKON D810
Orientation : Horizontal (normal)
Software : Adobe Photoshop CS6 (Windows)
Modify Date : 2016:02:28 17:07:20
Artist : Jarek
Copyright : Jarek
Exposure Time : 1/125
F Number : 3.2
Exposure Program : Manual
ISO : 64
Sensitivity Type : Recommended Exposure Index
Date/Time Original : 2016:02:28 15:49:31
Create Date : 2016:02:28 15:49:31
Shutter Speed Value : 1/125
Aperture Value : 3.2
Exposure Compensation : 0
Max Aperture Value : 2.8
Metering Mode : Center-weighted average
Light Source : Unknown
Flash : On, Return detected
Focal Length : 46.0 mm
Color Space : sRGB
Exif Image Width : 2700
Exif Image Height : 1793
Sensing Method : One-chip color area
Scene Type : Directly photographed
CFA Pattern : [Red,Green][Green,Blue]
Custom Rendered : Normal
Exposure Mode : Manual
White Balance : Auto
Digital Zoom Ratio : 1
Focal Length In 35mm Format : 46 mm
Scene Capture Type : Standard
Gain Control : None
Contrast : Normal
Saturation : Normal
Sharpness : Soft
Subject Distance Range : Unknown
Serial Number : 6035705
Lens Info : 28-75mm f/2.8
Lens Model : 28.0-75.0 mm f/2.8
Profile Description : sRGB IEC61966-2.1
Creator Tool : NIKON D810 Ver.1.02
Rating : 0
Format : image/jpeg
Lens : 28.0-75.0 mm f/2.8
Image Number : 2125
Approximate Focus Distance : 1.41
Date Created : 2016:02:28 15:49:31.054
Color Mode : RGB
ICC Profile Name : sRGB IEC61966-2.1
Raw File Name : JP_20160228_001382.NEF
Version : 9.1.1
Process Version : 6.7
Auto White Version : 134348800
Color Temperature : 6500
Tint : +3
Luminance Smoothing : 0
Color Noise Reduction : 25
Vignette Amount : 0
Shadow Tint : 0
Red Hue : 0
Red Saturation : 0
Green Hue : 0
Green Saturation : 0
Blue Hue : 0
Blue Saturation : 0
Vibrance : 0
Hue Adjustment Red : 0
Hue Adjustment Orange : 0
Hue Adjustment Yellow : 0
Hue Adjustment Green : 0
Hue Adjustment Aqua : 0
Hue Adjustment Blue : 0
Hue Adjustment Purple : 0
Hue Adjustment Magenta : 0
Saturation Adjustment Red : 0
Saturation Adjustment Orange : 0
Saturation Adjustment Yellow : 0
Saturation Adjustment Green : 0
Saturation Adjustment Aqua : 0
Saturation Adjustment Blue : 0
Saturation Adjustment Purple : 0
Saturation Adjustment Magenta : 0
Luminance Adjustment Red : 0
Luminance Adjustment Orange : 0
Luminance Adjustment Yellow : 0
Luminance Adjustment Green : 0
Luminance Adjustment Aqua : 0
Luminance Adjustment Blue : 0
Luminance Adjustment Purple : 0
Luminance Adjustment Magenta : 0
Split Toning Shadow Hue : 0
Split Toning Shadow Saturation : 0
Split Toning Highlight Hue : 0
Split Toning Highlight Saturation : 0
Split Toning Balance : 0
Parametric Shadows : 0
Parametric Darks : 0
Parametric Lights : 0
Parametric Highlights : 0
Parametric Shadow Split : 25
Parametric Midtone Split : 50
Parametric Highlight Split : 75
Sharpen Radius : +1.0
Sharpen Detail : 25
Sharpen Edge Masking : 0
Post Crop Vignette Amount : 0
Grain Amount : 0
Color Noise Reduction Detail : 50
Color Noise Reduction Smoothness : 50
Lens Profile Enable : 0
Lens Manual Distortion Amount : 0
Perspective Vertical : 0
Perspective Horizontal : 0
Perspective Rotate : 0.0
Perspective Scale : 100
Perspective Aspect : 0
Perspective Upright : Off
Auto Lateral CA : 0
Exposure 2012 : +1.20
Contrast 2012 : 0
Highlights 2012 : 0
Shadows 2012 : +31
Whites 2012 : 0
Blacks 2012 : 0
Clarity 2012 : +12
Defringe Purple Amount : 0
Defringe Purple Hue Lo : 30
Defringe Purple Hue Hi : 70
Defringe Green Amount : 0
Defringe Green Hue Lo : 40
Defringe Green Hue Hi : 60
Dehaze : 0
Tone Map Strength : 0
Convert To Grayscale : False
Tone Curve Name : Medium Contrast
Tone Curve Name 2012 : Linear
Camera Profile : Adobe Standard
Lens Profile Setup : LensDefaults
Has Settings : True
Crop Top : 0
Crop Left : 0.090451
Crop Bottom : 0.970982
Crop Right : 0.931887
Crop Angle : 5.453919
Crop Constrain To Warp : 1
Has Crop : True
Already Applied : True
Creator : Jarek
Rights : Jarek
Tone Curve : 0, 0, 32, 22, 64, 56, 128, 128, 192, 196, 255, 255
Tone Curve Red : 0, 0, 255, 255
Tone Curve Green : 0, 0, 255, 255
Tone Curve Blue : 0, 0, 255, 255
Tone Curve PV2012 : 0, 0, 255, 255
Tone Curve PV2012 Red : 0, 0, 255, 255
Tone Curve PV2012 Green : 0, 0, 255, 255
Tone Curve PV2012 Blue : 0, 0, 255, 255
Image Width : 300
Image Height : 199
Bits Per Sample : 8
Color Components : 3
Aperture : 3.2
Image Size : 300x199
Megapixels : 0.060
Scale Factor To 35 mm Equivalent : 1.0
Shutter Speed : 1/125
Create Date : 2016:02:28 15:49:31.54
Date/Time Original : 2016:02:28 15:49:31.54
Modify Date : 2016:02:28 17:07:20.54
Circle Of Confusion : 0.030 mm
Depth Of Field : 0.18 m (1.33 - 1.50 m)
Field Of View : 42.7 deg
Focal Length : 46.0 mm (35 mm equivalent: 46.0 mm)
Hyperfocal Distance : 22.01 m
Light Value : 11.0
Lens ID : Tamron SP AF 28-75mm f/2.8 XR Di LD Aspherical (IF) Macro (A09NII)