Uber Exif Photo
By-line : JAREK
Copyright Notice : JAREK
Make : NIKON CORPORATION
Camera Model Name : NIKON D300S
Orientation : Horizontal (normal)
Software : Adobe Photoshop CS5 Windows
Modify Date : 2015:10:24 17:17:15
Artist : JAREK
Copyright : JAREK
Exposure Time : 1/125
F Number : 3.2
Exposure Program : Manual
ISO : 200
Date/Time Original : 2015:10:24 16:28:50
Create Date : 2015:10:24 16:28:50
Shutter Speed Value : 1/125
Aperture Value : 3.2
Exposure Compensation : 0
Max Aperture Value : 2.8
Subject Distance : 3.76 m
Metering Mode : Center-weighted average
Light Source : Unknown
Flash : On, Return detected
Focal Length : 62.0 mm
Color Space : Uncalibrated
Exif Image Width : 1800
Exif Image Height : 2700
Sensing Method : One-chip color area
Scene Type : Directly photographed
CFA Pattern : [Red,Green][Green,Blue]
Custom Rendered : Normal
Exposure Mode : Manual
White Balance : Auto
Digital Zoom Ratio : 1
Focal Length In 35mm Format : 93 mm
Scene Capture Type : Standard
Gain Control : None
Contrast : Normal
Saturation : Normal
Sharpness : Soft
Subject Distance Range : Unknown
Serial Number : 6056090
Lens Info : 50-150mm f/2.8
Lens Model : 50.0-150.0 mm f/2.8
Profile Description : Adobe RGB (1998)
Format : image/jpeg
Creator Tool : Ver.1.02
Rating : 0
Lens : 50.0-150.0 mm f/2.8
Image Number : 29339
Approximate Focus Distance : 3.76
Date Created : 2015:10:24 16:28:50.075
Color Mode : RGB
ICC Profile Name : Adobe RGB (1998)
Raw File Name : _DSC8297.NEF
Version : 6.7
Process Version : 5.7
Color Temperature : 4500
Tint : +4
Exposure : +0.30
Shadows : 5
Brightness : +50
Luminance Smoothing : 0
Color Noise Reduction : 25
Vignette Amount : 0
Shadow Tint : 0
Red Hue : 0
Red Saturation : 0
Green Hue : 0
Green Saturation : 0
Blue Hue : 0
Blue Saturation : 0
Fill Light : 26
Vibrance : 0
Highlight Recovery : 60
Clarity : +28
Defringe : 0
Hue Adjustment Red : 0
Hue Adjustment Orange : 0
Hue Adjustment Yellow : 0
Hue Adjustment Green : 0
Hue Adjustment Aqua : 0
Hue Adjustment Blue : 0
Hue Adjustment Purple : 0
Hue Adjustment Magenta : 0
Saturation Adjustment Red : 0
Saturation Adjustment Orange : 0
Saturation Adjustment Yellow : 0
Saturation Adjustment Green : 0
Saturation Adjustment Aqua : 0
Saturation Adjustment Blue : 0
Saturation Adjustment Purple : 0
Saturation Adjustment Magenta : 0
Luminance Adjustment Red : 0
Luminance Adjustment Orange : 0
Luminance Adjustment Yellow : 0
Luminance Adjustment Green : 0
Luminance Adjustment Aqua : 0
Luminance Adjustment Blue : 0
Luminance Adjustment Purple : 0
Luminance Adjustment Magenta : 0
Split Toning Shadow Hue : 0
Split Toning Shadow Saturation : 0
Split Toning Highlight Hue : 0
Split Toning Highlight Saturation : 0
Split Toning Balance : 0
Parametric Shadows : 0
Parametric Darks : 0
Parametric Lights : 0
Parametric Highlights : 0
Parametric Shadow Split : 25
Parametric Midtone Split : 50
Parametric Highlight Split : 75
Sharpen Radius : +1.0
Sharpen Detail : 25
Sharpen Edge Masking : 0
Post Crop Vignette Amount : 0
Grain Amount : 0
Color Noise Reduction Detail : 50
Lens Profile Enable : 0
Lens Manual Distortion Amount : 0
Perspective Vertical : 0
Perspective Horizontal : 0
Perspective Rotate : 0.0
Perspective Scale : 100
Auto Lateral CA : 0
Exposure 2012 : 0.00
Contrast 2012 : 0
Highlights 2012 : 0
Shadows 2012 : 0
Whites 2012 : 0
Blacks 2012 : 0
Clarity 2012 : 0
Convert To Grayscale : False
Tone Curve Name : Medium Contrast
Tone Curve Name 2012 : Linear
Camera Profile : Adobe Standard
Lens Profile Setup : LensDefaults
Has Settings : True
Has Crop : False
Already Applied : True
Creator : JAREK
Rights : JAREK
Tone Curve : 0, 0, 32, 22, 64, 56, 128, 128, 192, 196, 255, 255
Tone Curve Red : 0, 0, 255, 255
Tone Curve Green : 0, 0, 255, 255
Tone Curve Blue : 0, 0, 255, 255
Tone Curve PV2012 : 0, 0, 255, 255
Tone Curve PV2012 Red : 0, 0, 255, 255
Tone Curve PV2012 Green : 0, 0, 255, 255
Tone Curve PV2012 Blue : 0, 0, 255, 255
Image Width : 200
Image Height : 300
Bits Per Sample : 8
Color Components : 3
Aperture : 3.2
Image Size : 200x300
Megapixels : 0.060
Scale Factor To 35 mm Equivalent : 1.5
Shutter Speed : 1/125
Create Date : 2015:10:24 16:28:50.75
Date/Time Original : 2015:10:24 16:28:50.75
Modify Date : 2015:10:24 17:17:15.75
Circle Of Confusion : 0.020 mm
Depth Of Field : 0.47 m (3.54 - 4.01 m)
Field Of View : 21.9 deg
Focal Length : 62.0 mm (35 mm equivalent: 93.0 mm)
Hyperfocal Distance : 59.97 m
Light Value : 9.3
Lens ID : Sigma 50-150mm F2.8 EX APO DC HSM II