Uber Exif Photo
Photometric Interpretation : RGB
Orientation : Horizontal (normal)
Samples Per Pixel : 3
Software : Adobe Photoshop CS6 (Windows)
Modify Date : 2015:06:26 10:20:04
Color Space : Uncalibrated
Exif Image Width : 2411
Exif Image Height : 3409
Profile Description : Adobe RGB (1998)
Method : Details Enhancer
Strength : 70.0
Color Saturation : 42.0
Luminosity : 0.7
White Clip : 0.074850
Black Clip : 0.058650
Smoothing Mode : Light
Smoothing : Very High
Microcontrast : 4.1
Microsmoothing : 4.8
Gamma : 0.92
Highlights Smoothing : 1.0
Shadows Smoothing : 45.0
Shadows Clipping : 0.0
Color Temperature : -0.1
Saturation Highlights : 2.9
Saturation Shadows : 1.3
Is Pano 360 : No
Format : image/jpeg
Rating : 0
Create Date : 2013:01:15 16:13:42+04:00
Creator Tool : Adobe Photoshop CS6 (Windows)
Color Mode : RGB
ICC Profile Name : Adobe RGB (1998)
Raw File Name : ASEQ Pano2_tonemapped.tif
Version : 7.0
Process Version : 6.7
White Balance : Custom
Incremental Temperature : +7
Incremental Tint : 0
Exposure : 0.00
Shadows : 0
Brightness : 0
Contrast : 0
Saturation : 0
Sharpness : 49
Luminance Smoothing : 66
Color Noise Reduction : 0
Vignette Amount : 0
Shadow Tint : 0
Red Hue : 0
Red Saturation : 0
Green Hue : 0
Green Saturation : 0
Blue Hue : 0
Blue Saturation : 0
Fill Light : 0
Vibrance : 0
Highlight Recovery : 0
Clarity : 0
Defringe : 0
Hue Adjustment Red : 0
Hue Adjustment Orange : 0
Hue Adjustment Yellow : 0
Hue Adjustment Green : 0
Hue Adjustment Aqua : 0
Hue Adjustment Blue : 0
Hue Adjustment Purple : 0
Hue Adjustment Magenta : 0
Saturation Adjustment Red : 0
Saturation Adjustment Orange : -18
Saturation Adjustment Yellow : -6
Saturation Adjustment Green : 0
Saturation Adjustment Aqua : 0
Saturation Adjustment Blue : -11
Saturation Adjustment Purple : 0
Saturation Adjustment Magenta : 0
Luminance Adjustment Red : 0
Luminance Adjustment Orange : 0
Luminance Adjustment Yellow : 0
Luminance Adjustment Green : 0
Luminance Adjustment Aqua : 0
Luminance Adjustment Blue : 0
Luminance Adjustment Purple : 0
Luminance Adjustment Magenta : 0
Split Toning Shadow Hue : 0
Split Toning Shadow Saturation : 0
Split Toning Highlight Hue : 0
Split Toning Highlight Saturation : 0
Split Toning Balance : 0
Parametric Shadows : 0
Parametric Darks : -8
Parametric Lights : +4
Parametric Highlights : +12
Parametric Shadow Split : 25
Parametric Midtone Split : 50
Parametric Highlight Split : 75
Sharpen Radius : +1.0
Sharpen Detail : 39
Sharpen Edge Masking : 0
Post Crop Vignette Amount : 0
Grain Amount : 0
Luminance Noise Reduction Detail : 50
Luminance Noise Reduction Contrast : 0
Lens Profile Enable : 0
Lens Manual Distortion Amount : 0
Perspective Vertical : 0
Perspective Horizontal : 0
Perspective Rotate : 0.0
Perspective Scale : 100
Auto Lateral CA : 0
Exposure 2012 : -0.15
Contrast 2012 : +15
Highlights 2012 : -45
Shadows 2012 : 0
Whites 2012 : -19
Blacks 2012 : -19
Clarity 2012 : +13
Convert To Grayscale : False
Tone Curve Name : Linear
Tone Curve Name 2012 : Linear
Camera Profile : Embedded
Lens Profile Setup : LensDefaults
Has Settings : True
Has Crop : False
Already Applied : True
Tone Curve : 0, 0, 255, 255
Tone Curve Red : 0, 0, 255, 255
Tone Curve Green : 0, 0, 255, 255
Tone Curve Blue : 0, 0, 255, 255
Tone Curve PV2012 : 0, 0, 255, 255
Tone Curve PV2012 Red : 0, 0, 255, 255
Tone Curve PV2012 Green : 0, 0, 255, 255
Tone Curve PV2012 Blue : 0, 0, 255, 255
Image Width : 212
Image Height : 300
Bits Per Sample : 8
Color Components : 3
Image Size : 212x300
Megapixels : 0.064