Uber Exif Photo
Copyright Notice : IPTC Digest : e0813ee3db62439a56246f22cc4549a3
Photometric Interpretation : BlackIsZero
Make : NIKON CORPORATION
Camera Model Name : NIKON D600
Orientation : Horizontal (normal)
Samples Per Pixel : 4
Software : Adobe Photoshop CS5.1 Windows
Modify Date : 2014:11:15 07:57:10
Copyright : Exposure Time : 1/250
F Number : 2.8
Exposure Program : Aperture-priority AE
ISO : 1600
Sensitivity Type : Recommended Exposure Index
Date/Time Original : 2013:04:28 13:43:50
Create Date : 2013:04:28 13:43:50
Shutter Speed Value : 1/250
Aperture Value : 2.8
Exposure Compensation : -1/3
Max Aperture Value : 2.8
Metering Mode : Spot
Light Source : Unknown
Flash : Off, Did not fire
Focal Length : 65.0 mm
Color Space : Uncalibrated
Exif Image Width : 2000
Exif Image Height : 1552
Sensing Method : One-chip color area
Scene Type : Directly photographed
CFA Pattern : [Red,Green][Green,Blue]
Custom Rendered : Normal
Exposure Mode : Auto
White Balance : Auto
Digital Zoom Ratio : 1
Focal Length In 35mm Format : 65 mm
Scene Capture Type : Standard
Gain Control : High gain up
Contrast : Normal
Saturation : Normal
Sharpness : Normal
Subject Distance Range : Unknown
Lens Info : 24-70mm f/2.8
Lens Model : 24.0-70.0 mm f/2.8
Rating : 0
Label : Creator Tool : Adobe Photoshop CS5.1 Windows
Lens : 24.0-70.0 mm f/2.8
Image Number : 2771
Date Created : 2013:04:28 13:43:50.004
Color Mode : Grayscale
ICC Profile Name : Gray Gamma 2.2
Format : image/jpeg
Raw File Name : Nieve1.jpg
Version : 6.7
Process Version : 6.7
Incremental Temperature : 0
Incremental Tint : 0
Exposure : 0.00
Shadows : 0
Brightness : 0
Luminance Smoothing : 0
Color Noise Reduction : 25
Vignette Amount : 0
Shadow Tint : 0
Red Hue : 0
Red Saturation : 0
Green Hue : 0
Green Saturation : 0
Blue Hue : 0
Blue Saturation : 0
Fill Light : 0
Highlight Recovery : 0
Clarity : 0
Defringe : 0
Gray Mixer Red : -6
Gray Mixer Orange : -14
Gray Mixer Yellow : -17
Gray Mixer Green : -23
Gray Mixer Aqua : -19
Gray Mixer Blue : +6
Gray Mixer Purple : +13
Gray Mixer Magenta : +4
Split Toning Shadow Hue : 0
Split Toning Shadow Saturation : 0
Split Toning Highlight Hue : 0
Split Toning Highlight Saturation : 0
Split Toning Balance : 0
Parametric Shadows : 0
Parametric Darks : 0
Parametric Lights : 0
Parametric Highlights : 0
Parametric Shadow Split : 25
Parametric Midtone Split : 50
Parametric Highlight Split : 75
Sharpen Radius : +1.0
Sharpen Detail : 25
Sharpen Edge Masking : 0
Post Crop Vignette Amount : 0
Grain Amount : 0
Color Noise Reduction Detail : 50
Lens Profile Enable : 0
Lens Manual Distortion Amount : 0
Perspective Vertical : 0
Perspective Horizontal : 0
Perspective Rotate : 0.0
Perspective Scale : 100
Auto Lateral CA : 0
Exposure 2012 : 0.00
Contrast 2012 : 0
Highlights 2012 : +57
Shadows 2012 : 0
Whites 2012 : +9
Blacks 2012 : +22
Clarity 2012 : +59
Convert To Grayscale : True
Tone Curve Name : Linear
Tone Curve Name 2012 : Medium Contrast
Camera Profile : Embedded
Lens Profile Setup : LensDefaults
Has Settings : True
Crop Top : 0
Crop Left : 0
Crop Bottom : 1
Crop Right : 1
Crop Angle : 0
Crop Constrain To Warp : 0
Has Crop : True
Already Applied : True
Rights : Tone Curve : 0, 0, 255, 255
Tone Curve Red : 0, 0, 255, 255
Tone Curve Green : 0, 0, 255, 255
Tone Curve Blue : 0, 0, 255, 255
Tone Curve PV2012 : 0, 0, 32, 22, 64, 56, 128, 128, 192, 196, 255, 255
Tone Curve PV2012 Red : 0, 0, 255, 255
Tone Curve PV2012 Green : 0, 0, 255, 255
Tone Curve PV2012 Blue : 0, 0, 255, 255
Image Width : 300
Image Height : 233
Bits Per Sample : 8
Color Components : 1
Aperture : 2.8
Image Size : 300x233
Megapixels : 0.070
Scale Factor To 35 mm Equivalent : 1.0
Shutter Speed : 1/250
Create Date : 2013:04:28 13:43:50.40
Date/Time Original : 2013:04:28 13:43:50.40
Circle Of Confusion : 0.030 mm
Field Of View : 31.0 deg
Focal Length : 65.0 mm (35 mm equivalent: 65.0 mm)
Hyperfocal Distance : 50.22 m
Light Value : 6.9
Lens ID : 24.0-70.0mm f/2.8