Uber Exif Photo
Make : NIKON CORPORATION
Camera Model Name : NIKON D5300
Software : Adobe Photoshop Lightroom 5.3 (Windows)
Modify Date : 2014:06:07 16:39:46
Exposure Time : 1/250
F Number : 5.6
Exposure Program : Manual
ISO : 160
Sensitivity Type : Recommended Exposure Index
Date/Time Original : 2014:06:07 14:03:12
Create Date : 2014:06:07 14:03:12
Shutter Speed Value : 1/250
Aperture Value : 5.6
Exposure Compensation : 0
Max Aperture Value : 5.7
Metering Mode : Center-weighted average
Light Source : Fine Weather
Flash : No Flash
Focal Length : 200.0 mm
Sensing Method : One-chip color area
Scene Type : Directly photographed
CFA Pattern : [Red,Green][Green,Blue]
Custom Rendered : Normal
Exposure Mode : Manual
White Balance : Manual
Digital Zoom Ratio : 1
Focal Length In 35mm Format : 300 mm
Scene Capture Type : Standard
Gain Control : None
Contrast : Normal
Saturation : Normal
Sharpness : Normal
Subject Distance Range : Unknown
Serial Number : 4304038
Lens Info : 55-200mm f/4-5.6
Lens Model : 55.0-200.0 mm f/4.0-5.6
Profile Description : sRGB IEC61966-2.1
Creator Tool : Adobe Photoshop Lightroom 5.3 (Windows)
Lens : 55.0-200.0 mm f/4.0-5.6
Image Number : 3874
Approximate Focus Distance : 1.12
Date Created : 2014:06:07 14:03:12.50
Format : image/jpeg
Version : 8.3
Process Version : 6.7
Auto White Version : 134348800
Color Temperature : 5100
Tint : +5
Luminance Smoothing : 0
Color Noise Reduction : 25
Vignette Amount : 0
Shadow Tint : 0
Red Hue : 0
Red Saturation : 0
Green Hue : 0
Green Saturation : 0
Blue Hue : 0
Blue Saturation : 0
Vibrance : 0
Hue Adjustment Red : 0
Hue Adjustment Orange : 0
Hue Adjustment Yellow : 0
Hue Adjustment Green : 0
Hue Adjustment Aqua : 0
Hue Adjustment Blue : 0
Hue Adjustment Purple : 0
Hue Adjustment Magenta : 0
Saturation Adjustment Red : 0
Saturation Adjustment Orange : 0
Saturation Adjustment Yellow : 0
Saturation Adjustment Green : 0
Saturation Adjustment Aqua : 0
Saturation Adjustment Blue : 0
Saturation Adjustment Purple : -100
Saturation Adjustment Magenta : -100
Luminance Adjustment Red : 0
Luminance Adjustment Orange : 0
Luminance Adjustment Yellow : 0
Luminance Adjustment Green : 0
Luminance Adjustment Aqua : 0
Luminance Adjustment Blue : 0
Luminance Adjustment Purple : 0
Luminance Adjustment Magenta : 0
Split Toning Shadow Hue : 0
Split Toning Shadow Saturation : 0
Split Toning Highlight Hue : 0
Split Toning Highlight Saturation : 0
Split Toning Balance : 0
Parametric Shadows : 0
Parametric Darks : 0
Parametric Lights : 0
Parametric Highlights : 0
Parametric Shadow Split : 25
Parametric Midtone Split : 50
Parametric Highlight Split : 75
Sharpen Radius : +2.6
Sharpen Detail : 85
Sharpen Edge Masking : 100
Post Crop Vignette Amount : 0
Grain Amount : 0
Color Noise Reduction Detail : 50
Color Noise Reduction Smoothness : 50
Lens Profile Enable : 0
Lens Manual Distortion Amount : 0
Perspective Vertical : 0
Perspective Horizontal : 0
Perspective Rotate : 0.0
Perspective Scale : 100
Perspective Aspect : 0
Perspective Upright : Off
Auto Lateral CA : 0
Exposure 2012 : 0.00
Contrast 2012 : 0
Highlights 2012 : -100
Shadows 2012 : +100
Whites 2012 : +43
Blacks 2012 : -36
Clarity 2012 : +38
Defringe Purple Amount : 0
Defringe Purple Hue Lo : 30
Defringe Purple Hue Hi : 70
Defringe Green Amount : 0
Defringe Green Hue Lo : 40
Defringe Green Hue Hi : 60
Convert To Grayscale : False
Tone Curve Name 2012 : Linear
Camera Profile : Adobe Standard
Lens Profile Setup : LensDefaults
Has Settings : True
Crop Top : 0.282407
Crop Left : 0.236883
Crop Bottom : 0.684027
Crop Right : 0.712877
Crop Angle : 0
Crop Constrain To Warp : 0
Has Crop : True
Already Applied : True
Tone Curve PV2012 : 0, 0, 255, 255
Tone Curve PV2012 Red : 0, 0, 255, 255
Tone Curve PV2012 Green : 0, 0, 255, 255
Tone Curve PV2012 Blue : 0, 0, 255, 255
Image Width : 300
Image Height : 169
Bits Per Sample : 8
Color Components : 3
Aperture : 5.6
Image Size : 300x169
Megapixels : 0.051
Scale Factor To 35 mm Equivalent : 1.5
Shutter Speed : 1/250
Create Date : 2014:06:07 14:03:12.50
Date/Time Original : 2014:06:07 14:03:12.50
Circle Of Confusion : 0.020 mm
Depth Of Field : 0.006 m (1.117 - 1.123 m)
Field Of View : 6.9 deg
Focal Length : 200.0 mm (35 mm equivalent: 300.0 mm)
Hyperfocal Distance : 356.59 m
Light Value : 12.3
Lens ID : AF-S DX VR Zoom-Nikkor 55-200mm f/4-5.6G IF-ED