Uber Exif Photo
By-line : Vytenis Malisauskas
Copyright Notice : Carrigphotos
Make : NIKON CORPORATION
Camera Model Name : NIKON D800
Orientation : Horizontal (normal)
Software : ViewNX 2.10 M
Modify Date : 2015:06:12 12:51:26
Artist : Vytenis Malisauskas
Copyright : Carrigphotos
Exposure Time : 20
F Number : 18.0
Exposure Program : Manual
ISO : 100
Sensitivity Type : Recommended Exposure Index
Date/Time Original : 2014:10:10 08:27:26
Create Date : 2014:10:10 08:27:26
Shutter Speed Value : 0.9
Aperture Value : 18.0
Exposure Compensation : 0
Max Aperture Value : 4.0
Subject Distance : inf
Metering Mode : Spot
Light Source : Cloudy
Flash : Off, Did not fire
Focal Length : 22.0 mm
Maker Note Version : 2.11
Image Data Size : 702200
Nikon Capture Version : ViewNX 2.10 M
IFD0 Offset : 1334
Preview IFD Offset : 1234
NEF Bit Depth : n/a (JPEG)
Color Space : Uncalibrated
Exif Image Width : 1200
Exif Image Height : 801
Sensing Method : One-chip color area
Scene Type : Directly photographed
CFA Pattern : [Red,Green][Green,Blue]
Custom Rendered : Normal
Exposure Mode : Manual
White Balance : Manual
Digital Zoom Ratio : 1
Focal Length In 35mm Format : 22 mm
Scene Capture Type : Standard
Gain Control : None
Contrast : Normal
Saturation : Normal
Sharpness : Hard
Subject Distance Range : Unknown
Serial Number : 2048817
Lens Info : 16-35mm f/4
Lens Model : 16.0-35.0 mm f/4.0
Profile Description : iMac_Native.iccColorMunki Geguzes 4.2015.icc
Creator App : ColorMunkiDisplay
Measured Ambient : 63.8178
Rating : 0
Label : Creator Tool : Adobe Photoshop CS5 Macintosh
Rating Percent : 0
Format : image/jpeg
Lens : 16.0-35.0 mm f/4.0
Image Number : 13370
Approximate Focus Distance : 4294967295
Date Created : 2014:10:10 08:27:26.002
Color Mode : RGB
ICC Profile Name : sRGB IEC61966-2.1
Raw File Name : VMC_3661.NEF
Version : 6.7
Process Version : 6.7
Color Temperature : 5750
Tint : +5
Exposure : 0.00
Shadows : 5
Brightness : +50
Luminance Smoothing : 0
Color Noise Reduction : 25
Vignette Amount : 0
Shadow Tint : 0
Red Hue : 0
Red Saturation : 0
Green Hue : 0
Green Saturation : 0
Blue Hue : 0
Blue Saturation : 0
Fill Light : 0
Vibrance : 0
Highlight Recovery : 0
Clarity : 0
Defringe : 0
Hue Adjustment Red : 0
Hue Adjustment Orange : 0
Hue Adjustment Yellow : 0
Hue Adjustment Green : 0
Hue Adjustment Aqua : 0
Hue Adjustment Blue : 0
Hue Adjustment Purple : 0
Hue Adjustment Magenta : 0
Saturation Adjustment Red : 0
Saturation Adjustment Orange : 0
Saturation Adjustment Yellow : 0
Saturation Adjustment Green : 0
Saturation Adjustment Aqua : 0
Saturation Adjustment Blue : 0
Saturation Adjustment Purple : 0
Saturation Adjustment Magenta : 0
Luminance Adjustment Red : 0
Luminance Adjustment Orange : 0
Luminance Adjustment Yellow : 0
Luminance Adjustment Green : 0
Luminance Adjustment Aqua : 0
Luminance Adjustment Blue : 0
Luminance Adjustment Purple : 0
Luminance Adjustment Magenta : 0
Split Toning Shadow Hue : 0
Split Toning Shadow Saturation : 0
Split Toning Highlight Hue : 0
Split Toning Highlight Saturation : 0
Split Toning Balance : 0
Parametric Shadows : 0
Parametric Darks : 0
Parametric Lights : 0
Parametric Highlights : 0
Parametric Shadow Split : 25
Parametric Midtone Split : 50
Parametric Highlight Split : 75
Sharpen Radius : +1.0
Sharpen Detail : 25
Sharpen Edge Masking : 0
Post Crop Vignette Amount : 0
Grain Amount : 0
Color Noise Reduction Detail : 50
Lens Profile Enable : 0
Lens Manual Distortion Amount : -5
Perspective Vertical : +1
Perspective Horizontal : 0
Perspective Rotate : 0.0
Perspective Scale : 100
Auto Lateral CA : 0
Exposure 2012 : -0.40
Contrast 2012 : 0
Highlights 2012 : 0
Shadows 2012 : +23
Whites 2012 : +37
Blacks 2012 : -19
Clarity 2012 : +15
Convert To Grayscale : False
Tone Curve Name : Medium Contrast
Tone Curve Name 2012 : Linear
Camera Profile : Camera Standard
Lens Profile Setup : LensDefaults
Has Settings : True
Crop Top : 0
Crop Left : 0.007772
Crop Bottom : 1
Crop Right : 0.992228
Crop Angle : 0.415672
Crop Constrain To Warp : 0
Has Crop : True
Already Applied : True
Creator : Vytenis Malisauskas
Rights : Carrigphotos
Tone Curve : 0, 0, 32, 22, 64, 56, 128, 128, 192, 196, 255, 255
Tone Curve Red : 0, 0, 255, 255
Tone Curve Green : 0, 0, 255, 255
Tone Curve Blue : 0, 0, 255, 255
Tone Curve PV2012 : 0, 0, 255, 255
Tone Curve PV2012 Red : 0, 0, 255, 255
Tone Curve PV2012 Green : 0, 0, 255, 255
Tone Curve PV2012 Blue : 0, 0, 255, 255
Image Width : 300
Image Height : 200
Bits Per Sample : 8
Color Components : 3
Aperture : 18.0
Image Size : 300x200
Megapixels : 0.060
Scale Factor To 35 mm Equivalent : 1.0
Shutter Speed : 20
Create Date : 2014:10:10 08:27:26.20
Date/Time Original : 2014:10:10 08:27:26.20
Modify Date : 2015:06:12 12:51:26.20
Circle Of Confusion : 0.030 mm
Depth Of Field : inf (0.89 m - inf)
Field Of View : 78.6 deg
Focal Length : 22.0 mm (35 mm equivalent: 22.0 mm)
Hyperfocal Distance : 0.89 m
Light Value : 4.0
Lens ID : AF-S Nikkor 16-35mm f/4G ED VR